Workbook

Sheet Protokoll B1
F1: 55 | G1: 56 | H1: 57 | I1: 58 | J1: 59 | K1: 60 | L1: 61 | M1: 62 | N1: 63 | O1: 64 | P1: 65 | Q1: 66 | R1: 67 | S1: 68 | T1: 69 | U1: 70 | V1: 71 | W1: 72 | X1: 73 | Y1: 74 | Z1: 75 | AA1: 76 | AB1: 77 | AC1: 78 | AD1: 79 | AE1: 80 | AF1: 81 | AG1: 82 | AH1: 83 | AI1: 84 | AJ1: 85 | AK1: 86 | AL1: 87 | AM1: 88 | AN1: 89 | AO1: 90 | AP1: 91 | AQ1: 92 | AR1: 93 | AS1: 94 | AT1: 95 | AU1: 96 | AV1: 97 | AW1: 98 | AX1: 99 | AY1: 100 | AZ1: 101 | BA1: 102 | BB1: 103 | BC1: 104 | BD1: 105 | BE1: 106 | BF1: 107 | BG1: 108 | BH1: 109 | BI1: 110 | BJ1: 111 | BK1: 112
A2: Manuella registreringar: | F2: Försöks nr.: | G2: =[1]Data!$B$5 -> I-1149-2025 | J2: ADB nr.: | K2: =[1]Data!$B$6 -> 0574934 | M2: Plan nr: | N2: =[1]Data!$B$4 -> L5-8010-2026 | Q2: Försöks nr.: | R2: =[1]Data!$B$5 -> I-1149-2025 | U2: ADB nr.: | V2: =[1]Data!$B$6 -> 0574934 | X2: Plan nr: | Y2: =[1]Data!$B$4 -> L5-8010-2026 | AB2: Försöks nr.: | AC2: =[1]Data!$B$5 -> I-1149-2025 | AF2: ADB nr.: | AG2: =[1]Data!$B$6 -> 0574934 | AI2: Plan nr: | AJ2: =[1]Data!$B$4 -> L5-8010-2026 | AM2: Försöks nr.: | AN2: =[1]Data!$B$5 -> I-1149-2025 | AQ2: ADB nr.: | AR2: =[1]Data!$B$6 -> 0574934 | AT2: Plan nr: | AU2: =[1]Data!$B$4 -> L5-8010-2026 | AX2: Försöks nr.: | AY2: =[1]Data!$B$5 -> I-1149-2025 | BB2: ADB nr.: | BC2: =[1]Data!$B$6 -> 0574934 | BE2: Plan nr: | BF2: =[1]Data!$B$4 -> L5-8010-2026 | BI2: Försöks nr.: | BJ2: =[1]Data!$B$5 -> I-1149-2025
A3: Datum | F3: 46141 | G3: 46141 | H3: 46141 | I3: 46141 | J3: 46141 | K3: 46141 | L3: 46141 | M3: 46141 | N3: 46141 | O3: 46141
A4: Kod | E4: --> | F4: Baldersbrå effekt | G4: Blåklint effekt | H4: Lomme effekt | I4: Viol effekt | J4: Total örtogräs effekt | K4: Baldersbrå marktäckning | L4: Blåklint marktäckning | M4: Lomme marktäckning | N4: Viol marktäckning | O4: Total örtogräs marktäckning
A5: Ruta | B5: Led | C5: Led | D5: Led | E5: Block | F5: DC 57 (55-58) | G5: DC 57 (55-58) | H5: DC 57 (55-58) | I5: DC 57 (55-58) | J5: DC 57 (55-58) | K5: DC 57 (55-58) | L5: DC 57 (55-58) | M5: DC 57 (55-58) | N5: DC 57 (55-58) | O5: DC 57 (55-58)
A7: 1 | B7: =[1]Rutfördelning!B4 -> 4 | C7: =[1]Rutfördelning!E4 -> 0 | D7: =IFERROR([1]Rutfördelning!D4,) -> 4-1 | E7: =[1]Rutfördelning!C4 -> 1 | F7: 80 | G7: 95 | H7: 93 | I7: 100 | J7: 90
A8: 2 | B8: =[1]Rutfördelning!B5 -> 8 | C8: =[1]Rutfördelning!E5 -> 0 | D8: =IFERROR([1]Rutfördelning!D5,) -> 8-1 | E8: =[1]Rutfördelning!C5 -> 1
A9: 3 | B9: =[1]Rutfördelning!B6 -> 1 | C9: =[1]Rutfördelning!E6 -> 0 | D9: =IFERROR([1]Rutfördelning!D6,) -> 1-1 | E9: =[1]Rutfördelning!C6 -> 1 | K9: 4 | L9: 10 | M9: 40 | N9: 8 | O9: 64
A10: 4 | B10: =[1]Rutfördelning!B7 -> 2 | C10: =[1]Rutfördelning!E7 -> 0 | D10: =IFERROR([1]Rutfördelning!D7,) -> 2-1 | E10: =[1]Rutfördelning!C7 -> 1 | F10: 98 | G10: 100 | H10: 100 | I10: 30 | J10: 96
A11: 5 | B11: =[1]Rutfördelning!B8 -> 5 | C11: =[1]Rutfördelning!E8 -> 0 | D11: =IFERROR([1]Rutfördelning!D8,) -> 5-1 | E11: =[1]Rutfördelning!C8 -> 1 | F11: 100 | G11: 60 | H11: 97 | I11: 20 | J11: 75
A12: 6 | B12: =[1]Rutfördelning!B9 -> 9 | C12: =[1]Rutfördelning!E9 -> 0 | D12: =IFERROR([1]Rutfördelning!D9,) -> 9-1 | E12: =[1]Rutfördelning!C9 -> 1
A13: 7 | B13: =[1]Rutfördelning!B10 -> 3 | C13: =[1]Rutfördelning!E10 -> 0 | D13: =IFERROR([1]Rutfördelning!D10,) -> 3-1 | E13: =[1]Rutfördelning!C10 -> 1 | F13: 100 | G13: 93 | H13: 95 | I13: 30 | J13: 93
A14: 8 | B14: =[1]Rutfördelning!B11 -> 7 | C14: =[1]Rutfördelning!E11 -> 0 | D14: =IFERROR([1]Rutfördelning!D11,) -> 7-1 | E14: =[1]Rutfördelning!C11 -> 1 | F14: 100 | G14: 85 | H14: 90 | I14: 30 | J14: 87
A15: 9 | B15: =[1]Rutfördelning!B12 -> 6 | C15: =[1]Rutfördelning!E12 -> 0 | D15: =IFERROR([1]Rutfördelning!D12,) -> 6-1 | E15: =[1]Rutfördelning!C12 -> 1 | F15: 100 | G15: 70 | H15: 90 | I15: 30 | J15: 85
A16: 10 | B16: =[1]Rutfördelning!B13 -> 4 | C16: =[1]Rutfördelning!E13 -> 0 | D16: =IFERROR([1]Rutfördelning!D13,) -> 4-2 | E16: =[1]Rutfördelning!C13 -> 2 | F16: 100 | G16: 98 | H16: 95 | I16: 20 | J16: 98
A17: 11 | B17: =[1]Rutfördelning!B14 -> 3 | C17: =[1]Rutfördelning!E14 -> 0 | D17: =IFERROR([1]Rutfördelning!D14,) -> 3-2 | E17: =[1]Rutfördelning!C14 -> 2 | F17: 100 | G17: 90 | H17: 90 | I17: 30 | J17: 93
A18: 12 | B18: =[1]Rutfördelning!B15 -> 7 | C18: =[1]Rutfördelning!E15 -> 0 | D18: =IFERROR([1]Rutfördelning!D15,) -> 7-2 | E18: =[1]Rutfördelning!C15 -> 2 | F18: 98 | G18: 80 | H18: 93 | I18: 50 | J18: 87
A19: 13 | B19: =[1]Rutfördelning!B16 -> 6 | C19: =[1]Rutfördelning!E16 -> 0 | D19: =IFERROR([1]Rutfördelning!D16,) -> 6-2 | E19: =[1]Rutfördelning!C16 -> 2 | F19: 100 | G19: 60 | H19: 80 | I19: 30 | J19: 80
A20: 14 | B20: =[1]Rutfördelning!B17 -> 5 | C20: =[1]Rutfördelning!E17 -> 0 | D20: =IFERROR([1]Rutfördelning!D17,) -> 5-2 | E20: =[1]Rutfördelning!C17 -> 2 | F20: 98 | G20: 60 | H20: 85 | I20: 30 | J20: 80
A21: 15 | B21: =[1]Rutfördelning!B18 -> 8 | C21: =[1]Rutfördelning!E18 -> 0 | D21: =IFERROR([1]Rutfördelning!D18,) -> 8-2 | E21: =[1]Rutfördelning!C18 -> 2
A22: 16 | B22: =[1]Rutfördelning!B19 -> 2 | C22: =[1]Rutfördelning!E19 -> 0 | D22: =IFERROR([1]Rutfördelning!D19,) -> 2-2 | E22: =[1]Rutfördelning!C19 -> 2 | F22: 98 | G22: 100 | H22: 97 | I22: 40 | J22: 95
A23: 17 | B23: =[1]Rutfördelning!B20 -> 1 | C23: =[1]Rutfördelning!E20 -> 0 | D23: =IFERROR([1]Rutfördelning!D20,) -> 1-2 | E23: =[1]Rutfördelning!C20 -> 2 | K23: 1 | L23: 12 | M23: 45 | N23: 8 | O23: 67
A24: 18 | B24: =[1]Rutfördelning!B21 -> 9 | C24: =[1]Rutfördelning!E21 -> 0 | D24: =IFERROR([1]Rutfördelning!D21,) -> 9-2 | E24: =[1]Rutfördelning!C21 -> 2
A25: 19 | B25: =[1]Rutfördelning!B22 -> 2 | C25: =[1]Rutfördelning!E22 -> 0 | D25: =IFERROR([1]Rutfördelning!D22,) -> 2-3 | E25: =[1]Rutfördelning!C22 -> 3 | F25: 80 | G25: 100 | H25: 100 | I25: 100 | J25: 96
A26: 20 | B26: =[1]Rutfördelning!B23 -> 1 | C26: =[1]Rutfördelning!E23 -> 0 | D26: =IFERROR([1]Rutfördelning!D23,) -> 1-3 | E26: =[1]Rutfördelning!C23 -> 3 | K26: 20 | L26: 1 | M26: 25 | N26: 4 | O26: 52
A27: 21 | B27: =[1]Rutfördelning!B24 -> 8 | C27: =[1]Rutfördelning!E24 -> 0 | D27: =IFERROR([1]Rutfördelning!D24,) -> 8-3 | E27: =[1]Rutfördelning!C24 -> 3
A28: 22 | B28: =[1]Rutfördelning!B25 -> 4 | C28: =[1]Rutfördelning!E25 -> 0 | D28: =IFERROR([1]Rutfördelning!D25,) -> 4-3 | E28: =[1]Rutfördelning!C25 -> 3 | F28: 80 | G28: 90 | H28: 90 | I28: 30 | J28: 85
A29: 23 | B29: =[1]Rutfördelning!B26 -> 5 | C29: =[1]Rutfördelning!E26 -> 0 | D29: =IFERROR([1]Rutfördelning!D26,) -> 5-3 | E29: =[1]Rutfördelning!C26 -> 3 | F29: 90 | G29: 60 | H29: 90 | I29: 20 | J29: 73
A30: 24 | B30: =[1]Rutfördelning!B27 -> 6 | C30: =[1]Rutfördelning!E27 -> 0 | D30: =IFERROR([1]Rutfördelning!D27,) -> 6-3 | E30: =[1]Rutfördelning!C27 -> 3 | F30: 95 | G30: 75 | H30: 87 | I30: 20 | J30: 80
A31: 25 | B31: =[1]Rutfördelning!B28 -> 7 | C31: =[1]Rutfördelning!E28 -> 0 | D31: =IFERROR([1]Rutfördelning!D28,) -> 7-3 | E31: =[1]Rutfördelning!C28 -> 3 | F31: 100 | G31: 80 | H31: 95 | I31: 30 | J31: 90
A32: 26 | B32: =[1]Rutfördelning!B29 -> 3 | C32: =[1]Rutfördelning!E29 -> 0 | D32: =IFERROR([1]Rutfördelning!D29,) -> 3-3 | E32: =[1]Rutfördelning!C29 -> 3 | F32: 100 | G32: 85 | H32: 98 | I32: 20 | J32: 93
A33: 27 | B33: =[1]Rutfördelning!B30 -> 9 | C33: =[1]Rutfördelning!E30 -> 0 | D33: =IFERROR([1]Rutfördelning!D30,) -> 9-3 | E33: =[1]Rutfördelning!C30 -> 3
A34: 28 | B34: =[1]Rutfördelning!B31 -> 8 | C34: =[1]Rutfördelning!E31 -> 0 | D34: =IFERROR([1]Rutfördelning!D31,) -> 8-4 | E34: =[1]Rutfördelning!C31 -> 4
A35: 29 | B35: =[1]Rutfördelning!B32 -> 7 | C35: =[1]Rutfördelning!E32 -> 0 | D35: =IFERROR([1]Rutfördelning!D32,) -> 7-4 | E35: =[1]Rutfördelning!C32 -> 4 | F35: 100 | G35: 90 | H35: 99 | I35: 40 | J35: 93
A36: 30 | B36: =[1]Rutfördelning!B33 -> 6 | C36: =[1]Rutfördelning!E33 -> 0 | D36: =IFERROR([1]Rutfördelning!D33,) -> 6-4 | E36: =[1]Rutfördelning!C33 -> 4 | F36: 100 | G36: 75 | H36: 90 | I36: 30 | J36: 83
A37: 31 | B37: =[1]Rutfördelning!B34 -> 3 | C37: =[1]Rutfördelning!E34 -> 0 | D37: =IFERROR([1]Rutfördelning!D34,) -> 3-4 | E37: =[1]Rutfördelning!C34 -> 4 | F37: 100 | G37: 90 | H37: 95 | I37: 20 | J37: 93
A38: 32 | B38: =[1]Rutfördelning!B35 -> 4 | C38: =[1]Rutfördelning!E35 -> 0 | D38: =IFERROR([1]Rutfördelning!D35,) -> 4-4 | E38: =[1]Rutfördelning!C35 -> 4 | F38: 99 | G38: 97 | H38: 100 | I38: 30 | J38: 95
A39: 33 | B39: =[1]Rutfördelning!B36 -> 2 | C39: =[1]Rutfördelning!E36 -> 0 | D39: =IFERROR([1]Rutfördelning!D36,) -> 2-4 | E39: =[1]Rutfördelning!C36 -> 4 | F39: 95 | G39: 100 | H39: 98 | I39: 40 | J39: 97
A40: 34 | B40: =[1]Rutfördelning!B37 -> 1 | C40: =[1]Rutfördelning!E37 -> 0 | D40: =IFERROR([1]Rutfördelning!D37,) -> 1-4 | E40: =[1]Rutfördelning!C37 -> 4 | K40: 2 | L40: 12 | M40: 45 | N40: 8 | O40: 70
A41: 35 | B41: =[1]Rutfördelning!B38 -> 5 | C41: =[1]Rutfördelning!E38 -> 0 | D41: =IFERROR([1]Rutfördelning!D38,) -> 5-4 | E41: =[1]Rutfördelning!C38 -> 4 | F41: 20 | G41: 20 | H41: 10 | I41: 20 | J41: 20
A42: 36 | B42: =[1]Rutfördelning!B39 -> 9 | C42: =[1]Rutfördelning!E39 -> 0 | D42: =IFERROR([1]Rutfördelning!D39,) -> 9-4 | E42: =[1]Rutfördelning!C39 -> 4
A43: 37 | B43: =[1]Rutfördelning!B40 -> 0 | C43: =[1]Rutfördelning!E40 -> 0 | D43: =IFERROR([1]Rutfördelning!D40,) -> 0 | E43: =[1]Rutfördelning!C40 -> 0
A44: 38 | B44: =[1]Rutfördelning!B41 -> 0 | C44: =[1]Rutfördelning!E41 -> 0 | D44: =IFERROR([1]Rutfördelning!D41,) -> 0 | E44: =[1]Rutfördelning!C41 -> 0
A45: 39 | B45: =[1]Rutfördelning!B42 -> 0 | C45: =[1]Rutfördelning!E42 -> 0 | D45: =IFERROR([1]Rutfördelning!D42,) -> 0 | E45: =[1]Rutfördelning!C42 -> 0
A46: 40 | B46: =[1]Rutfördelning!B43 -> 0 | C46: =[1]Rutfördelning!E43 -> 0 | D46: =IFERROR([1]Rutfördelning!D43,) -> 0 | E46: =[1]Rutfördelning!C43 -> 0
A47: 41 | B47: =[1]Rutfördelning!B44 -> 0 | C47: =[1]Rutfördelning!E44 -> 0 | D47: =IFERROR([1]Rutfördelning!D44,) -> 0 | E47: =[1]Rutfördelning!C44 -> 0
A48: 42 | B48: =[1]Rutfördelning!B45 -> 0 | C48: =[1]Rutfördelning!E45 -> 0 | D48: =IFERROR([1]Rutfördelning!D45,) -> 0 | E48: =[1]Rutfördelning!C45 -> 0
A49: 43 | B49: =[1]Rutfördelning!B46 -> 0 | C49: =[1]Rutfördelning!E46 -> 0 | D49: =IFERROR([1]Rutfördelning!D46,) -> 0 | E49: =[1]Rutfördelning!C46 -> 0
A50: 44 | B50: =[1]Rutfördelning!B47 -> 0 | C50: =[1]Rutfördelning!E47 -> 0 | D50: =IFERROR([1]Rutfördelning!D47,) -> 0 | E50: =[1]Rutfördelning!C47 -> 0
A51: 45 | B51: =[1]Rutfördelning!B48 -> 0 | C51: =[1]Rutfördelning!E48 -> 0 | D51: =IFERROR([1]Rutfördelning!D48,) -> 0 | E51: =[1]Rutfördelning!C48 -> 0
A52: 46 | B52: =[1]Rutfördelning!B49 -> 0 | C52: =[1]Rutfördelning!E49 -> 0 | D52: =IFERROR([1]Rutfördelning!D49,) -> 0 | E52: =[1]Rutfördelning!C49 -> 0
A53: 47 | B53: =[1]Rutfördelning!B50 -> 0 | C53: =[1]Rutfördelning!E50 -> 0 | D53: =IFERROR([1]Rutfördelning!D50,) -> 0 | E53: =[1]Rutfördelning!C50 -> 0
... A294: 288 | B294: =[1]Rutfördelning!B291 -> 0 | C294: =[1]Rutfördelning!E291 -> 0 | D294: =IFERROR([1]Rutfördelning!D291,) -> 0 | E294: =[1]Rutfördelning!C291 -> 0

Sheet P16 04-29
A1: Ogräsavräkning i obehandlade rutor
A2: Försöksserie: | B2: Örtogräsbekämpning i höstraps, plöjt och plogfritt, höstbehandling
A3: Plan nr.: | B3: L5-8010-2026
A4: Försöks nr.: | B4: 0574934
A5: ADB nr.: | B5: I-1151-2025
A6: Datum: | B6: 46141
C7: Höstraps | D7: Ettåriga örtogräs | S7: Övriga ogräs (ej ettåriga örtogräs) | Y7: Summa ogräs totalt
B8: Antal/m2 | D8: övriga ogräs | E8: spillsäd | F8: blåklint | G8: baldersbrå | H8: lomme | I8: viol | J8: veronika | K8: 8 | L8: 9 | M8: 10 | N8: 11 | O8: 12 | P8: 13 | Q8: Övriga | R8: Summa | S8: 14 | T8: 15 | U8: 16 | V8: 17 | W8: 18 | X8: Summa
A9: Block I | B9: 0.25 | C9: 6 | D9: 0 | E9: 11 | F9: 4 | G9: 2 | H9: 14 | I9: 17 | J9: 5 | R9: =SUM(D9:Q9) -> 53 | X9: =SUM(S9:W9) -> 0 | Y9: =X9+R9 -> 53
A10: Block II | B10: 0.25 | C10: 6 | D10: 0 | E10: 0 | F10: 9 | G10: 0 | H10: 5 | I10: 8 | J10: 0 | R10: =SUM(D10:Q10) -> 22 | X10: =SUM(S10:W10) -> 0 | Y10: =X10+R10 -> 22
A11: Block III | B11: 0.25 | C11: 2 | D11: 0 | E11: 7 | F11: 1 | G11: 2 | H11: 15 | I11: 4 | J11: 5 | R11: =SUM(D11:Q11) -> 34 | X11: =SUM(S11:W11) -> 0 | Y11: =X11+R11 -> 34
A12: Block IV | B12: 0.25 | C12: 9 | D12: 0 | E12: 6 | F12: 20 | G12: 2 | H12: 7 | I12: 14 | J12: 0 | R12: =SUM(D12:Q12) -> 49 | X12: =SUM(S12:W12) -> 0 | Y12: =X12+R12 -> 49
A13: Summa 4 block | B13: =SUM(B9:B12) -> 1 | C13: =SUM(C9:C12) -> 23 | D13: =SUM(D9:D12) -> 0 | E13: =SUM(E9:E12) -> 24 | F13: =SUM(F9:F12) -> 34 | G13: =SUM(G9:G12) -> 6 | H13: =SUM(H9:H12) -> 41 | I13: =SUM(I9:I12) -> 43 | ... Y13: =SUM(Y9:Y12) -> 158
A14: Utveckling, BBCH | C14: 57 | E14: 30 | F14: 19 | G14: 30 | H14: 65 | I14: 65 | J14: 65
B15: min | C15: 55 | E15: 22 | F15: 19 | G15: 14 | H15: 14 | I15: 14 | J15: 30
B16: max | C16: 58 | E16: 30 | F16: 30 | G16: 32 | H16: 65 | I16: 65 | J16: 67
A17: Höjd (cm) | C17: 55 | E17: 22 | F17: 7 | G17: 10 | H17: 20 | I17: 8 | J17: 7
A18: Diameter (cm) | C18: 28 | E18: 17 | F18: 15 | G18: 24 | H18: 12 | I18: 6 | J18: 8
A19: Marktäckning
A20: Block I | C20: 10 | D20: 1 | E20: 20 | F20: 10 | G20: 4 | H20: 40 | I20: 8 | J20: 1
A21: Block II | C21: 15 | D21: 1 | E21: 0 | F21: 12 | G21: 1 | H21: 45 | I21: 8 | J21: 0
A22: Block III | C22: 8 | D22: 1 | E22: 15 | F22: 1 | G22: 20 | H22: 25 | I22: 4 | J22: 1
A23: Block IV | C23: 15 | D23: 2 | E23: 15 | F23: 12 | G23: 2 | H23: 45 | I23: 8 | J23: 1
A24: Örtogräs | D24: Gräsogräs
A25: 09 | B25: Hj-blad gnm m-yta | D25: 09 | E25: Sk genom m-yta
A26: 10 | B26: Hj-blad utvecklade | D26: 10 | E26: 1:a utanf koleopt
A27: 11 | B27: 1 örtblad utv. | D27: 11 | E27: 1:a bl utvecklat
A28: 12 | B28: 2 örtblad utv. | D28: 12 | E28: 2:a bl utvecklat
B29: etc | D29: 20 | E29: end h-skott utveckl
A30: 30 | B30: Pl börjar sträckas | D30: 21 | E30: h-skott + 1 sidosk.
A31: 31 | B31: 1 internod förlängd | D31: 22 | E31: h-skott + 2 sidosk.
A32: 32 | B32: 2 internoder förl | D32: 30 | E32: Bladslidor förlängs
B33: etc | D33: 31 | E33: 1 nod finns
A34: 50 | B34: Blomknoppar finns | D34: 32 | E34: 2 noder finns
B35: täckta av bl | D35: 37 | E35: fl-blad just synligt
A36: 51 | B36: 1:a bl-knoppar synl | D36: 39 | E36: fl-blad slida synlig
B37: ej täckta av blad | D37: 41 | E37: fl-blad slida utväxer
A38: 55 | B38: Individuella bl-kn | D38: 45 | E38: fl-blad slida utvidgad
B39: synl, fortf slutna | D39: 49 | E39: ax första agnar synl
A40: 59 | B40: första kronbl synl | D40: 51 | E40: 1 småax synl
A41: 61 | B41: 1:a blomman utslag | D41: 55 | E41: 1/2 axet framme
A42: 65 | B42: full blomn | D42: 59 | E42: hela axet framme
A43: 69 | B43: avslutad blomning | D43: 61 | E43: Beg blomning
A44: 70 | B44: 1:a skidor/baljor etc | D44: 65 | E44: full blom
A45: 71 | B45: 10 % nått full längd | D45: 69 | E45: avslutad blomning
A46: 7X | B46: X0 % nått full längd | D46: 73 | E46: beg mjölkmognad
A47: 81 | B47: 10 % av sk/balj mogna | D47: 75 | E47: mjölkm.
A48: 8X | B48: X0 % mogna | D48: 77 | E48: sen m-m, klibbigt
A49: 89 | B49: fullmoget | D49: 83 | E49: beg degmogn, ostigt
D50: 85 | E50: degm., nagelavtr tb
D51: 87 | E51: sen d-m, n-avtr kvar
