Workbook

Sheet Marktäckning 05-23
F1: ADB nr.: | G1: =[1]Data!$B$6 -> 0568970 | I1: Plan nr: | J1: =[1]Data!$B$4 -> L5-8010P | M1: Försöks nr.: | N1: =[1]Data!$B$5 -> I-970-2022 | Q1: ADB nr.: | R1: =[1]Data!$B$6 -> 0568970 | T1: Plan nr: | U1: =[1]Data!$B$4 -> L5-8010P | X1: Försöks nr.: | Y1: =[1]Data!$B$5 -> I-970-2022
A2: Marktäckning
A3: Tidpunkt
A4: Utveckling, gröda | E4: DC 65
A5: Datum | E5: 45069
A6: Kod | D6: --> | E6: ='[1]Marktäckning 10-29'!E6 -> Kornvallmo | G6: ='[1]Marktäckning 10-29'!G6 -> våtarv | K6: ='[1]Marktäckning 10-29'!K6 -> Viol | M6: ='[1]Marktäckning 10-29'!M6 -> Vitblära | O6: ='[1]Marktäckning 10-29'!O6 -> Kvickrot | P6: övriga örtogräs | Q6: ='[1]Marktäckning 10-29'!Q6 -> M | R6: ='[1]Marktäckning 10-29'!R6 -> N | S6: ='[1]Marktäckning 10-29'!S6 -> O | T6: ='[1]Marktäckning 10-29'!T6 -> P | U6: ='[1]Marktäckning 10-29'!U6 -> Q | V6: ='[1]Marktäckning 10-29'!V6 -> R | W6: ='[1]Marktäckning 10-29'!W6 -> S | X6: ='[1]Marktäckning 10-29'!X6 -> T | ... Z6: ='[1]Marktäckning 10-29'!Z6 -> V
A7: Ruta | B7: Led | C7: Led | D7: Block | E7: 1 | F7: 2 | G7: 3 | H7: 4 | I7: 5 | J7: 6 | K7: 7 | L7: 8 | M7: 9 | N7: 10 | O7: 11 | P7: 12 | Q7: 13 | R7: 14 | S7: 15 | T7: 16 | U7: 17 | V7: 18 | W7: 19 | X7: 20 | Y7: 21 | Z7: 22
A8: 1 | B8: =[1]Data!G5 -> 9 | C8: =[1]Data!#REF! -> #REF! | D8: =[1]Data!H5 -> 1 | E8: 0 | G8: 10 | K8: 12 | M8: 3 | O8: 0.1 | P8: 0.5
A9: 2 | B9: =[1]Data!G6 -> 6 | C9: =[1]Data!#REF! -> #REF! | D9: =[1]Data!H6 -> 1 | E9: 0 | G9: 0 | K9: 12 | M9: 0 | O9: 0.1 | P9: 0.5
A10: 3 | B10: =[1]Data!G7 -> 3 | C10: =[1]Data!#REF! -> #REF! | D10: =[1]Data!H7 -> 1 | E10: 0 | G10: 0 | K10: 12 | M10: 1 | O10: 0.1 | P10: 0.5
A11: 4 | B11: =[1]Data!G8 -> 1 | C11: =[1]Data!#REF! -> #REF! | D11: =[1]Data!H8 -> 1 | E11: 10 | G11: 40 | K11: 15 | M11: 10 | O11: 1 | P11: 3
A12: 5 | B12: =[1]Data!G9 -> 7 | C12: =[1]Data!#REF! -> #REF! | D12: =[1]Data!H9 -> 1 | E12: 2 | G12: 20 | K12: 15 | M12: 2 | O12: 0.1 | P12: 3
A13: 6 | B13: =[1]Data!G10 -> 2 | C13: =[1]Data!#REF! -> #REF! | D13: =[1]Data!H10 -> 1 | E13: 0.1 | G13: 0 | K13: 8 | M13: 0 | O13: 0.5 | P13: 0.5
A14: 7 | B14: =[1]Data!G11 -> 5 | C14: =[1]Data!#REF! -> #REF! | D14: =[1]Data!H11 -> 1 | E14: 0 | G14: 0 | K14: 15 | M14: 0 | O14: 0.1 | P14: 0.5
A15: 8 | B15: =[1]Data!G12 -> 4 | C15: =[1]Data!#REF! -> #REF! | D15: =[1]Data!H12 -> 1 | E15: 4 | G15: 0 | K15: 10 | M15: 0 | O15: 0.1 | P15: 0.5
A16: 9 | B16: =[1]Data!G13 -> 10 | C16: =[1]Data!#REF! -> #REF! | D16: =[1]Data!H13 -> 1 | E16: 0 | G16: 0 | K16: 0.5 | M16: 5 | O16: 0.1 | P16: 0.5
A17: 10 | B17: =[1]Data!G14 -> 8 | C17: =[1]Data!#REF! -> #REF! | D17: =[1]Data!H14 -> 1 | E17: 0 | G17: 0.1 | K17: 2 | M17: 10 | O17: 1 | P17: 1
A18: 11 | B18: =[1]Data!G15 -> 1 | C18: =[1]Data!#REF! -> #REF! | D18: =[1]Data!H15 -> 2 | E18: 3 | G18: 12 | K18: 15 | M18: 15 | O18: 1 | P18: 3
A19: 12 | B19: =[1]Data!G16 -> 6 | C19: =[1]Data!#REF! -> #REF! | D19: =[1]Data!H16 -> 2 | E19: 0 | G19: 0 | K19: 8 | M19: 2 | O19: 0.1 | P19: 0.5
... A47: 40 | B47: =[1]Data!G44 -> 8 | C47: =[1]Data!#REF! -> #REF! | D47: =[1]Data!H44 -> 4 | E47: 0 | G47: 1 | K47: 5 | M47: 1 | O47: 2 | P47: 1
A48: 41 | B48: =[1]Data!G45 -> 0 | C48: =[1]Data!#REF! -> #REF! | D48: =[1]Data!H45 -> 0 | P48: 0.5
A49: 42 | B49: =[1]Data!G46 -> 0 | C49: =[1]Data!#REF! -> #REF! | D49: =[1]Data!H46 -> 0 | P49: 0.5
A50: 43 | B50: =[1]Data!G47 -> 0 | C50: =[1]Data!#REF! -> #REF! | D50: =[1]Data!H47 -> 0 | P50: 0.5
A51: 44 | B51: =[1]Data!G48 -> 0 | C51: =[1]Data!#REF! -> #REF! | D51: =[1]Data!H48 -> 0 | P51: 0.5
A52: 45 | B52: =[1]Data!G49 -> 0 | C52: =[1]Data!#REF! -> #REF! | D52: =[1]Data!H49 -> 0 | P52: 0.5
A53: 46 | B53: =[1]Data!G50 -> 0 | C53: =[1]Data!#REF! -> #REF! | D53: =[1]Data!H50 -> 0 | P53: 0.5
A54: 47 | B54: =[1]Data!G51 -> 0 | C54: =[1]Data!#REF! -> #REF! | D54: =[1]Data!H51 -> 0 | P54: 0.5
A55: 48 | B55: =[1]Data!G52 -> 0 | C55: =[1]Data!#REF! -> #REF! | D55: =[1]Data!H52 -> 0 | P55: 0.5
A56: 49 | B56: =[1]Data!G53 -> 0 | C56: =[1]Data!#REF! -> #REF! | D56: =[1]Data!H53 -> 0 | P56: 0.5
A57: 50 | B57: =[1]Data!G54 -> 0 | C57: =[1]Data!#REF! -> #REF! | D57: =[1]Data!H54 -> 0 | P57: 0.5
A58: 51 | B58: =[1]Data!G55 -> 0 | C58: =[1]Data!#REF! -> #REF! | D58: =[1]Data!H55 -> 0 | P58: 0.5
A59: 52 | B59: =[1]Data!G56 -> 0 | C59: =[1]Data!#REF! -> #REF! | D59: =[1]Data!H56 -> 0 | P59: 0.5
... A87: 80 | B87: =[1]Data!G84 -> 0 | C87: =[1]Data!#REF! -> #REF! | D87: =[1]Data!H84 -> 0 | P87: 0.5
B88: =[1]Data!A88 -> 1 | E88: =((SUMSQ(SUMIFS(E8:E87,$B$8:$B$87,$B$88))))/$B$109 -> 182.25 | F88: =((SUMSQ(SUMIFS(F8:F87,$B$8:$B$87,$B$88))))/$B$109 -> 0 | G88: =((SUMSQ(SUMIFS(G8:G87,$B$8:$B$87,$B$88))))/$B$109 -> 1600 | H88: =((SUMSQ(SUMIFS(H8:H87,$B$8:$B$87,$B$88))))/$B$109 -> 0 | I88: =((SUMSQ(SUMIFS(I8:I87,$B$8:$B$87,$B$88))))/$B$109 -> 0 | J88: =((SUMSQ(SUMIFS(J8:J87,$B$8:$B$87,$B$88))))/$B$109 -> 0 | K88: =((SUMSQ(SUMIFS(K8:K87,$B$8:$B$87,$B$88))))/$B$109 -> 900 | L88: =((SUMSQ(SUMIFS(L8:L87,$B$8:$B$87,$B$88))))/$B$109 -> 0 | ... Z88: =((SUMSQ(SUMIFS(Z8:Z87,$B$8:$B$87,$B$88))))/$B$109 -> 0
B89: =[1]Data!A89 -> 2 | E89: =((SUMSQ(SUMIFS(E8:E87,$B$8:$B$87,$B$89))))/$B$109 -> 12.6025 | F89: =((SUMSQ(SUMIFS(F8:F87,$B$8:$B$87,$B$89))))/$B$109 -> 0 | G89: =((SUMSQ(SUMIFS(G8:G87,$B$8:$B$87,$B$89))))/$B$109 -> 0 | H89: =((SUMSQ(SUMIFS(H8:H87,$B$8:$B$87,$B$89))))/$B$109 -> 0 | I89: =((SUMSQ(SUMIFS(I8:I87,$B$8:$B$87,$B$89))))/$B$109 -> 0 | J89: =((SUMSQ(SUMIFS(J8:J87,$B$8:$B$87,$B$89))))/$B$109 -> 0 | K89: =((SUMSQ(SUMIFS(K8:K87,$B$8:$B$87,$B$89))))/$B$109 -> 552.25 | L89: =((SUMSQ(SUMIFS(L8:L87,$B$8:$B$87,$B$89))))/$B$109 -> 0 | ... Z89: =((SUMSQ(SUMIFS(Z8:Z87,$B$8:$B$87,$B$89))))/$B$109 -> 0
B90: =[1]Data!A90 -> 3 | E90: =((SUMSQ(SUMIFS(E8:E87,$B$8:$B$87,$B$90))))/$B$109 -> 0 | F90: =((SUMSQ(SUMIFS(F8:F87,$B$8:$B$87,$B$90))))/$B$109 -> 0 | G90: =((SUMSQ(SUMIFS(G8:G87,$B$8:$B$87,$B$90))))/$B$109 -> 0 | H90: =((SUMSQ(SUMIFS(H8:H87,$B$8:$B$87,$B$90))))/$B$109 -> 0 | I90: =((SUMSQ(SUMIFS(I8:I87,$B$8:$B$87,$B$90))))/$B$109 -> 0 | J90: =((SUMSQ(SUMIFS(J8:J87,$B$8:$B$87,$B$90))))/$B$109 -> 0 | K90: =((SUMSQ(SUMIFS(K8:K87,$B$8:$B$87,$B$90))))/$B$109 -> 870.25 | L90: =((SUMSQ(SUMIFS(L8:L87,$B$8:$B$87,$B$90))))/$B$109 -> 0 | ... Z90: =((SUMSQ(SUMIFS(Z8:Z87,$B$8:$B$87,$B$90))))/$B$109 -> 0
B91: =[1]Data!A91 -> 4 | E91: =((SUMSQ(SUMIFS(E8:E87,$B$8:$B$87,$B$91))))/$B$109 -> 144 | F91: =((SUMSQ(SUMIFS(F8:F87,$B$8:$B$87,$B$91))))/$B$109 -> 0 | G91: =((SUMSQ(SUMIFS(G8:G87,$B$8:$B$87,$B$91))))/$B$109 -> 0 | H91: =((SUMSQ(SUMIFS(H8:H87,$B$8:$B$87,$B$91))))/$B$109 -> 0 | I91: =((SUMSQ(SUMIFS(I8:I87,$B$8:$B$87,$B$91))))/$B$109 -> 0 | J91: =((SUMSQ(SUMIFS(J8:J87,$B$8:$B$87,$B$91))))/$B$109 -> 0 | K91: =((SUMSQ(SUMIFS(K8:K87,$B$8:$B$87,$B$91))))/$B$109 -> 306.25 | L91: =((SUMSQ(SUMIFS(L8:L87,$B$8:$B$87,$B$91))))/$B$109 -> 0 | ... Z91: =((SUMSQ(SUMIFS(Z8:Z87,$B$8:$B$87,$B$91))))/$B$109 -> 0
B92: =[1]Data!A92 -> 5 | E92: =((SUMSQ(SUMIFS(E8:E87,$B$8:$B$87,$B$92))))/$B$109 -> 0.25 | F92: =((SUMSQ(SUMIFS(F8:F87,$B$8:$B$87,$B$92))))/$B$109 -> 0 | G92: =((SUMSQ(SUMIFS(G8:G87,$B$8:$B$87,$B$92))))/$B$109 -> 0 | H92: =((SUMSQ(SUMIFS(H8:H87,$B$8:$B$87,$B$92))))/$B$109 -> 0 | I92: =((SUMSQ(SUMIFS(I8:I87,$B$8:$B$87,$B$92))))/$B$109 -> 0 | J92: =((SUMSQ(SUMIFS(J8:J87,$B$8:$B$87,$B$92))))/$B$109 -> 0 | K92: =((SUMSQ(SUMIFS(K8:K87,$B$8:$B$87,$B$92))))/$B$109 -> 1406.25 | L92: =((SUMSQ(SUMIFS(L8:L87,$B$8:$B$87,$B$92))))/$B$109 -> 0 | ... Z92: =((SUMSQ(SUMIFS(Z8:Z87,$B$8:$B$87,$B$92))))/$B$109 -> 0
B93: =[1]Data!A93 -> 6 | E93: =((SUMSQ(SUMIFS(E8:E87,$B$8:$B$87,$B$93))))/$B$109 -> 0 | F93: =((SUMSQ(SUMIFS(F8:F87,$B$8:$B$87,$B$93))))/$B$109 -> 0 | G93: =((SUMSQ(SUMIFS(G8:G87,$B$8:$B$87,$B$93))))/$B$109 -> 0 | H93: =((SUMSQ(SUMIFS(H8:H87,$B$8:$B$87,$B$93))))/$B$109 -> 0 | I93: =((SUMSQ(SUMIFS(I8:I87,$B$8:$B$87,$B$93))))/$B$109 -> 0 | J93: =((SUMSQ(SUMIFS(J8:J87,$B$8:$B$87,$B$93))))/$B$109 -> 0 | K93: =((SUMSQ(SUMIFS(K8:K87,$B$8:$B$87,$B$93))))/$B$109 -> 324 | L93: =((SUMSQ(SUMIFS(L8:L87,$B$8:$B$87,$B$93))))/$B$109 -> 0 | ... Z93: =((SUMSQ(SUMIFS(Z8:Z87,$B$8:$B$87,$B$93))))/$B$109 -> 0
B94: =[1]Data!A94 -> 7 | E94: =((SUMSQ(SUMIFS(E8:E87,$B$8:$B$87,$B$94))))/$B$109 -> 56.25 | F94: =((SUMSQ(SUMIFS(F8:F87,$B$8:$B$87,$B$94))))/$B$109 -> 0 | G94: =((SUMSQ(SUMIFS(G8:G87,$B$8:$B$87,$B$94))))/$B$109 -> 484 | H94: =((SUMSQ(SUMIFS(H8:H87,$B$8:$B$87,$B$94))))/$B$109 -> 0 | I94: =((SUMSQ(SUMIFS(I8:I87,$B$8:$B$87,$B$94))))/$B$109 -> 0 | J94: =((SUMSQ(SUMIFS(J8:J87,$B$8:$B$87,$B$94))))/$B$109 -> 0 | K94: =((SUMSQ(SUMIFS(K8:K87,$B$8:$B$87,$B$94))))/$B$109 -> 1056.25 | L94: =((SUMSQ(SUMIFS(L8:L87,$B$8:$B$87,$B$94))))/$B$109 -> 0 | ... Z94: =((SUMSQ(SUMIFS(Z8:Z87,$B$8:$B$87,$B$94))))/$B$109 -> 0
...

Sheet Effekt 05-23
F1: ADB nr.: | G1: =[1]Data!$B$6 -> 0568970 | I1: Plan nr: | J1: =[1]Data!$B$4 -> L5-8010P | M1: Försöks nr.: | N1: =[1]Data!$B$5 -> I-970-2022 | Q1: ADB nr.: | R1: =[1]Data!$B$6 -> 0568970 | T1: Plan nr: | U1: =[1]Data!$B$4 -> L5-8010P | X1: Försöks nr.: | Y1: =[1]Data!$B$5 -> I-970-2022
A2: Effektgradering
A3: Tidpunkt
A4: Utveckling, gröda
A5: Datum | E5: 45069
A6: Kod | D6: --> | E6: ='[1]Effekt 10-29'!E6 -> Effekt totalt | F6: ='[1]Effekt 10-29'!F6 -> Effekt kornvallmo | J6: ='[1]Effekt 10-29'!J6 -> Effekt Våtarv | K6: Effekt Viol | L6: ='[1]Effekt 10-29'!L6 -> h | M6: ='[1]Effekt 10-29'!M6 -> i | N6: ='[1]Effekt 10-29'!N6 -> j | O6: ='[1]Effekt 10-29'!O6 -> k | P6: ='[1]Effekt 10-29'!P6 -> l | Q6: ='[1]Effekt 10-29'!Q6 -> m | R6: ='[1]Effekt 10-29'!R6 -> n | S6: ='[1]Effekt 10-29'!S6 -> o | ... Z6: ='[1]Effekt 10-29'!Z6 -> v
A7: Ruta | B7: Led | C7: Led | D7: Block | E7: 1 | F7: 2 | G7: 3 | H7: 4 | I7: 5 | J7: 6 | K7: 7 | L7: 8 | M7: 9 | N7: 10 | O7: 11 | P7: 12 | Q7: 13 | R7: 14 | S7: 15 | T7: 16 | U7: 17 | V7: 18 | W7: 19 | X7: 20 | Y7: 21 | Z7: 22
A8: 1 | B8: =[1]Data!G5 -> 9 | C8: =[1]Data!#REF! -> #REF! | D8: =[1]Data!H5 -> 1 | E8: 88 | F8: 100 | J8: 85 | K8: 0
A9: 2 | B9: =[1]Data!G6 -> 6 | C9: =[1]Data!#REF! -> #REF! | D9: =[1]Data!H6 -> 1 | E9: 96 | F9: 100 | J9: 100 | K9: 0
A10: 3 | B10: =[1]Data!G7 -> 3 | C10: =[1]Data!#REF! -> #REF! | D10: =[1]Data!H7 -> 1 | E10: 94 | F10: 100 | J10: 100 | K10: 0
A11: 4 | B11: =[1]Data!G8 -> 1 | C11: =[1]Data!#REF! -> #REF! | D11: =[1]Data!H8 -> 1
A12: 5 | B12: =[1]Data!G9 -> 7 | C12: =[1]Data!#REF! -> #REF! | D12: =[1]Data!H9 -> 1 | E12: 65 | F12: 86 | J12: 30 | K12: 0
A13: 6 | B13: =[1]Data!G10 -> 2 | C13: =[1]Data!#REF! -> #REF! | D13: =[1]Data!H10 -> 1 | E13: 95 | F13: 99 | J13: 100 | K13: 65
A14: 7 | B14: =[1]Data!G11 -> 5 | C14: =[1]Data!#REF! -> #REF! | D14: =[1]Data!H11 -> 1 | E14: 96 | F14: 100 | J14: 100 | K14: 0
A15: 8 | B15: =[1]Data!G12 -> 4 | C15: =[1]Data!#REF! -> #REF! | D15: =[1]Data!H12 -> 1 | E15: 80 | F15: 70 | J15: 100 | K15: 0
A16: 9 | B16: =[1]Data!G13 -> 10 | C16: =[1]Data!#REF! -> #REF! | D16: =[1]Data!H13 -> 1 | E16: 90 | F16: 100 | J16: 100 | K16: 98
A17: 10 | B17: =[1]Data!G14 -> 8 | C17: =[1]Data!#REF! -> #REF! | D17: =[1]Data!H14 -> 1 | E17: 95 | F17: 100 | J17: 99 | K17: 93
A18: 11 | B18: =[1]Data!G15 -> 1 | C18: =[1]Data!#REF! -> #REF! | D18: =[1]Data!H15 -> 2
A19: 12 | B19: =[1]Data!G16 -> 6 | C19: =[1]Data!#REF! -> #REF! | D19: =[1]Data!H16 -> 2 | E19: 90 | F19: 100 | J19: 100 | K19: 65
A20: 13 | B20: =[1]Data!G17 -> 4 | C20: =[1]Data!#REF! -> #REF! | D20: =[1]Data!H17 -> 2 | E20: 20 | F20: 0 | J20: 100 | K20: 0
A21: 14 | B21: =[1]Data!G18 -> 8 | C21: =[1]Data!#REF! -> #REF! | D21: =[1]Data!H18 -> 2 | E21: 85 | F21: 100 | J21: 85 | K21: 65
A22: 15 | B22: =[1]Data!G19 -> 5 | C22: =[1]Data!#REF! -> #REF! | D22: =[1]Data!H19 -> 2 | E22: 95 | F22: 98 | J22: 100 | K22: 0
A23: 16 | B23: =[1]Data!G20 -> 7 | C23: =[1]Data!#REF! -> #REF! | D23: =[1]Data!H20 -> 2 | E23: 0 | F23: 0 | J23: 0 | K23: 0
A24: 17 | B24: =[1]Data!G21 -> 9 | C24: =[1]Data!#REF! -> #REF! | D24: =[1]Data!H21 -> 2 | E24: 75 | F24: 30 | J24: 98 | K24: 0
A25: 18 | B25: =[1]Data!G22 -> 3 | C25: =[1]Data!#REF! -> #REF! | D25: =[1]Data!H22 -> 2 | E25: 95 | F25: 100 | J25: 100 | K25: 0
A26: 19 | B26: =[1]Data!G23 -> 2 | C26: =[1]Data!#REF! -> #REF! | D26: =[1]Data!H23 -> 2 | E26: 75 | F26: 30 | J26: 100 | K26: 0
A27: 20 | B27: =[1]Data!G24 -> 10 | C27: =[1]Data!#REF! -> #REF! | D27: =[1]Data!H24 -> 2 | E27: 95 | F27: 100 | J27: 100 | K27: 93
A28: 21 | B28: =[1]Data!G25 -> 8 | C28: =[1]Data!#REF! -> #REF! | D28: =[1]Data!H25 -> 3 | E28: 93 | F28: 100 | J28: 96 | K28: 0
A29: 22 | B29: =[1]Data!G26 -> 9 | C29: =[1]Data!#REF! -> #REF! | D29: =[1]Data!H26 -> 3 | E29: 94 | F29: 100 | J29: 96 | K29: 0
A30: 23 | B30: =[1]Data!G27 -> 4 | C30: =[1]Data!#REF! -> #REF! | D30: =[1]Data!H27 -> 3 | E30: 20 | F30: 0 | J30: 100 | K30: 0
... A36: 29 | B36: =[1]Data!G33 -> 7 | C36: =[1]Data!#REF! -> #REF! | D36: =[1]Data!H33 -> 3 | E36: 35 | F36: 50 | J36: 65 | K36: 0
A37: 30 | B37: =[1]Data!G34 -> 1 | C37: =[1]Data!#REF! -> #REF! | D37: =[1]Data!H34 -> 3
A38: 31 | B38: =[1]Data!G35 -> 9 | C38: =[1]Data!#REF! -> #REF! | D38: =[1]Data!H35 -> 4 | E38: 75 | F38: 100 | J38: 65 | K38: 65
A39: 32 | B39: =[1]Data!G36 -> 5 | C39: =[1]Data!#REF! -> #REF! | D39: =[1]Data!H36 -> 4 | E39: 90 | F39: 100 | J39: 100 | K39: 0
A40: 33 | B40: =[1]Data!G37 -> 6 | C40: =[1]Data!#REF! -> #REF! | D40: =[1]Data!H37 -> 4 | E40: 95 | F40: 100 | J40: 100 | K40: 30
A41: 34 | B41: =[1]Data!G38 -> 10 | C41: =[1]Data!#REF! -> #REF! | D41: =[1]Data!H38 -> 4 | E41: 85 | F41: 100 | J41: 85 | K41: 60
A42: 35 | B42: =[1]Data!G39 -> 3 | C42: =[1]Data!#REF! -> #REF! | D42: =[1]Data!H39 -> 4 | E42: 93 | F42: 100 | J42: 100 | K42: 0
A43: 36 | B43: =[1]Data!G40 -> 1 | C43: =[1]Data!#REF! -> #REF! | D43: =[1]Data!H40 -> 4
A44: 37 | B44: =[1]Data!G41 -> 7 | C44: =[1]Data!#REF! -> #REF! | D44: =[1]Data!H41 -> 4 | E44: 0 | F44: 0 | J44: 0 | K44: 0
A45: 38 | B45: =[1]Data!G42 -> 2 | C45: =[1]Data!#REF! -> #REF! | D45: =[1]Data!H42 -> 4 | E45: 65 | F45: 50 | J45: 100 | K45: 0
...

Sheet 05-23
A1: Ogräsgradering | E1: Örtogräsbekämpning i höstraps, plöjt, höst- och vårbehandling
A2: Plan nr. | B2: L5-8010P
A3: Försöks nr. | B3: 0568970 | E3: Datum: | G3: 45069
A4: ADB nr. | B4: I-970-2022
D6: kornvallmo | E6: åkerviol | F6: våtarv | G6: vitblära
A7: Utveckling, BBCH | D7: 16 | E7: 65 | F7: 65 | G7: 14
B8: min | D8: 13 | E8: 12 | F8: 12 | G8: 12
B9: max | D9: 51 | E9: 65 | F9: 65 | G9: 15
A10: Höjd (cm) | D10: 25 | E10: 15 | F10: 20 | G10: 25
A11: Diameter (cm) | D11: 25 | E11: 8 | F11: 30 | G11: 15
A12: Örtogräs | B12: Hj-blad gnm m-yta | C12: Hj-blad utvecklade | D12: 1 örtblad utv. | E12: 2 örtblad utv. ect | F12: Pl börjar sträckas | G12: 1 internod förlängd | H12: 2 internoder förl ect | I12: Blomknoppar finns täckta av blad | J12: 1:a bl-knoppar synl, ej täckta av blad | K12: Individuella bl-kn, synl, fortf slutna | L12: första kronbl synl | M12: 1:a blomman utslag | N12: full blomn | O12: avslutad blomning | P12: 1:a skidor/baljor etc | Q12: 10 % nått full längd | R12: X0 % nått full längd | S12: 10 % av sk/balj mogna | T12: X0 % mogna | U12: fullmoget
B13: 09 | C13: 10 | D13: 11 | E13: 12 | F13: 30 | G13: 31 | H13: 32 | I13: 50 | J13: 51 | K13: 55 | L13: 59 | M13: 61 | N13: 65 | O13: 69 | P13: 70 | Q13: 71 | R13: 7X | S13: 81 | T13: 8X | U13: 89
A14: Gräsogräs | B14: Sk genom m-yta | C14: 1:a utanf koleopt | D14: 1:a bl utvecklat | E14: 2:a bl utvecklat | F14: end h-skott utveckl | G14: h-skott + 1 sidosk. | H14: h-skott + 2 sidosk. | I14: Bladslidor förlängs | J14: 1 nod finns | K14: 2 noder finns | L14: fl-blad just synligt | M14: fl-blad slida synlig | N14: fl-blad slida utväxer | O14: fl-blad slida utvidgad | P14: ax första agnar synl | Q14: 1 småax synl | R14: 1/2 axet framme | S14: hela axet framme | T14: Beg blomning | U14: full blom | V14: avslutad blomning | W14: beg mjölkmognad | X14: mjölkm. | Y14: sen m-m, klibbigt | Z14: beg degmogn, ostigt | AA14: degm., nagelavtr tb | AB14: sen d-m, n-avtr kvar
B15: 09 | C15: 10 | D15: 11 | E15: 12 | F15: 20 | G15: 21 | H15: 22 | I15: 30 | J15: 31 | K15: 32 | L15: 37 | M15: 39 | N15: 41 | O15: 45 | P15: 49 | Q15: 51 | R15: 55 | S15: 59 | T15: 61 | U15: 65 | V15: 69 | W15: 73 | X15: 75 | Y15: 77 | Z15: 83 | AA15: 85 | AB15: 87
