Workbook

Sheet Marktäckning 05-23
F1: ADB nr.: | G1: =[1]Data!$B$6 -> 0568970 | I1: Plan nr: | J1: =[1]Data!$B$4 -> L5-8010P | M1: Försöks nr.: | N1: =[1]Data!$B$5 -> I-970-2022 | Q1: ADB nr.: | R1: =[1]Data!$B$6 -> 0568970 | T1: Plan nr: | U1: =[1]Data!$B$4 -> L5-8010P | X1: Försöks nr.: | Y1: =[1]Data!$B$5 -> I-970-2022
A2: Marktäckning
A3: Tidpunkt
A4: Utveckling, gröda | E4: DC 65
A5: Datum | E5: 45069
A6: Kod | D6: --> | E6: ='[1]Marktäckning 10-29'!E6 -> Kornvallmo | G6: ='[1]Marktäckning 10-29'!G6 -> våtarv | K6: ='[1]Marktäckning 10-29'!K6 -> Viol | M6: ='[1]Marktäckning 10-29'!M6 -> Vitblära | O6: ='[1]Marktäckning 10-29'!O6 -> Kvickrot | P6: övriga örtogräs | Q6: ='[1]Marktäckning 10-29'!Q6 -> M | R6: ='[1]Marktäckning 10-29'!R6 -> N | S6: ='[1]Marktäckning 10-29'!S6 -> O | T6: ='[1]Marktäckning 10-29'!T6 -> P | U6: ='[1]Marktäckning 10-29'!U6 -> Q | V6: ='[1]Marktäckning 10-29'!V6 -> R | W6: ='[1]Marktäckning 10-29'!W6 -> S | X6: ='[1]Marktäckning 10-29'!X6 -> T | ... Z6: ='[1]Marktäckning 10-29'!Z6 -> V
A7: Ruta | B7: Led | C7: Led | D7: Block | E7: 1 | F7: 2 | G7: 3 | H7: 4 | I7: 5 | J7: 6 | K7: 7 | L7: 8 | M7: 9 | N7: 10 | O7: 11 | P7: 12 | Q7: 13 | R7: 14 | S7: 15 | T7: 16 | U7: 17 | V7: 18 | W7: 19 | X7: 20 | Y7: 21 | Z7: 22
A8: 1 | B8: =[1]Data!G5 -> 9 | C8: =[1]Data!#REF! -> #REF! | D8: =[1]Data!H5 -> 1 | E8: 0 | G8: 10 | K8: 12 | M8: 3 | O8: 0.1 | P8: 0.5
A9: 2 | B9: =[1]Data!G6 -> 6 | C9: =[1]Data!#REF! -> #REF! | D9: =[1]Data!H6 -> 1 | E9: 0 | G9: 0 | K9: 12 | M9: 0 | O9: 0.1 | P9: 0.5
A10: 3 | B10: =[1]Data!G7 -> 3 | C10: =[1]Data!#REF! -> #REF! | D10: =[1]Data!H7 -> 1 | E10: 0 | G10: 0 | K10: 12 | M10: 1 | O10: 0.1 | P10: 0.5
A11: 4 | B11: =[1]Data!G8 -> 1 | C11: =[1]Data!#REF! -> #REF! | D11: =[1]Data!H8 -> 1 | E11: 10 | G11: 40 | K11: 15 | M11: 10 | O11: 1 | P11: 3
A12: 5 | B12: =[1]Data!G9 -> 7 | C12: =[1]Data!#REF! -> #REF! | D12: =[1]Data!H9 -> 1 | E12: 2 | G12: 20 | K12: 15 | M12: 2 | O12: 0.1 | P12: 3
A13: 6 | B13: =[1]Data!G10 -> 2 | C13: =[1]Data!#REF! -> #REF! | D13: =[1]Data!H10 -> 1 | E13: 0.1 | G13: 0 | K13: 8 | M13: 0 | O13: 0.5 | P13: 0.5
A14: 7 | B14: =[1]Data!G11 -> 5 | C14: =[1]Data!#REF! -> #REF! | D14: =[1]Data!H11 -> 1 | E14: 0 | G14: 0 | K14: 15 | M14: 0 | O14: 0.1 | P14: 0.5
A15: 8 | B15: =[1]Data!G12 -> 4 | C15: =[1]Data!#REF! -> #REF! | D15: =[1]Data!H12 -> 1 | E15: 4 | G15: 0 | K15: 10 | M15: 0 | O15: 0.1 | P15: 0.5
A16: 9 | B16: =[1]Data!G13 -> 10 | C16: =[1]Data!#REF! -> #REF! | D16: =[1]Data!H13 -> 1 | E16: 0 | G16: 0 | K16: 0.5 | M16: 5 | O16: 0.1 | P16: 0.5
A17: 10 | B17: =[1]Data!G14 -> 8 | C17: =[1]Data!#REF! -> #REF! | D17: =[1]Data!H14 -> 1 | E17: 0 | G17: 0.1 | K17: 2 | M17: 10 | O17: 1 | P17: 1
A18: 11 | B18: =[1]Data!G15 -> 1 | C18: =[1]Data!#REF! -> #REF! | D18: =[1]Data!H15 -> 2 | E18: 3 | G18: 12 | K18: 15 | M18: 15 | O18: 1 | P18: 3
A19: 12 | B19: =[1]Data!G16 -> 6 | C19: =[1]Data!#REF! -> #REF! | D19: =[1]Data!H16 -> 2 | E19: 0 | G19: 0 | K19: 8 | M19: 2 | O19: 0.1 | P19: 0.5
... A47: 40 | B47: =[1]Data!G44 -> 8 | C47: =[1]Data!#REF! -> #REF! | D47: =[1]Data!H44 -> 4 | E47: 0 | G47: 1 | K47: 5 | M47: 1 | O47: 2 | P47: 1
A48: 41 | B48: =[1]Data!G45 -> 0 | C48: =[1]Data!#REF! -> #REF! | D48: =[1]Data!H45 -> 0 | P48: 0.5
A49: 42 | B49: =[1]Data!G46 -> 0 | C49: =[1]Data!#REF! -> #REF! | D49: =[1]Data!H46 -> 0 | P49: 0.5
A50: 43 | B50: =[1]Data!G47 -> 0 | C50: =[1]Data!#REF! -> #REF! | D50: =[1]Data!H47 -> 0 | P50: 0.5
A51: 44 | B51: =[1]Data!G48 -> 0 | C51: =[1]Data!#REF! -> #REF! | D51: =[1]Data!H48 -> 0 | P51: 0.5
A52: 45 | B52: =[1]Data!G49 -> 0 | C52: =[1]Data!#REF! -> #REF! | D52: =[1]Data!H49 -> 0 | P52: 0.5
A53: 46 | B53: =[1]Data!G50 -> 0 | C53: =[1]Data!#REF! -> #REF! | D53: =[1]Data!H50 -> 0 | P53: 0.5
A54: 47 | B54: =[1]Data!G51 -> 0 | C54: =[1]Data!#REF! -> #REF! | D54: =[1]Data!H51 -> 0 | P54: 0.5
A55: 48 | B55: =[1]Data!G52 -> 0 | C55: =[1]Data!#REF! -> #REF! | D55: =[1]Data!H52 -> 0 | P55: 0.5
A56: 49 | B56: =[1]Data!G53 -> 0 | C56: =[1]Data!#REF! -> #REF! | D56: =[1]Data!H53 -> 0 | P56: 0.5
A57: 50 | B57: =[1]Data!G54 -> 0 | C57: =[1]Data!#REF! -> #REF! | D57: =[1]Data!H54 -> 0 | P57: 0.5
A58: 51 | B58: =[1]Data!G55 -> 0 | C58: =[1]Data!#REF! -> #REF! | D58: =[1]Data!H55 -> 0 | P58: 0.5
A59: 52 | B59: =[1]Data!G56 -> 0 | C59: =[1]Data!#REF! -> #REF! | D59: =[1]Data!H56 -> 0 | P59: 0.5
... A87: 80 | B87: =[1]Data!G84 -> 0 | C87: =[1]Data!#REF! -> #REF! | D87: =[1]Data!H84 -> 0 | P87: 0.5
B88: =[1]Data!A88 -> 1 | E88: =((SUMSQ(SUMIFS(E8:E87,$B$8:$B$87,$B$88))))/$B$109 -> 182.25 | F88: =((SUMSQ(SUMIFS(F8:F87,$B$8:$B$87,$B$88))))/$B$109 -> 0 | G88: =((SUMSQ(SUMIFS(G8:G87,$B$8:$B$87,$B$88))))/$B$109 -> 1600 | H88: =((SUMSQ(SUMIFS(H8:H87,$B$8:$B$87,$B$88))))/$B$109 -> 0 | I88: =((SUMSQ(SUMIFS(I8:I87,$B$8:$B$87,$B$88))))/$B$109 -> 0 | J88: =((SUMSQ(SUMIFS(J8:J87,$B$8:$B$87,$B$88))))/$B$109 -> 0 | K88: =((SUMSQ(SUMIFS(K8:K87,$B$8:$B$87,$B$88))))/$B$109 -> 900 | L88: =((SUMSQ(SUMIFS(L8:L87,$B$8:$B$87,$B$88))))/$B$109 -> 0 | ... Z88: =((SUMSQ(SUMIFS(Z8:Z87,$B$8:$B$87,$B$88))))/$B$109 -> 0
B89: =[1]Data!A89 -> 2 | E89: =((SUMSQ(SUMIFS(E8:E87,$B$8:$B$87,$B$89))))/$B$109 -> 12.6025 | F89: =((SUMSQ(SUMIFS(F8:F87,$B$8:$B$87,$B$89))))/$B$109 -> 0 | G89: =((SUMSQ(SUMIFS(G8:G87,$B$8:$B$87,$B$89))))/$B$109 -> 0 | H89: =((SUMSQ(SUMIFS(H8:H87,$B$8:$B$87,$B$89))))/$B$109 -> 0 | I89: =((SUMSQ(SUMIFS(I8:I87,$B$8:$B$87,$B$89))))/$B$109 -> 0 | J89: =((SUMSQ(SUMIFS(J8:J87,$B$8:$B$87,$B$89))))/$B$109 -> 0 | K89: =((SUMSQ(SUMIFS(K8:K87,$B$8:$B$87,$B$89))))/$B$109 -> 552.25 | L89: =((SUMSQ(SUMIFS(L8:L87,$B$8:$B$87,$B$89))))/$B$109 -> 0 | ... Z89: =((SUMSQ(SUMIFS(Z8:Z87,$B$8:$B$87,$B$89))))/$B$109 -> 0
B90: =[1]Data!A90 -> 3 | E90: =((SUMSQ(SUMIFS(E8:E87,$B$8:$B$87,$B$90))))/$B$109 -> 0 | F90: =((SUMSQ(SUMIFS(F8:F87,$B$8:$B$87,$B$90))))/$B$109 -> 0 | G90: =((SUMSQ(SUMIFS(G8:G87,$B$8:$B$87,$B$90))))/$B$109 -> 0 | H90: =((SUMSQ(SUMIFS(H8:H87,$B$8:$B$87,$B$90))))/$B$109 -> 0 | I90: =((SUMSQ(SUMIFS(I8:I87,$B$8:$B$87,$B$90))))/$B$109 -> 0 | J90: =((SUMSQ(SUMIFS(J8:J87,$B$8:$B$87,$B$90))))/$B$109 -> 0 | K90: =((SUMSQ(SUMIFS(K8:K87,$B$8:$B$87,$B$90))))/$B$109 -> 870.25 | L90: =((SUMSQ(SUMIFS(L8:L87,$B$8:$B$87,$B$90))))/$B$109 -> 0 | ... Z90: =((SUMSQ(SUMIFS(Z8:Z87,$B$8:$B$87,$B$90))))/$B$109 -> 0
B91: =[1]Data!A91 -> 4 | E91: =((SUMSQ(SUMIFS(E8:E87,$B$8:$B$87,$B$91))))/$B$109 -> 144 | F91: =((SUMSQ(SUMIFS(F8:F87,$B$8:$B$87,$B$91))))/$B$109 -> 0 | G91: =((SUMSQ(SUMIFS(G8:G87,$B$8:$B$87,$B$91))))/$B$109 -> 0 | H91: =((SUMSQ(SUMIFS(H8:H87,$B$8:$B$87,$B$91))))/$B$109 -> 0 | I91: =((SUMSQ(SUMIFS(I8:I87,$B$8:$B$87,$B$91))))/$B$109 -> 0 | J91: =((SUMSQ(SUMIFS(J8:J87,$B$8:$B$87,$B$91))))/$B$109 -> 0 | K91: =((SUMSQ(SUMIFS(K8:K87,$B$8:$B$87,$B$91))))/$B$109 -> 306.25 | L91: =((SUMSQ(SUMIFS(L8:L87,$B$8:$B$87,$B$91))))/$B$109 -> 0 | ... Z91: =((SUMSQ(SUMIFS(Z8:Z87,$B$8:$B$87,$B$91))))/$B$109 -> 0
B92: =[1]Data!A92 -> 5 | E92: =((SUMSQ(SUMIFS(E8:E87,$B$8:$B$87,$B$92))))/$B$109 -> 0.25 | F92: =((SUMSQ(SUMIFS(F8:F87,$B$8:$B$87,$B$92))))/$B$109 -> 0 | G92: =((SUMSQ(SUMIFS(G8:G87,$B$8:$B$87,$B$92))))/$B$109 -> 0 | H92: =((SUMSQ(SUMIFS(H8:H87,$B$8:$B$87,$B$92))))/$B$109 -> 0 | I92: =((SUMSQ(SUMIFS(I8:I87,$B$8:$B$87,$B$92))))/$B$109 -> 0 | J92: =((SUMSQ(SUMIFS(J8:J87,$B$8:$B$87,$B$92))))/$B$109 -> 0 | K92: =((SUMSQ(SUMIFS(K8:K87,$B$8:$B$87,$B$92))))/$B$109 -> 1406.25 | L92: =((SUMSQ(SUMIFS(L8:L87,$B$8:$B$87,$B$92))))/$B$109 -> 0 | ... Z92: =((SUMSQ(SUMIFS(Z8:Z87,$B$8:$B$87,$B$92))))/$B$109 -> 0
B93: =[1]Data!A93 -> 6 | E93: =((SUMSQ(SUMIFS(E8:E87,$B$8:$B$87,$B$93))))/$B$109 -> 0 | F93: =((SUMSQ(SUMIFS(F8:F87,$B$8:$B$87,$B$93))))/$B$109 -> 0 | G93: =((SUMSQ(SUMIFS(G8:G87,$B$8:$B$87,$B$93))))/$B$109 -> 0 | H93: =((SUMSQ(SUMIFS(H8:H87,$B$8:$B$87,$B$93))))/$B$109 -> 0 | I93: =((SUMSQ(SUMIFS(I8:I87,$B$8:$B$87,$B$93))))/$B$109 -> 0 | J93: =((SUMSQ(SUMIFS(J8:J87,$B$8:$B$87,$B$93))))/$B$109 -> 0 | K93: =((SUMSQ(SUMIFS(K8:K87,$B$8:$B$87,$B$93))))/$B$109 -> 324 | L93: =((SUMSQ(SUMIFS(L8:L87,$B$8:$B$87,$B$93))))/$B$109 -> 0 | ... Z93: =((SUMSQ(SUMIFS(Z8:Z87,$B$8:$B$87,$B$93))))/$B$109 -> 0
B94: =[1]Data!A94 -> 7 | E94: =((SUMSQ(SUMIFS(E8:E87,$B$8:$B$87,$B$94))))/$B$109 -> 56.25 | F94: =((SUMSQ(SUMIFS(F8:F87,$B$8:$B$87,$B$94))))/$B$109 -> 0 | G94: =((SUMSQ(SUMIFS(G8:G87,$B$8:$B$87,$B$94))))/$B$109 -> 484 | H94: =((SUMSQ(SUMIFS(H8:H87,$B$8:$B$87,$B$94))))/$B$109 -> 0 | I94: =((SUMSQ(SUMIFS(I8:I87,$B$8:$B$87,$B$94))))/$B$109 -> 0 | J94: =((SUMSQ(SUMIFS(J8:J87,$B$8:$B$87,$B$94))))/$B$109 -> 0 | K94: =((SUMSQ(SUMIFS(K8:K87,$B$8:$B$87,$B$94))))/$B$109 -> 1056.25 | L94: =((SUMSQ(SUMIFS(L8:L87,$B$8:$B$87,$B$94))))/$B$109 -> 0 | ... Z94: =((SUMSQ(SUMIFS(Z8:Z87,$B$8:$B$87,$B$94))))/$B$109 -> 0
B95: =[1]Data!A95 -> 8 | E95: =((SUMSQ(SUMIFS(E8:E87,$B$8:$B$87,$B$95))))/$B$109 -> 0 | F95: =((SUMSQ(SUMIFS(F8:F87,$B$8:$B$87,$B$95))))/$B$109 -> 0 | G95: =((SUMSQ(SUMIFS(G8:G87,$B$8:$B$87,$B$95))))/$B$109 -> 4.2025 | H95: =((SUMSQ(SUMIFS(H8:H87,$B$8:$B$87,$B$95))))/$B$109 -> 0 | I95: =((SUMSQ(SUMIFS(I8:I87,$B$8:$B$87,$B$95))))/$B$109 -> 0 | J95: =((SUMSQ(SUMIFS(J8:J87,$B$8:$B$87,$B$95))))/$B$109 -> 0 | K95: =((SUMSQ(SUMIFS(K8:K87,$B$8:$B$87,$B$95))))/$B$109 -> 156.25 | L95: =((SUMSQ(SUMIFS(L8:L87,$B$8:$B$87,$B$95))))/$B$109 -> 0 | ... Z95: =((SUMSQ(SUMIFS(Z8:Z87,$B$8:$B$87,$B$95))))/$B$109 -> 0
B96: =[1]Data!A96 -> 9 | E96: =((SUMSQ(SUMIFS(E8:E87,$B$8:$B$87,$B$96))))/$B$109 -> 1 | F96: =((SUMSQ(SUMIFS(F8:F87,$B$8:$B$87,$B$96))))/$B$109 -> 0 | G96: =((SUMSQ(SUMIFS(G8:G87,$B$8:$B$87,$B$96))))/$B$109 -> 76.5625 | H96: =((SUMSQ(SUMIFS(H8:H87,$B$8:$B$87,$B$96))))/$B$109 -> 0 | I96: =((SUMSQ(SUMIFS(I8:I87,$B$8:$B$87,$B$96))))/$B$109 -> 0 | J96: =((SUMSQ(SUMIFS(J8:J87,$B$8:$B$87,$B$96))))/$B$109 -> 0 | K96: =((SUMSQ(SUMIFS(K8:K87,$B$8:$B$87,$B$96))))/$B$109 -> 462.25 | L96: =((SUMSQ(SUMIFS(L8:L87,$B$8:$B$87,$B$96))))/$B$109 -> 0 | ... Z96: =((SUMSQ(SUMIFS(Z8:Z87,$B$8:$B$87,$B$96))))/$B$109 -> 0
B97: =[1]Data!A97 -> 10 | E97: =((SUMSQ(SUMIFS(E8:E87,$B$8:$B$87,$B$97))))/$B$109 -> 0 | F97: =((SUMSQ(SUMIFS(F8:F87,$B$8:$B$87,$B$97))))/$B$109 -> 0 | G97: =((SUMSQ(SUMIFS(G8:G87,$B$8:$B$87,$B$97))))/$B$109 -> 1 | H97: =((SUMSQ(SUMIFS(H8:H87,$B$8:$B$87,$B$97))))/$B$109 -> 0 | I97: =((SUMSQ(SUMIFS(I8:I87,$B$8:$B$87,$B$97))))/$B$109 -> 0 | J97: =((SUMSQ(SUMIFS(J8:J87,$B$8:$B$87,$B$97))))/$B$109 -> 0 | K97: =((SUMSQ(SUMIFS(K8:K87,$B$8:$B$87,$B$97))))/$B$109 -> 22.5625 | L97: =((SUMSQ(SUMIFS(L8:L87,$B$8:$B$87,$B$97))))/$B$109 -> 0 | ... Z97: =((SUMSQ(SUMIFS(Z8:Z87,$B$8:$B$87,$B$97))))/$B$109 -> 0
B98: =[1]Data!A98 -> 11 | E98: =((SUMSQ(SUMIFS(E8:E87,$B$8:$B$87,$B$98))))/$B$109 -> 0 | F98: =((SUMSQ(SUMIFS(F8:F87,$B$8:$B$87,$B$98))))/$B$109 -> 0 | G98: =((SUMSQ(SUMIFS(G8:G87,$B$8:$B$87,$B$98))))/$B$109 -> 0 | H98: =((SUMSQ(SUMIFS(H8:H87,$B$8:$B$87,$B$98))))/$B$109 -> 0 | I98: =((SUMSQ(SUMIFS(I8:I87,$B$8:$B$87,$B$98))))/$B$109 -> 0 | J98: =((SUMSQ(SUMIFS(J8:J87,$B$8:$B$87,$B$98))))/$B$109 -> 0 | K98: =((SUMSQ(SUMIFS(K8:K87,$B$8:$B$87,$B$98))))/$B$109 -> 0 | L98: =((SUMSQ(SUMIFS(L8:L87,$B$8:$B$87,$B$98))))/$B$109 -> 0 | ... Z98: =((SUMSQ(SUMIFS(Z8:Z87,$B$8:$B$87,$B$98))))/$B$109 -> 0
B99: =[1]Data!A99 -> 12 | E99: =((SUMSQ(SUMIFS(E8:E87,$B$8:$B$87,$B$99))))/$B$109 -> 0 | F99: =((SUMSQ(SUMIFS(F8:F87,$B$8:$B$87,$B$99))))/$B$109 -> 0 | G99: =((SUMSQ(SUMIFS(G8:G87,$B$8:$B$87,$B$99))))/$B$109 -> 0 | H99: =((SUMSQ(SUMIFS(H8:H87,$B$8:$B$87,$B$99))))/$B$109 -> 0 | I99: =((SUMSQ(SUMIFS(I8:I87,$B$8:$B$87,$B$99))))/$B$109 -> 0 | J99: =((SUMSQ(SUMIFS(J8:J87,$B$8:$B$87,$B$99))))/$B$109 -> 0 | K99: =((SUMSQ(SUMIFS(K8:K87,$B$8:$B$87,$B$99))))/$B$109 -> 0 | L99: =((SUMSQ(SUMIFS(L8:L87,$B$8:$B$87,$B$99))))/$B$109 -> 0 | ... Z99: =((SUMSQ(SUMIFS(Z8:Z87,$B$8:$B$87,$B$99))))/$B$109 -> 0
B100: =[1]Data!A100 -> 13 | E100: =((SUMSQ(SUMIFS(E8:E87,$B$8:$B$87,$B$100))))/$B$109 -> 0 | F100: =((SUMSQ(SUMIFS(F8:F87,$B$8:$B$87,$B$100))))/$B$109 -> 0 | G100: =((SUMSQ(SUMIFS(G8:G87,$B$8:$B$87,$B$100))))/$B$109 -> 0 | H100: =((SUMSQ(SUMIFS(H8:H87,$B$8:$B$87,$B$100))))/$B$109 -> 0 | I100: =((SUMSQ(SUMIFS(I8:I87,$B$8:$B$87,$B$100))))/$B$109 -> 0 | J100: =((SUMSQ(SUMIFS(J8:J87,$B$8:$B$87,$B$100))))/$B$109 -> 0 | K100: =((SUMSQ(SUMIFS(K8:K87,$B$8:$B$87,$B$100))))/$B$109 -> 0 | L100: =((SUMSQ(SUMIFS(L8:L87,$B$8:$B$87,$B$100))))/$B$109 -> 0 | ... Z100: =((SUMSQ(SUMIFS(Z8:Z87,$B$8:$B$87,$B$100))))/$B$109 -> 0
B101: =[1]Data!A101 -> 14 | E101: =((SUMSQ(SUMIFS(E8:E87,$B$8:$B$87,$B$101))))/$B$109 -> 0 | F101: =((SUMSQ(SUMIFS(F8:F87,$B$8:$B$87,$B$101))))/$B$109 -> 0 | G101: =((SUMSQ(SUMIFS(G8:G87,$B$8:$B$87,$B$101))))/$B$109 -> 0 | H101: =((SUMSQ(SUMIFS(H8:H87,$B$8:$B$87,$B$101))))/$B$109 -> 0 | I101: =((SUMSQ(SUMIFS(I8:I87,$B$8:$B$87,$B$101))))/$B$109 -> 0 | J101: =((SUMSQ(SUMIFS(J8:J87,$B$8:$B$87,$B$101))))/$B$109 -> 0 | K101: =((SUMSQ(SUMIFS(K8:K87,$B$8:$B$87,$B$101))))/$B$109 -> 0 | L101: =((SUMSQ(SUMIFS(L8:L87,$B$8:$B$87,$B$101))))/$B$109 -> 0 | ... Z101: =((SUMSQ(SUMIFS(Z8:Z87,$B$8:$B$87,$B$101))))/$B$109 -> 0
B102: =[1]Data!A102 -> 15 | E102: =((SUMSQ(SUMIFS(E8:E87,$B$8:$B$87,$B$102))))/$B$109 -> 0 | F102: =((SUMSQ(SUMIFS(F8:F87,$B$8:$B$87,$B$102))))/$B$109 -> 0 | G102: =((SUMSQ(SUMIFS(G8:G87,$B$8:$B$87,$B$102))))/$B$109 -> 0 | H102: =((SUMSQ(SUMIFS(H8:H87,$B$8:$B$87,$B$102))))/$B$109 -> 0 | I102: =((SUMSQ(SUMIFS(I8:I87,$B$8:$B$87,$B$102))))/$B$109 -> 0 | J102: =((SUMSQ(SUMIFS(J8:J87,$B$8:$B$87,$B$102))))/$B$109 -> 0 | K102: =((SUMSQ(SUMIFS(K8:K87,$B$8:$B$87,$B$102))))/$B$109 -> 0 | L102: =((SUMSQ(SUMIFS(L8:L87,$B$8:$B$87,$B$102))))/$B$109 -> 0 | ... Z102: =((SUMSQ(SUMIFS(Z8:Z87,$B$8:$B$87,$B$102))))/$B$109 -> 0
B103: =[1]Data!A103 -> 16 | E103: =((SUMSQ(SUMIFS(E8:E87,$B$8:$B$87,$B$103))))/$B$109 -> 0 | F103: =((SUMSQ(SUMIFS(F8:F87,$B$8:$B$87,$B$103))))/$B$109 -> 0 | G103: =((SUMSQ(SUMIFS(G8:G87,$B$8:$B$87,$B$103))))/$B$109 -> 0 | H103: =((SUMSQ(SUMIFS(H8:H87,$B$8:$B$87,$B$103))))/$B$109 -> 0 | I103: =((SUMSQ(SUMIFS(I8:I87,$B$8:$B$87,$B$103))))/$B$109 -> 0 | J103: =((SUMSQ(SUMIFS(J8:J87,$B$8:$B$87,$B$103))))/$B$109 -> 0 | K103: =((SUMSQ(SUMIFS(K8:K87,$B$8:$B$87,$B$103))))/$B$109 -> 0 | L103: =((SUMSQ(SUMIFS(L8:L87,$B$8:$B$87,$B$103))))/$B$109 -> 0 | ... Z103: =((SUMSQ(SUMIFS(Z8:Z87,$B$8:$B$87,$B$103))))/$B$109 -> 0
B104: =[1]Data!A104 -> 17 | E104: =((SUMSQ(SUMIFS(E8:E87,$B$8:$B$87,$B$104))))/$B$109 -> 0 | F104: =((SUMSQ(SUMIFS(F8:F87,$B$8:$B$87,$B$104))))/$B$109 -> 0 | G104: =((SUMSQ(SUMIFS(G8:G87,$B$8:$B$87,$B$104))))/$B$109 -> 0 | H104: =((SUMSQ(SUMIFS(H8:H87,$B$8:$B$87,$B$104))))/$B$109 -> 0 | I104: =((SUMSQ(SUMIFS(I8:I87,$B$8:$B$87,$B$104))))/$B$109 -> 0 | J104: =((SUMSQ(SUMIFS(J8:J87,$B$8:$B$87,$B$104))))/$B$109 -> 0 | K104: =((SUMSQ(SUMIFS(K8:K87,$B$8:$B$87,$B$104))))/$B$109 -> 0 | L104: =((SUMSQ(SUMIFS(L8:L87,$B$8:$B$87,$B$104))))/$B$109 -> 0 | ... Z104: =((SUMSQ(SUMIFS(Z8:Z87,$B$8:$B$87,$B$104))))/$B$109 -> 0
B105: =[1]Data!A105 -> 18 | E105: =((SUMSQ(SUMIFS(E8:E87,$B$8:$B$87,$B$105))))/$B$109 -> 0 | F105: =((SUMSQ(SUMIFS(F8:F87,$B$8:$B$87,$B$105))))/$B$109 -> 0 | G105: =((SUMSQ(SUMIFS(G8:G87,$B$8:$B$87,$B$105))))/$B$109 -> 0 | H105: =((SUMSQ(SUMIFS(H8:H87,$B$8:$B$87,$B$105))))/$B$109 -> 0 | I105: =((SUMSQ(SUMIFS(I8:I87,$B$8:$B$87,$B$105))))/$B$109 -> 0 | J105: =((SUMSQ(SUMIFS(J8:J87,$B$8:$B$87,$B$105))))/$B$109 -> 0 | K105: =((SUMSQ(SUMIFS(K8:K87,$B$8:$B$87,$B$105))))/$B$109 -> 0 | L105: =((SUMSQ(SUMIFS(L8:L87,$B$8:$B$87,$B$105))))/$B$109 -> 0 | ... Z105: =((SUMSQ(SUMIFS(Z8:Z87,$B$8:$B$87,$B$105))))/$B$109 -> 0
B106: =[1]Data!A106 -> 19 | E106: =((SUMSQ(SUMIFS(E8:E87,$B$8:$B$87,$B$106))))/$B$109 -> 0 | F106: =((SUMSQ(SUMIFS(F8:F87,$B$8:$B$87,$B$106))))/$B$109 -> 0 | G106: =((SUMSQ(SUMIFS(G8:G87,$B$8:$B$87,$B$106))))/$B$109 -> 0 | H106: =((SUMSQ(SUMIFS(H8:H87,$B$8:$B$87,$B$106))))/$B$109 -> 0 | I106: =((SUMSQ(SUMIFS(I8:I87,$B$8:$B$87,$B$106))))/$B$109 -> 0 | J106: =((SUMSQ(SUMIFS(J8:J87,$B$8:$B$87,$B$106))))/$B$109 -> 0 | K106: =((SUMSQ(SUMIFS(K8:K87,$B$8:$B$87,$B$106))))/$B$109 -> 0 | L106: =((SUMSQ(SUMIFS(L8:L87,$B$8:$B$87,$B$106))))/$B$109 -> 0 | ... Z106: =((SUMSQ(SUMIFS(Z8:Z87,$B$8:$B$87,$B$106))))/$B$109 -> 0
B107: =[1]Data!A107 -> 20 | E107: =((SUMSQ(SUMIFS(E8:E87,$B$8:$B$87,$B$107))))/$B$109 -> 0 | F107: =((SUMSQ(SUMIFS(F8:F87,$B$8:$B$87,$B$107))))/$B$109 -> 0 | G107: =((SUMSQ(SUMIFS(G8:G87,$B$8:$B$87,$B$107))))/$B$109 -> 0 | H107: =((SUMSQ(SUMIFS(H8:H87,$B$8:$B$87,$B$107))))/$B$109 -> 0 | I107: =((SUMSQ(SUMIFS(I8:I87,$B$8:$B$87,$B$107))))/$B$109 -> 0 | J107: =((SUMSQ(SUMIFS(J8:J87,$B$8:$B$87,$B$107))))/$B$109 -> 0 | K107: =((SUMSQ(SUMIFS(K8:K87,$B$8:$B$87,$B$107))))/$B$109 -> 0 | L107: =((SUMSQ(SUMIFS(L8:L87,$B$8:$B$87,$B$107))))/$B$109 -> 0 | ... Z107: =((SUMSQ(SUMIFS(Z8:Z87,$B$8:$B$87,$B$107))))/$B$109 -> 0
A109: Antal block | B109: =[1]Data!B16 -> 4
A110: Antal led | B110: =[1]Data!B15 -> 10
A111: Antal rutor | B111: =[1]Data!B15*[1]Data!B16 -> 40
A112: summan i samtliga rutor | E112: =SUM(E8:E87) -> 76.1 | F112: =SUM(F8:F87) -> 0 | G112: =SUM(G8:G87) -> 147.6 | H112: =SUM(H8:H87) -> 0 | I112: =SUM(I8:I87) -> 0 | J112: =SUM(J8:J87) -> 0 | K112: =SUM(K8:K87) -> 454.5 | L112: =SUM(L8:L87) -> 0 | ... Z112: =SUM(Z8:Z87) -> 0
A113: Medeltal | E113: =E112/$B$111 -> 1.9025 | F113: =F112/$B$111 -> 0 | G113: =G112/$B$111 -> 3.69 | H113: =H112/$B$111 -> 0 | I113: =I112/$B$111 -> 0 | J113: =J112/$B$111 -> 0 | K113: =K112/$B$111 -> 11.3625 | L113: =L112/$B$111 -> 0 | ... Z113: =Z112/$B$111 -> 0
A115: summa kvadratsumman från rutor/antal rutor | E115: =((SUMSQ(SUM(E8:E87)))/$B$111) -> 144.78025 | F115: =((SUMSQ(SUM(F8:F87)))/$B$111) -> 0 | G115: =((SUMSQ(SUM(G8:G87)))/$B$111) -> 544.644 | H115: =((SUMSQ(SUM(H8:H87)))/$B$111) -> 0 | I115: =((SUMSQ(SUM(I8:I87)))/$B$111) -> 0 | J115: =((SUMSQ(SUM(J8:J87)))/$B$111) -> 0 | K115: =((SUMSQ(SUM(K8:K87)))/$B$111) -> 5164.2563 | L115: =((SUMSQ(SUM(L8:L87)))/$B$111) -> 0 | ... Z115: =((SUMSQ(SUM(Z8:Z87)))/$B$111) -> 0
A117: SS led | E117: =(SUM(E88:E107))-E115 -> 251.57225 | F117: =(SUM(F88:F107))-F115 -> 0 | G117: =(SUM(G88:G107))-G115 -> 1621.121 | H117: =(SUM(H88:H107))-H115 -> 0 | I117: =(SUM(I88:I107))-I115 -> 0 | J117: =(SUM(J88:J107))-J115 -> 0 | K117: =(SUM(K88:K107))-K115 -> 892.05625 | L117: =(SUM(L88:L107))-L115 -> 0 | ... Z117: =(SUM(Z88:Z107))-Z115 -> 0
A119: SS block | B119: 1 | E119: =((SUMIFS(E8:E87,$D$8:$D$87,$B$119))*(SUMIFS(E8:E87,$D$8:$D$87,$B$119)))/$B$110 -> 25.921 | F119: =((SUMIFS(F8:F87,$D$8:$D$87,$B$119))*(SUMIFS(F8:F87,$D$8:$D$87,$B$119)))/$B$110 -> 0 | G119: =((SUMIFS(G8:G87,$D$8:$D$87,$B$119))*(SUMIFS(G8:G87,$D$8:$D$87,$B$119)))/$B$110 -> 491.401 | H119: =((SUMIFS(H8:H87,$D$8:$D$87,$B$119))*(SUMIFS(H8:H87,$D$8:$D$87,$B$119)))/$B$110 -> 0 | I119: =((SUMIFS(I8:I87,$D$8:$D$87,$B$119))*(SUMIFS(I8:I87,$D$8:$D$87,$B$119)))/$B$110 -> 0 | J119: =((SUMIFS(J8:J87,$D$8:$D$87,$B$119))*(SUMIFS(J8:J87,$D$8:$D$87,$B$119)))/$B$110 -> 0 | K119: =((SUMIFS(K8:K87,$D$8:$D$87,$B$119))*(SUMIFS(K8:K87,$D$8:$D$87,$B$119)))/$B$110 -> 1030.225 | L119: =((SUMIFS(L8:L87,$D$8:$D$87,$B$119))*(SUMIFS(L8:L87,$D$8:$D$87,$B$119)))/$B$110 -> 0 | ... Z119: =((SUMIFS(Z8:Z87,$D$8:$D$87,$B$119))*(SUMIFS(Z8:Z87,$D$8:$D$87,$B$119)))/$B$110 -> 0
B120: 2 | E120: =((SUMIFS(E8:E87,$D$8:$D$87,$B$120))*(SUMIFS(E8:E87,$D$8:$D$87,$B$120)))/$B$110 -> 27.225 | F120: =((SUMIFS(F8:F87,$D$8:$D$87,$B$120))*(SUMIFS(F8:F87,$D$8:$D$87,$B$120)))/$B$110 -> 0 | G120: =((SUMIFS(G8:G87,$D$8:$D$87,$B$120))*(SUMIFS(G8:G87,$D$8:$D$87,$B$120)))/$B$110 -> 60.025 | H120: =((SUMIFS(H8:H87,$D$8:$D$87,$B$120))*(SUMIFS(H8:H87,$D$8:$D$87,$B$120)))/$B$110 -> 0 | I120: =((SUMIFS(I8:I87,$D$8:$D$87,$B$120))*(SUMIFS(I8:I87,$D$8:$D$87,$B$120)))/$B$110 -> 0 | J120: =((SUMIFS(J8:J87,$D$8:$D$87,$B$120))*(SUMIFS(J8:J87,$D$8:$D$87,$B$120)))/$B$110 -> 0 | K120: =((SUMIFS(K8:K87,$D$8:$D$87,$B$120))*(SUMIFS(K8:K87,$D$8:$D$87,$B$120)))/$B$110 -> 1562.5 | L120: =((SUMIFS(L8:L87,$D$8:$D$87,$B$120))*(SUMIFS(L8:L87,$D$8:$D$87,$B$120)))/$B$110 -> 0 | ... Z120: =((SUMIFS(Z8:Z87,$D$8:$D$87,$B$120))*(SUMIFS(Z8:Z87,$D$8:$D$87,$B$120)))/$B$110 -> 0
B121: 3 | E121: =((SUMIFS(E8:E87,$D$8:$D$87,$B$121))*(SUMIFS(E8:E87,$D$8:$D$87,$B$121)))/$B$110 -> 55.225 | F121: =((SUMIFS(F8:F87,$D$8:$D$87,$B$121))*(SUMIFS(F8:F87,$D$8:$D$87,$B$121)))/$B$110 -> 0 | G121: =((SUMIFS(G8:G87,$D$8:$D$87,$B$121))*(SUMIFS(G8:G87,$D$8:$D$87,$B$121)))/$B$110 -> 78.4 | H121: =((SUMIFS(H8:H87,$D$8:$D$87,$B$121))*(SUMIFS(H8:H87,$D$8:$D$87,$B$121)))/$B$110 -> 0 | I121: =((SUMIFS(I8:I87,$D$8:$D$87,$B$121))*(SUMIFS(I8:I87,$D$8:$D$87,$B$121)))/$B$110 -> 0 | J121: =((SUMIFS(J8:J87,$D$8:$D$87,$B$121))*(SUMIFS(J8:J87,$D$8:$D$87,$B$121)))/$B$110 -> 0 | K121: =((SUMIFS(K8:K87,$D$8:$D$87,$B$121))*(SUMIFS(K8:K87,$D$8:$D$87,$B$121)))/$B$110 -> 1488.4 | L121: =((SUMIFS(L8:L87,$D$8:$D$87,$B$121))*(SUMIFS(L8:L87,$D$8:$D$87,$B$121)))/$B$110 -> 0 | ... Z121: =((SUMIFS(Z8:Z87,$D$8:$D$87,$B$121))*(SUMIFS(Z8:Z87,$D$8:$D$87,$B$121)))/$B$110 -> 0
B122: 4 | E122: =((SUMIFS(E8:E87,$D$8:$D$87,$B$122))*(SUMIFS(E8:E87,$D$8:$D$87,$B$122)))/$B$110 -> 40 | F122: =((SUMIFS(F8:F87,$D$8:$D$87,$B$122))*(SUMIFS(F8:F87,$D$8:$D$87,$B$122)))/$B$110 -> 0 | G122: =((SUMIFS(G8:G87,$D$8:$D$87,$B$122))*(SUMIFS(G8:G87,$D$8:$D$87,$B$122)))/$B$110 -> 62.5 | H122: =((SUMIFS(H8:H87,$D$8:$D$87,$B$122))*(SUMIFS(H8:H87,$D$8:$D$87,$B$122)))/$B$110 -> 0 | I122: =((SUMIFS(I8:I87,$D$8:$D$87,$B$122))*(SUMIFS(I8:I87,$D$8:$D$87,$B$122)))/$B$110 -> 0 | J122: =((SUMIFS(J8:J87,$D$8:$D$87,$B$122))*(SUMIFS(J8:J87,$D$8:$D$87,$B$122)))/$B$110 -> 0 | K122: =((SUMIFS(K8:K87,$D$8:$D$87,$B$122))*(SUMIFS(K8:K87,$D$8:$D$87,$B$122)))/$B$110 -> 1123.6 | L122: =((SUMIFS(L8:L87,$D$8:$D$87,$B$122))*(SUMIFS(L8:L87,$D$8:$D$87,$B$122)))/$B$110 -> 0 | ... Z122: =((SUMIFS(Z8:Z87,$D$8:$D$87,$B$122))*(SUMIFS(Z8:Z87,$D$8:$D$87,$B$122)))/$B$110 -> 0
B123: 5 | E123: =((SUMIFS(E8:E87,$D$8:$D$87,$B$123))*(SUMIFS(E8:E87,$D$8:$D$87,$B$123)))/$B$110 -> 0 | F123: =((SUMIFS(F8:F87,$D$8:$D$87,$B$123))*(SUMIFS(F8:F87,$D$8:$D$87,$B$123)))/$B$110 -> 0 | G123: =((SUMIFS(G8:G87,$D$8:$D$87,$B$123))*(SUMIFS(G8:G87,$D$8:$D$87,$B$123)))/$B$110 -> 0 | H123: =((SUMIFS(H8:H87,$D$8:$D$87,$B$123))*(SUMIFS(H8:H87,$D$8:$D$87,$B$123)))/$B$110 -> 0 | I123: =((SUMIFS(I8:I87,$D$8:$D$87,$B$123))*(SUMIFS(I8:I87,$D$8:$D$87,$B$123)))/$B$110 -> 0 | J123: =((SUMIFS(J8:J87,$D$8:$D$87,$B$123))*(SUMIFS(J8:J87,$D$8:$D$87,$B$123)))/$B$110 -> 0 | K123: =((SUMIFS(K8:K87,$D$8:$D$87,$B$123))*(SUMIFS(K8:K87,$D$8:$D$87,$B$123)))/$B$110 -> 0 | L123: =((SUMIFS(L8:L87,$D$8:$D$87,$B$123))*(SUMIFS(L8:L87,$D$8:$D$87,$B$123)))/$B$110 -> 0 | ... Z123: =((SUMIFS(Z8:Z87,$D$8:$D$87,$B$123))*(SUMIFS(Z8:Z87,$D$8:$D$87,$B$123)))/$B$110 -> 0
B124: 6 | E124: =((SUMIFS(E8:E87,$D$8:$D$87,$B$124))*(SUMIFS(E8:E87,$D$8:$D$87,$B$124)))/$B$110 -> 0 | F124: =((SUMIFS(F8:F87,$D$8:$D$87,$B$124))*(SUMIFS(F8:F87,$D$8:$D$87,$B$124)))/$B$110 -> 0 | G124: =((SUMIFS(G8:G87,$D$8:$D$87,$B$124))*(SUMIFS(G8:G87,$D$8:$D$87,$B$124)))/$B$110 -> 0 | H124: =((SUMIFS(H8:H87,$D$8:$D$87,$B$124))*(SUMIFS(H8:H87,$D$8:$D$87,$B$124)))/$B$110 -> 0 | I124: =((SUMIFS(I8:I87,$D$8:$D$87,$B$124))*(SUMIFS(I8:I87,$D$8:$D$87,$B$124)))/$B$110 -> 0 | J124: =((SUMIFS(J8:J87,$D$8:$D$87,$B$124))*(SUMIFS(J8:J87,$D$8:$D$87,$B$124)))/$B$110 -> 0 | K124: =((SUMIFS(K8:K87,$D$8:$D$87,$B$124))*(SUMIFS(K8:K87,$D$8:$D$87,$B$124)))/$B$110 -> 0 | L124: =((SUMIFS(L8:L87,$D$8:$D$87,$B$124))*(SUMIFS(L8:L87,$D$8:$D$87,$B$124)))/$B$110 -> 0 | ... Z124: =((SUMIFS(Z8:Z87,$D$8:$D$87,$B$124))*(SUMIFS(Z8:Z87,$D$8:$D$87,$B$124)))/$B$110 -> 0
B125: 7 | E125: =((SUMIFS(E8:E87,$D$8:$D$87,$B$125))*(SUMIFS(E8:E87,$D$8:$D$87,$B$125)))/$B$110 -> 0 | F125: =((SUMIFS(F8:F87,$D$8:$D$87,$B$125))*(SUMIFS(F8:F87,$D$8:$D$87,$B$125)))/$B$110 -> 0 | G125: =((SUMIFS(G8:G87,$D$8:$D$87,$B$125))*(SUMIFS(G8:G87,$D$8:$D$87,$B$125)))/$B$110 -> 0 | H125: =((SUMIFS(H8:H87,$D$8:$D$87,$B$125))*(SUMIFS(H8:H87,$D$8:$D$87,$B$125)))/$B$110 -> 0 | I125: =((SUMIFS(I8:I87,$D$8:$D$87,$B$125))*(SUMIFS(I8:I87,$D$8:$D$87,$B$125)))/$B$110 -> 0 | J125: =((SUMIFS(J8:J87,$D$8:$D$87,$B$125))*(SUMIFS(J8:J87,$D$8:$D$87,$B$125)))/$B$110 -> 0 | K125: =((SUMIFS(K8:K87,$D$8:$D$87,$B$125))*(SUMIFS(K8:K87,$D$8:$D$87,$B$125)))/$B$110 -> 0 | L125: =((SUMIFS(L8:L87,$D$8:$D$87,$B$125))*(SUMIFS(L8:L87,$D$8:$D$87,$B$125)))/$B$110 -> 0 | ... Z125: =((SUMIFS(Z8:Z87,$D$8:$D$87,$B$125))*(SUMIFS(Z8:Z87,$D$8:$D$87,$B$125)))/$B$110 -> 0
B126: 8 | E126: =((SUMIFS(E8:E87,$D$8:$D$87,$B$126))*(SUMIFS(E8:E87,$D$8:$D$87,$B$126)))/$B$110 -> 0 | F126: =((SUMIFS(F8:F87,$D$8:$D$87,$B$126))*(SUMIFS(F8:F87,$D$8:$D$87,$B$126)))/$B$110 -> 0 | G126: =((SUMIFS(G8:G87,$D$8:$D$87,$B$126))*(SUMIFS(G8:G87,$D$8:$D$87,$B$126)))/$B$110 -> 0 | H126: =((SUMIFS(H8:H87,$D$8:$D$87,$B$126))*(SUMIFS(H8:H87,$D$8:$D$87,$B$126)))/$B$110 -> 0 | I126: =((SUMIFS(I8:I87,$D$8:$D$87,$B$126))*(SUMIFS(I8:I87,$D$8:$D$87,$B$126)))/$B$110 -> 0 | J126: =((SUMIFS(J8:J87,$D$8:$D$87,$B$126))*(SUMIFS(J8:J87,$D$8:$D$87,$B$126)))/$B$110 -> 0 | K126: =((SUMIFS(K8:K87,$D$8:$D$87,$B$126))*(SUMIFS(K8:K87,$D$8:$D$87,$B$126)))/$B$110 -> 0 | L126: =((SUMIFS(L8:L87,$D$8:$D$87,$B$126))*(SUMIFS(L8:L87,$D$8:$D$87,$B$126)))/$B$110 -> 0 | ... Z126: =((SUMIFS(Z8:Z87,$D$8:$D$87,$B$126))*(SUMIFS(Z8:Z87,$D$8:$D$87,$B$126)))/$B$110 -> 0
A127: summa SS block | E127: =(SUM(E119:E126))-E115 -> 3.59075 | F127: =(SUM(F119:F126))-F115 -> 0 | G127: =(SUM(G119:G126))-G115 -> 147.682 | H127: =(SUM(H119:H126))-H115 -> 0 | I127: =(SUM(I119:I126))-I115 -> 0 | J127: =(SUM(J119:J126))-J115 -> 0 | K127: =(SUM(K119:K126))-K115 -> 40.46875 | L127: =(SUM(L119:L126))-L115 -> 0 | ... Z127: =(SUM(Z119:Z126))-Z115 -> 0
A129: SS error | E129: =E131-E127-E117 -> 69.56675 | F129: =F131-F127-F117 -> 0 | G129: =G131-G127-G117 -> 641.813 | H129: =H131-H127-H117 -> 0 | I129: =I131-I127-I117 -> 0 | J129: =J131-J127-J117 -> 0 | K129: =K131-K127-K117 -> 235.46875 | L129: =L131-L127-L117 -> 0 | ... Z129: =Z131-Z127-Z117 -> 0
A131: SS total | E131: =(SUMSQ(E8:E87)-E115) -> 324.72975 | F131: =(SUMSQ(F8:F87)-F115) -> 0 | G131: =(SUMSQ(G8:G87)-G115) -> 2410.616 | H131: =(SUMSQ(H8:H87)-H115) -> 0 | I131: =(SUMSQ(I8:I87)-I115) -> 0 | J131: =(SUMSQ(J8:J87)-J115) -> 0 | K131: =(SUMSQ(K8:K87)-K115) -> 1167.9937 | L131: =(SUMSQ(L8:L87)-L115) -> 0 | ... Z131: =(SUMSQ(Z8:Z87)-Z115) -> 0
A133: df led | E133: =$B$110-1 -> 9 | F133: =$B$110-1 -> 9 | G133: =$B$110-1 -> 9 | H133: =$B$110-1 -> 9 | I133: =$B$110-1 -> 9 | J133: =$B$110-1 -> 9 | K133: =$B$110-1 -> 9 | L133: =$B$110-1 -> 9 | ... Z133: =$B$110-1 -> 9
A134: df block | E134: =$B$109-1 -> 3 | F134: =$B$109-1 -> 3 | G134: =$B$109-1 -> 3 | H134: =$B$109-1 -> 3 | I134: =$B$109-1 -> 3 | J134: =$B$109-1 -> 3 | K134: =$B$109-1 -> 3 | L134: =$B$109-1 -> 3 | ... Z134: =$B$109-1 -> 3
A135: df error | E135: =E133*E134 -> 27 | F135: =F133*F134 -> 27 | G135: =G133*G134 -> 27 | H135: =H133*H134 -> 27 | I135: =I133*I134 -> 27 | J135: =J133*J134 -> 27 | K135: =K133*K134 -> 27 | L135: =L133*L134 -> 27 | ... Z135: =Z133*Z134 -> 27
A136: df total (summa SS block/df block)
A139: MS led (SS led/df led) | E139: =E117/E133 -> 27.952472 | F139: =F117/F133 -> 0 | G139: =IFERROR(G117/G133,0) -> 180.12456 | H139: =H117/H133 -> 0 | I139: =I117/I133 -> 0 | J139: =J117/J133 -> 0 | K139: =K117/K133 -> 99.117361 | L139: =L117/L133 -> 0 | M139: =M117/M133 -> 24.489583 | N139: =N117/N133 -> 0 | O139: =O117/O133 -> 1.7901111 | ... Z139: =Z117/Z133 -> 0
A140: MS block | E140: =E127/E134 -> 1.1969167 | F140: =F127/F134 -> 0 | G140: =G127/G134 -> 49.227333 | H140: =H127/H134 -> 0 | I140: =I127/I134 -> 0 | J140: =J127/J134 -> 0 | K140: =K127/K134 -> 13.489583 | L140: =L127/L134 -> 0 | ... Z140: =Z127/Z134 -> 0
A141: MS error (SS error/df error) | E141: =E129/E135 -> 2.5765463 | F141: =F129/F135 -> 0 | G141: =G129/G135 -> 23.770852 | H141: =H129/H135 -> 0 | I141: =I129/I135 -> 0 | J141: =J129/J135 -> 0 | K141: =K129/K135 -> 8.7210648 | L141: =L129/L135 -> 0 | ... Z141: =Z129/Z135 -> 0
A144: F led | E144: =IFERROR(E139/E141,0) -> 10.848814 | F144: =IFERROR(F139/F141,0) -> 0 | G144: =IFERROR(G139/G141,0) -> 7.5775389 | H144: =IFERROR(H139/H141,0) -> 0 | I144: =IFERROR(I139/I141,0) -> 0 | J144: =IFERROR(J139/J141,0) -> 0 | K144: =IFERROR(K139/K141,0) -> 11.365282 | L144: =IFERROR(L139/L141,0) -> 0 | ... Z144: =IFERROR(Z139/Z141,0) -> 0
A145: F block | E145: =IFERROR(E140/E141,0) -> 0.46454305 | F145: =IFERROR(F140/F141,0) -> 0 | G145: =IFERROR(G140/G141,0) -> 2.0709116 | H145: =IFERROR(H140/H141,0) -> 0 | I145: =IFERROR(I140/I141,0) -> 0 | J145: =IFERROR(J140/J141,0) -> 0 | K145: =IFERROR(K140/K141,0) -> 1.5467817 | L145: =IFERROR(L140/L141,0) -> 0 | ... Z145: =IFERROR(Z140/Z141,0) -> 0
A147: xx | E147: =IFERROR(FDIST(E144,E133,E135),0) -> 6.4896373e-07 | F147: =IFERROR(FDIST(F144,F133,F135),0) -> 1 | G147: =IFERROR(FDIST(G144,G133,G135),0) -> 1.85798e-05 | H147: =IFERROR(FDIST(H144,H133,H135),0) -> 1 | I147: =IFERROR(FDIST(I144,I133,I135),0) -> 1 | J147: =IFERROR(FDIST(J144,J133,J135),0) -> 1 | K147: =IFERROR(FDIST(K144,K133,K135),0) -> 4.0854682e-07 | L147: =IFERROR(FDIST(L144,L133,L135),0) -> 1 | ... Z147: =IFERROR(FDIST(Z144,Z133,Z135),0) -> 1
A148: x | E148: =IFERROR(FDIST(E145,E140,E135),0) -> 0.50131333 | F148: =IFERROR(FDIST(F145,F140,F135),0) -> 0 | G148: =IFERROR(FDIST(G145,G140,G135),0) -> 0.022226087 | H148: =IFERROR(FDIST(H145,H140,H135),0) -> 0 | I148: =IFERROR(FDIST(I145,I140,I135),0) -> 0 | J148: =IFERROR(FDIST(J145,J140,J135),0) -> 0 | K148: =IFERROR(FDIST(K145,K140,K135),0) -> 0.16409643 | L148: =IFERROR(FDIST(L145,L140,L135),0) -> 0 | ... Z148: =IFERROR(FDIST(Z145,Z140,Z135),0) -> 0
A150: Probv | E150: =E147 -> 6.4896373e-07 | F150: =F147 -> 1 | G150: =G147 -> 1.85798e-05 | H150: =H147 -> 1 | I150: =I147 -> 1 | J150: =J147 -> 1 | K150: =K147 -> 4.0854682e-07 | L150: =L147 -> 1 | ... Z150: =Z147 -> 1
A151: CV % | E151: =IFERROR(100*SQRT(E141)/E113,0) -> 84.371216 | F151: =IFERROR(100*SQRT(F141)/F113,0) -> 0 | G151: =IFERROR(100*SQRT(G141)/G113,0) -> 132.12835 | H151: =IFERROR(100*SQRT(H141)/H113,0) -> 0 | I151: =IFERROR(100*SQRT(I141)/I113,0) -> 0 | J151: =IFERROR(100*SQRT(J141)/J113,0) -> 0 | K151: =IFERROR(100*SQRT(K141)/K113,0) -> 25.990274 | L151: =IFERROR(100*SQRT(L141)/L113,0) -> 0 | ... Z151: =IFERROR(100*SQRT(Z141)/Z113,0) -> 0
A152: LSD | E152: =TINV(0.05,E135)*SQRT(2*E141/($B$109)) -> 2.3288712 | F152: =TINV(0.05,F135)*SQRT(2*F141/($B$109)) -> 0 | G152: =TINV(0.05,G135)*SQRT(2*G141/($B$109)) -> 7.0737362 | H152: =TINV(0.05,H135)*SQRT(2*H141/($B$109)) -> 0 | I152: =TINV(0.05,I135)*SQRT(2*I141/($B$109)) -> 0 | J152: =TINV(0.05,J135)*SQRT(2*J141/($B$109)) -> 0 | K152: =TINV(0.05,K135)*SQRT(2*K141/($B$109)) -> 4.2846095 | L152: =TINV(0.05,L135)*SQRT(2*L141/($B$109)) -> 0 | ... Z152: =TINV(0.05,Z135)*SQRT(2*Z141/($B$109)) -> 0
A154: Led
A155: =[1]Data!A88 -> 1 | B155: =[1]Data!B235 -> 0 | C155: =(((SUMIFS('Marktäckning 05-23'!E155:E234, [1]Data!#REF!, "=a*", 'Marktäckning 05-23'!$B$8:$B$87,$A$8))+(SUMIFS('Marktäckning 05-23'!E155:E234, [1]Data!#REF!, "=b*", 'Marktäckning 05-23'!$B$8:$B$87, $A$8))+(SUMIFS('Marktäckning 05-23'!E155:E234, [1]Data!#REF!, "=c*", 'Marktäckning 05-23'!$B$8:$B$87, $A$8))+(SUMIFS('Marktäckning 05-23'!E155:E234, [1]Data!#REF!, "=d*", 'Marktäckning 05-23'!$B$8:$B$87, $A$8))+(SUMIFS('Marktäckning 05-23'!E155:E234, [1]Data!#REF!, "=e*", 'Marktäckning 05-23'!$B$8:$B$87, $A$8))+(SUMIFS('Marktäckning 05-23'!E155:E234, [1]Data!#REF!, "=f*", 'Marktäckning 05-23'!$B$8:$B$87, $A$8))))/[1]Data!B163 -> #REF! | D155: =(((SUMIFS('Marktäckning 05-23'!F155:F234, [1]Data!#REF!, "=a*", 'Marktäckning 05-23'!$B$8:$B$87,$A$8))+(SUMIFS('Marktäckning 05-23'!F155:F234, [1]Data!#REF!, "=b*", 'Marktäckning 05-23'!$B$8:$B$87, $A$8))+(SUMIFS('Marktäckning 05-23'!F155:F234, [1]Data!#REF!, "=c*", 'Marktäckning 05-23'!$B$8:$B$87, $A$8))+(SUMIFS('Marktäckning 05-23'!F155:F234, [1]Data!#REF!, "=d*", 'Marktäckning 05-23'!$B$8:$B$87, $A$8))+(SUMIFS('Marktäckning 05-23'!F155:F234, [1]Data!#REF!, "=e*", 'Marktäckning 05-23'!$B$8:$B$87, $A$8))+(SUMIFS('Marktäckning 05-23'!F155:F234, [1]Data!#REF!, "=f*", 'Marktäckning 05-23'!$B$8:$B$87, $A$8))))/[1]Data!$B$16 -> #REF! | E155: =(SUMIFS('Marktäckning 05-23'!E8:E87,'Marktäckning 05-23'!$B$8:$B$87,$A$8))/[1]Data!$B$16 -> 6.75 | F155: =(SUMIFS('Marktäckning 05-23'!F8:F87,'Marktäckning 05-23'!$B$8:$B$87,$A$8))/[1]Data!$B$16 -> 0 | G155: =(SUMIFS('Marktäckning 05-23'!G8:G87,'Marktäckning 05-23'!$B$8:$B$87,$A$8))/[1]Data!$B$16 -> 20 | H155: =(SUMIFS('Marktäckning 05-23'!H8:H87,'Marktäckning 05-23'!$B$8:$B$87,$A$8))/[1]Data!$B$16 -> 0 | I155: =(SUMIFS('Marktäckning 05-23'!I8:I87,'Marktäckning 05-23'!$B$8:$B$87,$A$8))/[1]Data!$B$16 -> 0 | J155: =(SUMIFS('Marktäckning 05-23'!J8:J87,'Marktäckning 05-23'!$B$8:$B$87,$A$8))/[1]Data!$B$16 -> 0 | K155: =(SUMIFS('Marktäckning 05-23'!K8:K87,'Marktäckning 05-23'!$B$8:$B$87,$A$8))/[1]Data!$B$16 -> 15 | L155: =(SUMIFS('Marktäckning 05-23'!L8:L87,'Marktäckning 05-23'!$B$8:$B$87,$A$8))/[1]Data!$B$16 -> 0 | ... Z155: =(SUMIFS('Marktäckning 05-23'!Z8:Z87,'Marktäckning 05-23'!$B$8:$B$87,$A$8))/[1]Data!$B$16 -> 0
A156: =[1]Data!A89 -> 2 | B156: =[1]Data!B236 -> 0 | C156: =(((SUMIFS('Marktäckning 05-23'!E155:E234, [1]Data!#REF!, "=a*", 'Marktäckning 05-23'!$B$8:$B$87,$A$9))+(SUMIFS('Marktäckning 05-23'!E155:E234, [1]Data!#REF!, "=b*", 'Marktäckning 05-23'!$B$8:$B$87, $A$9))+(SUMIFS('Marktäckning 05-23'!E155:E234, [1]Data!#REF!, "=c*", 'Marktäckning 05-23'!$B$8:$B$87, $A$9))+(SUMIFS('Marktäckning 05-23'!E155:E234, [1]Data!#REF!, "=d*", 'Marktäckning 05-23'!$B$8:$B$87, $A$9))+(SUMIFS('Marktäckning 05-23'!E155:E234, [1]Data!#REF!, "=e*", 'Marktäckning 05-23'!$B$8:$B$87, $A$9))+(SUMIFS('Marktäckning 05-23'!E155:E234, [1]Data!#REF!, "=f*", 'Marktäckning 05-23'!$B$8:$B$87, $A$9))))/[1]Data!$B$16 -> #REF! | D156: =(((SUMIFS('Marktäckning 05-23'!F155:F234, [1]Data!#REF!, "=a*", 'Marktäckning 05-23'!$B$8:$B$87,$A$9))+(SUMIFS('Marktäckning 05-23'!F155:F234, [1]Data!#REF!, "=b*", 'Marktäckning 05-23'!$B$8:$B$87, $A$9))+(SUMIFS('Marktäckning 05-23'!F155:F234, [1]Data!#REF!, "=c*", 'Marktäckning 05-23'!$B$8:$B$87, $A$9))+(SUMIFS('Marktäckning 05-23'!F155:F234, [1]Data!#REF!, "=d*", 'Marktäckning 05-23'!$B$8:$B$87, $A$9))+(SUMIFS('Marktäckning 05-23'!F155:F234, [1]Data!#REF!, "=e*", 'Marktäckning 05-23'!$B$8:$B$87, $A$9))+(SUMIFS('Marktäckning 05-23'!F155:F234, [1]Data!#REF!, "=f*", 'Marktäckning 05-23'!$B$8:$B$87, $A$9))))/[1]Data!$B$16 -> #REF! | E156: =(SUMIFS('Marktäckning 05-23'!E8:E87,'Marktäckning 05-23'!$B$8:$B$87,$A$9))/[1]Data!$B$16 -> 1.775 | F156: =(SUMIFS('Marktäckning 05-23'!F8:F87,'Marktäckning 05-23'!$B$8:$B$87,$A$9))/[1]Data!$B$16 -> 0 | G156: =(SUMIFS('Marktäckning 05-23'!G8:G87,'Marktäckning 05-23'!$B$8:$B$87,$A$9))/[1]Data!$B$16 -> 0 | H156: =(SUMIFS('Marktäckning 05-23'!H8:H87,'Marktäckning 05-23'!$B$8:$B$87,$A$9))/[1]Data!$B$16 -> 0 | I156: =(SUMIFS('Marktäckning 05-23'!I8:I87,'Marktäckning 05-23'!$B$8:$B$87,$A$9))/[1]Data!$B$16 -> 0 | J156: =(SUMIFS('Marktäckning 05-23'!J8:J87,'Marktäckning 05-23'!$B$8:$B$87,$A$9))/[1]Data!$B$16 -> 0 | K156: =(SUMIFS('Marktäckning 05-23'!K8:K87,'Marktäckning 05-23'!$B$8:$B$87,$A$9))/[1]Data!$B$16 -> 11.75 | L156: =(SUMIFS('Marktäckning 05-23'!L8:L87,'Marktäckning 05-23'!$B$8:$B$87,$A$9))/[1]Data!$B$16 -> 0 | ... Z156: =(SUMIFS('Marktäckning 05-23'!Z8:Z87,'Marktäckning 05-23'!$B$8:$B$87,$A$9))/[1]Data!$B$16 -> 0
A157: =[1]Data!A90 -> 3 | B157: =[1]Data!B237 -> 0 | C157: =(((SUMIFS('Marktäckning 05-23'!E155:E234, [1]Data!#REF!, "=a*", 'Marktäckning 05-23'!$B$8:$B$87,$A$10))+(SUMIFS('Marktäckning 05-23'!E155:E234, [1]Data!#REF!, "=b*", 'Marktäckning 05-23'!$B$8:$B$87, $A$10))+(SUMIFS('Marktäckning 05-23'!E155:E234, [1]Data!#REF!, "=c*", 'Marktäckning 05-23'!$B$8:$B$87, $A$10))+(SUMIFS('Marktäckning 05-23'!E155:E234, [1]Data!#REF!, "=d*", 'Marktäckning 05-23'!$B$8:$B$87, $A$10))+(SUMIFS('Marktäckning 05-23'!E155:E234, [1]Data!#REF!, "=e*", 'Marktäckning 05-23'!$B$8:$B$87, $A$10))+(SUMIFS('Marktäckning 05-23'!E155:E234, [1]Data!#REF!, "=f*", 'Marktäckning 05-23'!$B$8:$B$87, $A$10))))/[1]Data!$B$16 -> #REF! | D157: =(((SUMIFS('Marktäckning 05-23'!F155:F234, [1]Data!#REF!, "=a*", 'Marktäckning 05-23'!$B$8:$B$87,$A$10))+(SUMIFS('Marktäckning 05-23'!F155:F234, [1]Data!#REF!, "=b*", 'Marktäckning 05-23'!$B$8:$B$87, $A$10))+(SUMIFS('Marktäckning 05-23'!F155:F234, [1]Data!#REF!, "=c*", 'Marktäckning 05-23'!$B$8:$B$87, $A$10))+(SUMIFS('Marktäckning 05-23'!F155:F234, [1]Data!#REF!, "=d*", 'Marktäckning 05-23'!$B$8:$B$87, $A$10))+(SUMIFS('Marktäckning 05-23'!F155:F234, [1]Data!#REF!, "=e*", 'Marktäckning 05-23'!$B$8:$B$87, $A$10))+(SUMIFS('Marktäckning 05-23'!F155:F234, [1]Data!#REF!, "=f*", 'Marktäckning 05-23'!$B$8:$B$87, $A$10))))/[1]Data!$B$16 -> #REF! | E157: =(SUMIFS('Marktäckning 05-23'!E8:E87,'Marktäckning 05-23'!$B$8:$B$87,$A$10))/[1]Data!$B$16 -> 0 | F157: =(SUMIFS('Marktäckning 05-23'!F8:F87,'Marktäckning 05-23'!$B$8:$B$87,$A$10))/[1]Data!$B$16 -> 0 | G157: =(SUMIFS('Marktäckning 05-23'!G8:G87,'Marktäckning 05-23'!$B$8:$B$87,$A$10))/[1]Data!$B$16 -> 0 | H157: =(SUMIFS('Marktäckning 05-23'!H8:H87,'Marktäckning 05-23'!$B$8:$B$87,$A$10))/[1]Data!$B$16 -> 0 | I157: =(SUMIFS('Marktäckning 05-23'!I8:I87,'Marktäckning 05-23'!$B$8:$B$87,$A$10))/[1]Data!$B$16 -> 0 | J157: =(SUMIFS('Marktäckning 05-23'!J8:J87,'Marktäckning 05-23'!$B$8:$B$87,$A$10))/[1]Data!$B$16 -> 0 | K157: =(SUMIFS('Marktäckning 05-23'!K8:K87,'Marktäckning 05-23'!$B$8:$B$87,$A$10))/[1]Data!$B$16 -> 14.75 | L157: =(SUMIFS('Marktäckning 05-23'!L8:L87,'Marktäckning 05-23'!$B$8:$B$87,$A$10))/[1]Data!$B$16 -> 0 | ... Z157: =(SUMIFS('Marktäckning 05-23'!Z8:Z87,'Marktäckning 05-23'!$B$8:$B$87,$A$10))/[1]Data!$B$16 -> 0
A158: =[1]Data!A91 -> 4 | B158: =[1]Data!B238 -> 0 | C158: =(((SUMIFS('Marktäckning 05-23'!E155:E234, [1]Data!#REF!, "=a*", 'Marktäckning 05-23'!$B$8:$B$87,$A$11))+(SUMIFS('Marktäckning 05-23'!E155:E234, [1]Data!#REF!, "=b*", 'Marktäckning 05-23'!$B$8:$B$87, $A$11))+(SUMIFS('Marktäckning 05-23'!E155:E234, [1]Data!#REF!, "=c*", 'Marktäckning 05-23'!$B$8:$B$87, $A$11))+(SUMIFS('Marktäckning 05-23'!E155:E234, [1]Data!#REF!, "=d*", 'Marktäckning 05-23'!$B$8:$B$87, $A$11))+(SUMIFS('Marktäckning 05-23'!E155:E234, [1]Data!#REF!, "=e*", 'Marktäckning 05-23'!$B$8:$B$87, $A$11))+(SUMIFS('Marktäckning 05-23'!E155:E234, [1]Data!#REF!, "=f*", 'Marktäckning 05-23'!$B$8:$B$87, $A$11))))/[1]Data!$B$16 -> #REF! | D158: =(((SUMIFS('Marktäckning 05-23'!F155:F234, [1]Data!#REF!, "=a*", 'Marktäckning 05-23'!$B$8:$B$87,$A$11))+(SUMIFS('Marktäckning 05-23'!F155:F234, [1]Data!#REF!, "=b*", 'Marktäckning 05-23'!$B$8:$B$87, $A$11))+(SUMIFS('Marktäckning 05-23'!F155:F234, [1]Data!#REF!, "=c*", 'Marktäckning 05-23'!$B$8:$B$87, $A$11))+(SUMIFS('Marktäckning 05-23'!F155:F234, [1]Data!#REF!, "=d*", 'Marktäckning 05-23'!$B$8:$B$87, $A$11))+(SUMIFS('Marktäckning 05-23'!F155:F234, [1]Data!#REF!, "=e*", 'Marktäckning 05-23'!$B$8:$B$87, $A$11))+(SUMIFS('Marktäckning 05-23'!F155:F234, [1]Data!#REF!, "=f*", 'Marktäckning 05-23'!$B$8:$B$87, $A$11))))/[1]Data!$B$16 -> #REF! | E158: =(SUMIFS('Marktäckning 05-23'!E8:E87,'Marktäckning 05-23'!$B$8:$B$87,$A$11))/[1]Data!$B$16 -> 6 | F158: =(SUMIFS('Marktäckning 05-23'!F8:F87,'Marktäckning 05-23'!$B$8:$B$87,$A$11))/[1]Data!$B$16 -> 0 | G158: =(SUMIFS('Marktäckning 05-23'!G8:G87,'Marktäckning 05-23'!$B$8:$B$87,$A$11))/[1]Data!$B$16 -> 0 | H158: =(SUMIFS('Marktäckning 05-23'!H8:H87,'Marktäckning 05-23'!$B$8:$B$87,$A$11))/[1]Data!$B$16 -> 0 | I158: =(SUMIFS('Marktäckning 05-23'!I8:I87,'Marktäckning 05-23'!$B$8:$B$87,$A$11))/[1]Data!$B$16 -> 0 | J158: =(SUMIFS('Marktäckning 05-23'!J8:J87,'Marktäckning 05-23'!$B$8:$B$87,$A$11))/[1]Data!$B$16 -> 0 | K158: =(SUMIFS('Marktäckning 05-23'!K8:K87,'Marktäckning 05-23'!$B$8:$B$87,$A$11))/[1]Data!$B$16 -> 8.75 | L158: =(SUMIFS('Marktäckning 05-23'!L8:L87,'Marktäckning 05-23'!$B$8:$B$87,$A$11))/[1]Data!$B$16 -> 0 | ... Z158: =(SUMIFS('Marktäckning 05-23'!Z8:Z87,'Marktäckning 05-23'!$B$8:$B$87,$A$11))/[1]Data!$B$16 -> 0
A159: =[1]Data!A92 -> 5 | B159: =[1]Data!B239 -> 0 | C159: =(((SUMIFS('Marktäckning 05-23'!E155:E234, [1]Data!#REF!, "=a*", 'Marktäckning 05-23'!$B$8:$B$87,$A$12))+(SUMIFS('Marktäckning 05-23'!E155:E234, [1]Data!#REF!, "=b*", 'Marktäckning 05-23'!$B$8:$B$87, $A$12))+(SUMIFS('Marktäckning 05-23'!E155:E234, [1]Data!#REF!, "=c*", 'Marktäckning 05-23'!$B$8:$B$87, $A$12))+(SUMIFS('Marktäckning 05-23'!E155:E234, [1]Data!#REF!, "=d*", 'Marktäckning 05-23'!$B$8:$B$87, $A$12))+(SUMIFS('Marktäckning 05-23'!E155:E234, [1]Data!#REF!, "=e*", 'Marktäckning 05-23'!$B$8:$B$87, $A$12))+(SUMIFS('Marktäckning 05-23'!E155:E234, [1]Data!#REF!, "=f*", 'Marktäckning 05-23'!$B$8:$B$87, $A$12))))/[1]Data!$B$16 -> #REF! | D159: =(((SUMIFS('Marktäckning 05-23'!F155:F234, [1]Data!#REF!, "=a*", 'Marktäckning 05-23'!$B$8:$B$87,$A$12))+(SUMIFS('Marktäckning 05-23'!F155:F234, [1]Data!#REF!, "=b*", 'Marktäckning 05-23'!$B$8:$B$87, $A$12))+(SUMIFS('Marktäckning 05-23'!F155:F234, [1]Data!#REF!, "=c*", 'Marktäckning 05-23'!$B$8:$B$87, $A$12))+(SUMIFS('Marktäckning 05-23'!F155:F234, [1]Data!#REF!, "=d*", 'Marktäckning 05-23'!$B$8:$B$87, $A$12))+(SUMIFS('Marktäckning 05-23'!F155:F234, [1]Data!#REF!, "=e*", 'Marktäckning 05-23'!$B$8:$B$87, $A$12))+(SUMIFS('Marktäckning 05-23'!F155:F234, [1]Data!#REF!, "=f*", 'Marktäckning 05-23'!$B$8:$B$87, $A$12))))/[1]Data!$B$16 -> #REF! | E159: =(SUMIFS('Marktäckning 05-23'!E8:E87,'Marktäckning 05-23'!$B$8:$B$87,$A$12))/[1]Data!$B$16 -> 0.25 | F159: =(SUMIFS('Marktäckning 05-23'!F8:F87,'Marktäckning 05-23'!$B$8:$B$87,$A$12))/[1]Data!$B$16 -> 0 | G159: =(SUMIFS('Marktäckning 05-23'!G8:G87,'Marktäckning 05-23'!$B$8:$B$87,$A$12))/[1]Data!$B$16 -> 0 | H159: =(SUMIFS('Marktäckning 05-23'!H8:H87,'Marktäckning 05-23'!$B$8:$B$87,$A$12))/[1]Data!$B$16 -> 0 | I159: =(SUMIFS('Marktäckning 05-23'!I8:I87,'Marktäckning 05-23'!$B$8:$B$87,$A$12))/[1]Data!$B$16 -> 0 | J159: =(SUMIFS('Marktäckning 05-23'!J8:J87,'Marktäckning 05-23'!$B$8:$B$87,$A$12))/[1]Data!$B$16 -> 0 | K159: =(SUMIFS('Marktäckning 05-23'!K8:K87,'Marktäckning 05-23'!$B$8:$B$87,$A$12))/[1]Data!$B$16 -> 18.75 | L159: =(SUMIFS('Marktäckning 05-23'!L8:L87,'Marktäckning 05-23'!$B$8:$B$87,$A$12))/[1]Data!$B$16 -> 0 | ... Z159: =(SUMIFS('Marktäckning 05-23'!Z8:Z87,'Marktäckning 05-23'!$B$8:$B$87,$A$12))/[1]Data!$B$16 -> 0
A160: =[1]Data!A93 -> 6 | B160: =[1]Data!B240 -> 0 | C160: =(((SUMIFS('Marktäckning 05-23'!E155:E234, [1]Data!#REF!, "=a*", 'Marktäckning 05-23'!$B$8:$B$87,$A$13))+(SUMIFS('Marktäckning 05-23'!E155:E234, [1]Data!#REF!, "=b*", 'Marktäckning 05-23'!$B$8:$B$87, $A$13))+(SUMIFS('Marktäckning 05-23'!E155:E234, [1]Data!#REF!, "=c*", 'Marktäckning 05-23'!$B$8:$B$87, $A$13))+(SUMIFS('Marktäckning 05-23'!E155:E234, [1]Data!#REF!, "=d*", 'Marktäckning 05-23'!$B$8:$B$87, $A$13))+(SUMIFS('Marktäckning 05-23'!E155:E234, [1]Data!#REF!, "=e*", 'Marktäckning 05-23'!$B$8:$B$87, $A$13))+(SUMIFS('Marktäckning 05-23'!E155:E234, [1]Data!#REF!, "=f*", 'Marktäckning 05-23'!$B$8:$B$87, $A$13))))/[1]Data!$B$16 -> #REF! | D160: =(((SUMIFS('Marktäckning 05-23'!F155:F234, [1]Data!#REF!, "=a*", 'Marktäckning 05-23'!$B$8:$B$87,$A$13))+(SUMIFS('Marktäckning 05-23'!F155:F234, [1]Data!#REF!, "=b*", 'Marktäckning 05-23'!$B$8:$B$87, $A$13))+(SUMIFS('Marktäckning 05-23'!F155:F234, [1]Data!#REF!, "=c*", 'Marktäckning 05-23'!$B$8:$B$87, $A$13))+(SUMIFS('Marktäckning 05-23'!F155:F234, [1]Data!#REF!, "=d*", 'Marktäckning 05-23'!$B$8:$B$87, $A$13))+(SUMIFS('Marktäckning 05-23'!F155:F234, [1]Data!#REF!, "=e*", 'Marktäckning 05-23'!$B$8:$B$87, $A$13))+(SUMIFS('Marktäckning 05-23'!F155:F234, [1]Data!#REF!, "=f*", 'Marktäckning 05-23'!$B$8:$B$87, $A$13))))/[1]Data!$B$16 -> #REF! | E160: =(SUMIFS('Marktäckning 05-23'!E8:E87,'Marktäckning 05-23'!$B$8:$B$87,$A$13))/[1]Data!$B$16 -> 0 | F160: =(SUMIFS('Marktäckning 05-23'!F8:F87,'Marktäckning 05-23'!$B$8:$B$87,$A$13))/[1]Data!$B$16 -> 0 | G160: =(SUMIFS('Marktäckning 05-23'!G8:G87,'Marktäckning 05-23'!$B$8:$B$87,$A$13))/[1]Data!$B$16 -> 0 | H160: =(SUMIFS('Marktäckning 05-23'!H8:H87,'Marktäckning 05-23'!$B$8:$B$87,$A$13))/[1]Data!$B$16 -> 0 | I160: =(SUMIFS('Marktäckning 05-23'!I8:I87,'Marktäckning 05-23'!$B$8:$B$87,$A$13))/[1]Data!$B$16 -> 0 | J160: =(SUMIFS('Marktäckning 05-23'!J8:J87,'Marktäckning 05-23'!$B$8:$B$87,$A$13))/[1]Data!$B$16 -> 0 | K160: =(SUMIFS('Marktäckning 05-23'!K8:K87,'Marktäckning 05-23'!$B$8:$B$87,$A$13))/[1]Data!$B$16 -> 9 | L160: =(SUMIFS('Marktäckning 05-23'!L8:L87,'Marktäckning 05-23'!$B$8:$B$87,$A$13))/[1]Data!$B$16 -> 0 | ... Z160: =(SUMIFS('Marktäckning 05-23'!Z8:Z87,'Marktäckning 05-23'!$B$8:$B$87,$A$13))/[1]Data!$B$16 -> 0
A161: =[1]Data!A94 -> 7 | B161: =[1]Data!B241 -> 0 | C161: =(((SUMIFS('Marktäckning 05-23'!E155:E234, [1]Data!#REF!, "=a*", 'Marktäckning 05-23'!$B$8:$B$87,$A$14))+(SUMIFS('Marktäckning 05-23'!E155:E234, [1]Data!#REF!, "=b*", 'Marktäckning 05-23'!$B$8:$B$87, $A$14))+(SUMIFS('Marktäckning 05-23'!E155:E234, [1]Data!#REF!, "=c*", 'Marktäckning 05-23'!$B$8:$B$87, $A$14))+(SUMIFS('Marktäckning 05-23'!E155:E234, [1]Data!#REF!, "=d*", 'Marktäckning 05-23'!$B$8:$B$87, $A$14))+(SUMIFS('Marktäckning 05-23'!E155:E234, [1]Data!#REF!, "=e*", 'Marktäckning 05-23'!$B$8:$B$87, $A$14))+(SUMIFS('Marktäckning 05-23'!E155:E234, [1]Data!#REF!, "=f*", 'Marktäckning 05-23'!$B$8:$B$87, $A$14))))/[1]Data!$B$16 -> #REF! | D161: =(((SUMIFS('Marktäckning 05-23'!F155:F234, [1]Data!#REF!, "=a*", 'Marktäckning 05-23'!$B$8:$B$87,$A$14))+(SUMIFS('Marktäckning 05-23'!F155:F234, [1]Data!#REF!, "=b*", 'Marktäckning 05-23'!$B$8:$B$87, $A$14))+(SUMIFS('Marktäckning 05-23'!F155:F234, [1]Data!#REF!, "=c*", 'Marktäckning 05-23'!$B$8:$B$87, $A$14))+(SUMIFS('Marktäckning 05-23'!F155:F234, [1]Data!#REF!, "=d*", 'Marktäckning 05-23'!$B$8:$B$87, $A$14))+(SUMIFS('Marktäckning 05-23'!F155:F234, [1]Data!#REF!, "=e*", 'Marktäckning 05-23'!$B$8:$B$87, $A$14))+(SUMIFS('Marktäckning 05-23'!F155:F234, [1]Data!#REF!, "=f*", 'Marktäckning 05-23'!$B$8:$B$87, $A$14))))/[1]Data!$B$16 -> #REF! | E161: =(SUMIFS('Marktäckning 05-23'!E8:E87,'Marktäckning 05-23'!$B$8:$B$87,$A$14))/[1]Data!$B$16 -> 3.75 | F161: =(SUMIFS('Marktäckning 05-23'!F8:F87,'Marktäckning 05-23'!$B$8:$B$87,$A$14))/[1]Data!$B$16 -> 0 | G161: =(SUMIFS('Marktäckning 05-23'!G8:G87,'Marktäckning 05-23'!$B$8:$B$87,$A$14))/[1]Data!$B$16 -> 11 | H161: =(SUMIFS('Marktäckning 05-23'!H8:H87,'Marktäckning 05-23'!$B$8:$B$87,$A$14))/[1]Data!$B$16 -> 0 | I161: =(SUMIFS('Marktäckning 05-23'!I8:I87,'Marktäckning 05-23'!$B$8:$B$87,$A$14))/[1]Data!$B$16 -> 0 | J161: =(SUMIFS('Marktäckning 05-23'!J8:J87,'Marktäckning 05-23'!$B$8:$B$87,$A$14))/[1]Data!$B$16 -> 0 | K161: =(SUMIFS('Marktäckning 05-23'!K8:K87,'Marktäckning 05-23'!$B$8:$B$87,$A$14))/[1]Data!$B$16 -> 16.25 | L161: =(SUMIFS('Marktäckning 05-23'!L8:L87,'Marktäckning 05-23'!$B$8:$B$87,$A$14))/[1]Data!$B$16 -> 0 | ... Z161: =(SUMIFS('Marktäckning 05-23'!Z8:Z87,'Marktäckning 05-23'!$B$8:$B$87,$A$14))/[1]Data!$B$16 -> 0
A162: =[1]Data!A95 -> 8 | B162: =[1]Data!B242 -> 0 | C162: =(((SUMIFS('Marktäckning 05-23'!E155:E234, [1]Data!#REF!, "=a*", 'Marktäckning 05-23'!$B$8:$B$87,$A$15))+(SUMIFS('Marktäckning 05-23'!E155:E234, [1]Data!#REF!, "=b*", 'Marktäckning 05-23'!$B$8:$B$87, $A$15))+(SUMIFS('Marktäckning 05-23'!E155:E234, [1]Data!#REF!, "=c*", 'Marktäckning 05-23'!$B$8:$B$87, $A$15))+(SUMIFS('Marktäckning 05-23'!E155:E234, [1]Data!#REF!, "=d*", 'Marktäckning 05-23'!$B$8:$B$87, $A$15))+(SUMIFS('Marktäckning 05-23'!E155:E234, [1]Data!#REF!, "=e*", 'Marktäckning 05-23'!$B$8:$B$87, $A$15))+(SUMIFS('Marktäckning 05-23'!E155:E234, [1]Data!#REF!, "=f*", 'Marktäckning 05-23'!$B$8:$B$87, $A$15))))/[1]Data!$B$16 -> #REF! | D162: =(((SUMIFS('Marktäckning 05-23'!F155:F234, [1]Data!#REF!, "=a*", 'Marktäckning 05-23'!$B$8:$B$87,$A$15))+(SUMIFS('Marktäckning 05-23'!F155:F234, [1]Data!#REF!, "=b*", 'Marktäckning 05-23'!$B$8:$B$87, $A$15))+(SUMIFS('Marktäckning 05-23'!F155:F234, [1]Data!#REF!, "=c*", 'Marktäckning 05-23'!$B$8:$B$87, $A$15))+(SUMIFS('Marktäckning 05-23'!F155:F234, [1]Data!#REF!, "=d*", 'Marktäckning 05-23'!$B$8:$B$87, $A$15))+(SUMIFS('Marktäckning 05-23'!F155:F234, [1]Data!#REF!, "=e*", 'Marktäckning 05-23'!$B$8:$B$87, $A$15))+(SUMIFS('Marktäckning 05-23'!F155:F234, [1]Data!#REF!, "=f*", 'Marktäckning 05-23'!$B$8:$B$87, $A$15))))/[1]Data!$B$16 -> #REF! | E162: =(SUMIFS('Marktäckning 05-23'!E8:E87,'Marktäckning 05-23'!$B$8:$B$87,$A$15))/[1]Data!$B$16 -> 0 | F162: =(SUMIFS('Marktäckning 05-23'!F8:F87,'Marktäckning 05-23'!$B$8:$B$87,$A$15))/[1]Data!$B$16 -> 0 | G162: =(SUMIFS('Marktäckning 05-23'!G8:G87,'Marktäckning 05-23'!$B$8:$B$87,$A$15))/[1]Data!$B$16 -> 1.025 | H162: =(SUMIFS('Marktäckning 05-23'!H8:H87,'Marktäckning 05-23'!$B$8:$B$87,$A$15))/[1]Data!$B$16 -> 0 | I162: =(SUMIFS('Marktäckning 05-23'!I8:I87,'Marktäckning 05-23'!$B$8:$B$87,$A$15))/[1]Data!$B$16 -> 0 | J162: =(SUMIFS('Marktäckning 05-23'!J8:J87,'Marktäckning 05-23'!$B$8:$B$87,$A$15))/[1]Data!$B$16 -> 0 | K162: =(SUMIFS('Marktäckning 05-23'!K8:K87,'Marktäckning 05-23'!$B$8:$B$87,$A$15))/[1]Data!$B$16 -> 6.25 | L162: =(SUMIFS('Marktäckning 05-23'!L8:L87,'Marktäckning 05-23'!$B$8:$B$87,$A$15))/[1]Data!$B$16 -> 0 | ... Z162: =(SUMIFS('Marktäckning 05-23'!Z8:Z87,'Marktäckning 05-23'!$B$8:$B$87,$A$15))/[1]Data!$B$16 -> 0
A163: =[1]Data!A96 -> 9 | B163: =[1]Data!B243 -> 0 | C163: =(((SUMIFS('Marktäckning 05-23'!E155:E234, [1]Data!#REF!, "=a*", 'Marktäckning 05-23'!$B$8:$B$87,$A$16))+(SUMIFS('Marktäckning 05-23'!E155:E234, [1]Data!#REF!, "=b*", 'Marktäckning 05-23'!$B$8:$B$87, $A$16))+(SUMIFS('Marktäckning 05-23'!E155:E234, [1]Data!#REF!, "=c*", 'Marktäckning 05-23'!$B$8:$B$87, $A$16))+(SUMIFS('Marktäckning 05-23'!E155:E234, [1]Data!#REF!, "=d*", 'Marktäckning 05-23'!$B$8:$B$87, $A$16))+(SUMIFS('Marktäckning 05-23'!E155:E234, [1]Data!#REF!, "=e*", 'Marktäckning 05-23'!$B$8:$B$87, $A$16))+(SUMIFS('Marktäckning 05-23'!E155:E234, [1]Data!#REF!, "=f*", 'Marktäckning 05-23'!$B$8:$B$87, $A$16))))/[1]Data!$B$16 -> #REF! | D163: =(((SUMIFS('Marktäckning 05-23'!F155:F234, [1]Data!#REF!, "=a*", 'Marktäckning 05-23'!$B$8:$B$87,$A$16))+(SUMIFS('Marktäckning 05-23'!F155:F234, [1]Data!#REF!, "=b*", 'Marktäckning 05-23'!$B$8:$B$87, $A$16))+(SUMIFS('Marktäckning 05-23'!F155:F234, [1]Data!#REF!, "=c*", 'Marktäckning 05-23'!$B$8:$B$87, $A$16))+(SUMIFS('Marktäckning 05-23'!F155:F234, [1]Data!#REF!, "=d*", 'Marktäckning 05-23'!$B$8:$B$87, $A$16))+(SUMIFS('Marktäckning 05-23'!F155:F234, [1]Data!#REF!, "=e*", 'Marktäckning 05-23'!$B$8:$B$87, $A$16))+(SUMIFS('Marktäckning 05-23'!F155:F234, [1]Data!#REF!, "=f*", 'Marktäckning 05-23'!$B$8:$B$87, $A$16))))/[1]Data!$B$16 -> #REF! | E163: =(SUMIFS('Marktäckning 05-23'!E8:E87,'Marktäckning 05-23'!$B$8:$B$87,$A$16))/[1]Data!$B$16 -> 0.5 | F163: =(SUMIFS('Marktäckning 05-23'!F8:F87,'Marktäckning 05-23'!$B$8:$B$87,$A$16))/[1]Data!$B$16 -> 0 | G163: =(SUMIFS('Marktäckning 05-23'!G8:G87,'Marktäckning 05-23'!$B$8:$B$87,$A$16))/[1]Data!$B$16 -> 4.375 | H163: =(SUMIFS('Marktäckning 05-23'!H8:H87,'Marktäckning 05-23'!$B$8:$B$87,$A$16))/[1]Data!$B$16 -> 0 | I163: =(SUMIFS('Marktäckning 05-23'!I8:I87,'Marktäckning 05-23'!$B$8:$B$87,$A$16))/[1]Data!$B$16 -> 0 | J163: =(SUMIFS('Marktäckning 05-23'!J8:J87,'Marktäckning 05-23'!$B$8:$B$87,$A$16))/[1]Data!$B$16 -> 0 | K163: =(SUMIFS('Marktäckning 05-23'!K8:K87,'Marktäckning 05-23'!$B$8:$B$87,$A$16))/[1]Data!$B$16 -> 10.75 | L163: =(SUMIFS('Marktäckning 05-23'!L8:L87,'Marktäckning 05-23'!$B$8:$B$87,$A$16))/[1]Data!$B$16 -> 0 | ... Z163: =(SUMIFS('Marktäckning 05-23'!Z8:Z87,'Marktäckning 05-23'!$B$8:$B$87,$A$16))/[1]Data!$B$16 -> 0
A164: =[1]Data!A97 -> 10 | B164: =[1]Data!B244 -> 0 | C164: =(((SUMIFS('Marktäckning 05-23'!E155:E234, [1]Data!#REF!, "=a*", 'Marktäckning 05-23'!$B$8:$B$87,$A$17))+(SUMIFS('Marktäckning 05-23'!E155:E234, [1]Data!#REF!, "=b*", 'Marktäckning 05-23'!$B$8:$B$87, $A$17))+(SUMIFS('Marktäckning 05-23'!E155:E234, [1]Data!#REF!, "=c*", 'Marktäckning 05-23'!$B$8:$B$87, $A$17))+(SUMIFS('Marktäckning 05-23'!E155:E234, [1]Data!#REF!, "=d*", 'Marktäckning 05-23'!$B$8:$B$87, $A$17))+(SUMIFS('Marktäckning 05-23'!E155:E234, [1]Data!#REF!, "=e*", 'Marktäckning 05-23'!$B$8:$B$87, $A$17))+(SUMIFS('Marktäckning 05-23'!E155:E234, [1]Data!#REF!, "=f*", 'Marktäckning 05-23'!$B$8:$B$87, $A$17))))/[1]Data!$B$16 -> #REF! | D164: =(((SUMIFS('Marktäckning 05-23'!F155:F234, [1]Data!#REF!, "=a*", 'Marktäckning 05-23'!$B$8:$B$87,$A$17))+(SUMIFS('Marktäckning 05-23'!F155:F234, [1]Data!#REF!, "=b*", 'Marktäckning 05-23'!$B$8:$B$87, $A$17))+(SUMIFS('Marktäckning 05-23'!F155:F234, [1]Data!#REF!, "=c*", 'Marktäckning 05-23'!$B$8:$B$87, $A$17))+(SUMIFS('Marktäckning 05-23'!F155:F234, [1]Data!#REF!, "=d*", 'Marktäckning 05-23'!$B$8:$B$87, $A$17))+(SUMIFS('Marktäckning 05-23'!F155:F234, [1]Data!#REF!, "=e*", 'Marktäckning 05-23'!$B$8:$B$87, $A$17))+(SUMIFS('Marktäckning 05-23'!F155:F234, [1]Data!#REF!, "=f*", 'Marktäckning 05-23'!$B$8:$B$87, $A$17))))/[1]Data!$B$16 -> #REF! | E164: =(SUMIFS('Marktäckning 05-23'!E8:E87,'Marktäckning 05-23'!$B$8:$B$87,$A$17))/[1]Data!$B$16 -> 0 | F164: =(SUMIFS('Marktäckning 05-23'!F8:F87,'Marktäckning 05-23'!$B$8:$B$87,$A$17))/[1]Data!$B$16 -> 0 | G164: =(SUMIFS('Marktäckning 05-23'!G8:G87,'Marktäckning 05-23'!$B$8:$B$87,$A$17))/[1]Data!$B$16 -> 0.5 | H164: =(SUMIFS('Marktäckning 05-23'!H8:H87,'Marktäckning 05-23'!$B$8:$B$87,$A$17))/[1]Data!$B$16 -> 0 | I164: =(SUMIFS('Marktäckning 05-23'!I8:I87,'Marktäckning 05-23'!$B$8:$B$87,$A$17))/[1]Data!$B$16 -> 0 | J164: =(SUMIFS('Marktäckning 05-23'!J8:J87,'Marktäckning 05-23'!$B$8:$B$87,$A$17))/[1]Data!$B$16 -> 0 | K164: =(SUMIFS('Marktäckning 05-23'!K8:K87,'Marktäckning 05-23'!$B$8:$B$87,$A$17))/[1]Data!$B$16 -> 2.375 | L164: =(SUMIFS('Marktäckning 05-23'!L8:L87,'Marktäckning 05-23'!$B$8:$B$87,$A$17))/[1]Data!$B$16 -> 0 | ... Z164: =(SUMIFS('Marktäckning 05-23'!Z8:Z87,'Marktäckning 05-23'!$B$8:$B$87,$A$17))/[1]Data!$B$16 -> 0
A165: =[1]Data!A98 -> 11 | B165: =[1]Data!B245 -> 0 | C165: =(((SUMIFS('Marktäckning 05-23'!E155:E234, [1]Data!#REF!, "=a*", 'Marktäckning 05-23'!$B$8:$B$87,$A$18))+(SUMIFS('Marktäckning 05-23'!E155:E234, [1]Data!#REF!, "=b*", 'Marktäckning 05-23'!$B$8:$B$87, $A$18))+(SUMIFS('Marktäckning 05-23'!E155:E234, [1]Data!#REF!, "=c*", 'Marktäckning 05-23'!$B$8:$B$87, $A$18))+(SUMIFS('Marktäckning 05-23'!E155:E234, [1]Data!#REF!, "=d*", 'Marktäckning 05-23'!$B$8:$B$87, $A$18))+(SUMIFS('Marktäckning 05-23'!E155:E234, [1]Data!#REF!, "=e*", 'Marktäckning 05-23'!$B$8:$B$87, $A$18))+(SUMIFS('Marktäckning 05-23'!E155:E234, [1]Data!#REF!, "=f*", 'Marktäckning 05-23'!$B$8:$B$87, $A$18))))/[1]Data!$B$16 -> #REF! | D165: =(((SUMIFS('Marktäckning 05-23'!F155:F234, [1]Data!#REF!, "=a*", 'Marktäckning 05-23'!$B$8:$B$87,$A$18))+(SUMIFS('Marktäckning 05-23'!F155:F234, [1]Data!#REF!, "=b*", 'Marktäckning 05-23'!$B$8:$B$87, $A$18))+(SUMIFS('Marktäckning 05-23'!F155:F234, [1]Data!#REF!, "=c*", 'Marktäckning 05-23'!$B$8:$B$87, $A$18))+(SUMIFS('Marktäckning 05-23'!F155:F234, [1]Data!#REF!, "=d*", 'Marktäckning 05-23'!$B$8:$B$87, $A$18))+(SUMIFS('Marktäckning 05-23'!F155:F234, [1]Data!#REF!, "=e*", 'Marktäckning 05-23'!$B$8:$B$87, $A$18))+(SUMIFS('Marktäckning 05-23'!F155:F234, [1]Data!#REF!, "=f*", 'Marktäckning 05-23'!$B$8:$B$87, $A$18))))/[1]Data!$B$16 -> #REF! | E165: =(SUMIFS('Marktäckning 05-23'!E8:E87,'Marktäckning 05-23'!$B$8:$B$87,$A$18))/[1]Data!$B$16 -> 0 | F165: =(SUMIFS('Marktäckning 05-23'!F8:F87,'Marktäckning 05-23'!$B$8:$B$87,$A$18))/[1]Data!$B$16 -> 0 | G165: =(SUMIFS('Marktäckning 05-23'!G8:G87,'Marktäckning 05-23'!$B$8:$B$87,$A$18))/[1]Data!$B$16 -> 0 | H165: =(SUMIFS('Marktäckning 05-23'!H8:H87,'Marktäckning 05-23'!$B$8:$B$87,$A$18))/[1]Data!$B$16 -> 0 | I165: =(SUMIFS('Marktäckning 05-23'!I8:I87,'Marktäckning 05-23'!$B$8:$B$87,$A$18))/[1]Data!$B$16 -> 0 | J165: =(SUMIFS('Marktäckning 05-23'!J8:J87,'Marktäckning 05-23'!$B$8:$B$87,$A$18))/[1]Data!$B$16 -> 0 | K165: =(SUMIFS('Marktäckning 05-23'!K8:K87,'Marktäckning 05-23'!$B$8:$B$87,$A$18))/[1]Data!$B$16 -> 0 | L165: =(SUMIFS('Marktäckning 05-23'!L8:L87,'Marktäckning 05-23'!$B$8:$B$87,$A$18))/[1]Data!$B$16 -> 0 | ... Z165: =(SUMIFS('Marktäckning 05-23'!Z8:Z87,'Marktäckning 05-23'!$B$8:$B$87,$A$18))/[1]Data!$B$16 -> 0
A166: =[1]Data!A99 -> 12 | B166: =[1]Data!B246 -> 0 | C166: =(((SUMIFS('Marktäckning 05-23'!E155:E234, [1]Data!#REF!, "=a*", 'Marktäckning 05-23'!$B$8:$B$87,$A$19))+(SUMIFS('Marktäckning 05-23'!E155:E234, [1]Data!#REF!, "=b*", 'Marktäckning 05-23'!$B$8:$B$87, $A$19))+(SUMIFS('Marktäckning 05-23'!E155:E234, [1]Data!#REF!, "=c*", 'Marktäckning 05-23'!$B$8:$B$87, $A$19))+(SUMIFS('Marktäckning 05-23'!E155:E234, [1]Data!#REF!, "=d*", 'Marktäckning 05-23'!$B$8:$B$87, $A$19))+(SUMIFS('Marktäckning 05-23'!E155:E234, [1]Data!#REF!, "=e*", 'Marktäckning 05-23'!$B$8:$B$87, $A$19))+(SUMIFS('Marktäckning 05-23'!E155:E234, [1]Data!#REF!, "=f*", 'Marktäckning 05-23'!$B$8:$B$87, $A$19))))/[1]Data!$B$16 -> #REF! | D166: =(((SUMIFS('Marktäckning 05-23'!F155:F234, [1]Data!#REF!, "=a*", 'Marktäckning 05-23'!$B$8:$B$87,$A$19))+(SUMIFS('Marktäckning 05-23'!F155:F234, [1]Data!#REF!, "=b*", 'Marktäckning 05-23'!$B$8:$B$87, $A$19))+(SUMIFS('Marktäckning 05-23'!F155:F234, [1]Data!#REF!, "=c*", 'Marktäckning 05-23'!$B$8:$B$87, $A$19))+(SUMIFS('Marktäckning 05-23'!F155:F234, [1]Data!#REF!, "=d*", 'Marktäckning 05-23'!$B$8:$B$87, $A$19))+(SUMIFS('Marktäckning 05-23'!F155:F234, [1]Data!#REF!, "=e*", 'Marktäckning 05-23'!$B$8:$B$87, $A$19))+(SUMIFS('Marktäckning 05-23'!F155:F234, [1]Data!#REF!, "=f*", 'Marktäckning 05-23'!$B$8:$B$87, $A$19))))/[1]Data!$B$16 -> #REF! | E166: =(SUMIFS('Marktäckning 05-23'!E8:E87,'Marktäckning 05-23'!$B$8:$B$87,$A$19))/[1]Data!$B$16 -> 0 | F166: =(SUMIFS('Marktäckning 05-23'!F8:F87,'Marktäckning 05-23'!$B$8:$B$87,$A$19))/[1]Data!$B$16 -> 0 | G166: =(SUMIFS('Marktäckning 05-23'!G8:G87,'Marktäckning 05-23'!$B$8:$B$87,$A$19))/[1]Data!$B$16 -> 0 | H166: =(SUMIFS('Marktäckning 05-23'!H8:H87,'Marktäckning 05-23'!$B$8:$B$87,$A$19))/[1]Data!$B$16 -> 0 | I166: =(SUMIFS('Marktäckning 05-23'!I8:I87,'Marktäckning 05-23'!$B$8:$B$87,$A$19))/[1]Data!$B$16 -> 0 | J166: =(SUMIFS('Marktäckning 05-23'!J8:J87,'Marktäckning 05-23'!$B$8:$B$87,$A$19))/[1]Data!$B$16 -> 0 | K166: =(SUMIFS('Marktäckning 05-23'!K8:K87,'Marktäckning 05-23'!$B$8:$B$87,$A$19))/[1]Data!$B$16 -> 0 | L166: =(SUMIFS('Marktäckning 05-23'!L8:L87,'Marktäckning 05-23'!$B$8:$B$87,$A$19))/[1]Data!$B$16 -> 0 | ... Z166: =(SUMIFS('Marktäckning 05-23'!Z8:Z87,'Marktäckning 05-23'!$B$8:$B$87,$A$19))/[1]Data!$B$16 -> 0
A167: =[1]Data!A100 -> 13 | B167: =[1]Data!B247 -> 0 | C167: =(((SUMIFS('Marktäckning 05-23'!$E$8:$E$87, [1]Data!#REF!, "=a*", 'Marktäckning 05-23'!$B$8:$B$87,A167))+(SUMIFS('Marktäckning 05-23'!$E$8:$E$87, [1]Data!#REF!, "=b*", 'Marktäckning 05-23'!$B$8:$B$87, A167))+(SUMIFS('Marktäckning 05-23'!$E$8:$E$87, [1]Data!#REF!, "=c*", 'Marktäckning 05-23'!$B$8:$B$87, A167))+(SUMIFS('Marktäckning 05-23'!$E$8:$E$87, [1]Data!#REF!, "=d*", 'Marktäckning 05-23'!$B$8:$B$87, A167))+(SUMIFS('Marktäckning 05-23'!$E$8:$E$87, [1]Data!#REF!, "=e*", 'Marktäckning 05-23'!$B$8:$B$87, A167))+(SUMIFS('Marktäckning 05-23'!$E$8:$E$87, [1]Data!#REF!, "=f*", 'Marktäckning 05-23'!$B$8:$B$87, A167))))/[1]Data!$B$16 -> #REF! | D167: =(((SUMIFS('Marktäckning 05-23'!$F$8:$F$87, [1]Data!#REF!, "=a*", 'Marktäckning 05-23'!$B$8:$B$87,A167))+(SUMIFS('Marktäckning 05-23'!$F$8:$F$87, [1]Data!#REF!, "=b*", 'Marktäckning 05-23'!$B$8:$B$87, A167))+(SUMIFS('Marktäckning 05-23'!$F$8:$F$87, [1]Data!#REF!, "=c*", 'Marktäckning 05-23'!$B$8:$B$87, A167))+(SUMIFS('Marktäckning 05-23'!$F$8:$F$87, [1]Data!#REF!, "=d*", 'Marktäckning 05-23'!$B$8:$B$87, A167))+(SUMIFS('Marktäckning 05-23'!$F$8:$F$87, [1]Data!#REF!, "=e*", 'Marktäckning 05-23'!$B$8:$B$87, A167))+(SUMIFS('Marktäckning 05-23'!$F$8:$F$87, [1]Data!#REF!, "=f*", 'Marktäckning 05-23'!$B$8:$B$87, A167))))/[1]Data!$B$16 -> #REF! | E167: =(SUMIFS('Marktäckning 05-23'!E8:E87,'Marktäckning 05-23'!$B$8:$B$87,$A$20))/[1]Data!$B$16 -> 0 | F167: =(SUMIFS('Marktäckning 05-23'!F8:F87,'Marktäckning 05-23'!$B$8:$B$87,$A$20))/[1]Data!$B$16 -> 0 | G167: =(SUMIFS('Marktäckning 05-23'!G8:G87,'Marktäckning 05-23'!$B$8:$B$87,$A$20))/[1]Data!$B$16 -> 0 | H167: =(SUMIFS('Marktäckning 05-23'!H8:H87,'Marktäckning 05-23'!$B$8:$B$87,$A$20))/[1]Data!$B$16 -> 0 | I167: =(SUMIFS('Marktäckning 05-23'!I8:I87,'Marktäckning 05-23'!$B$8:$B$87,$A$20))/[1]Data!$B$16 -> 0 | J167: =(SUMIFS('Marktäckning 05-23'!J8:J87,'Marktäckning 05-23'!$B$8:$B$87,$A$20))/[1]Data!$B$16 -> 0 | K167: =(SUMIFS('Marktäckning 05-23'!K8:K87,'Marktäckning 05-23'!$B$8:$B$87,$A$20))/[1]Data!$B$16 -> 0 | L167: =(SUMIFS('Marktäckning 05-23'!L8:L87,'Marktäckning 05-23'!$B$8:$B$87,$A$20))/[1]Data!$B$16 -> 0 | ... Z167: =(SUMIFS('Marktäckning 05-23'!Z8:Z87,'Marktäckning 05-23'!$B$8:$B$87,$A$20))/[1]Data!$B$16 -> 0
A168: =[1]Data!A101 -> 14 | B168: =[1]Data!B248 -> 0 | C168: =(((SUMIFS('Marktäckning 05-23'!$E$8:$E$87, [1]Data!#REF!, "=a*", 'Marktäckning 05-23'!$B$8:$B$87,A168))+(SUMIFS('Marktäckning 05-23'!$E$8:$E$87, [1]Data!#REF!, "=b*", 'Marktäckning 05-23'!$B$8:$B$87, A168))+(SUMIFS('Marktäckning 05-23'!$E$8:$E$87, [1]Data!#REF!, "=c*", 'Marktäckning 05-23'!$B$8:$B$87, A168))+(SUMIFS('Marktäckning 05-23'!$E$8:$E$87, [1]Data!#REF!, "=d*", 'Marktäckning 05-23'!$B$8:$B$87, A168))+(SUMIFS('Marktäckning 05-23'!$E$8:$E$87, [1]Data!#REF!, "=e*", 'Marktäckning 05-23'!$B$8:$B$87, A168))+(SUMIFS('Marktäckning 05-23'!$E$8:$E$87, [1]Data!#REF!, "=f*", 'Marktäckning 05-23'!$B$8:$B$87, A168))))/[1]Data!$B$16 -> #REF! | D168: =(((SUMIFS('Marktäckning 05-23'!$F$8:$F$87, [1]Data!#REF!, "=a*", 'Marktäckning 05-23'!$B$8:$B$87,A168))+(SUMIFS('Marktäckning 05-23'!$F$8:$F$87, [1]Data!#REF!, "=b*", 'Marktäckning 05-23'!$B$8:$B$87, A168))+(SUMIFS('Marktäckning 05-23'!$F$8:$F$87, [1]Data!#REF!, "=c*", 'Marktäckning 05-23'!$B$8:$B$87, A168))+(SUMIFS('Marktäckning 05-23'!$F$8:$F$87, [1]Data!#REF!, "=d*", 'Marktäckning 05-23'!$B$8:$B$87, A168))+(SUMIFS('Marktäckning 05-23'!$F$8:$F$87, [1]Data!#REF!, "=e*", 'Marktäckning 05-23'!$B$8:$B$87, A168))+(SUMIFS('Marktäckning 05-23'!$F$8:$F$87, [1]Data!#REF!, "=f*", 'Marktäckning 05-23'!$B$8:$B$87, A168))))/[1]Data!$B$16 -> #REF! | E168: =(SUMIFS('Marktäckning 05-23'!E8:E87,'Marktäckning 05-23'!$B$8:$B$87,$A$21))/[1]Data!$B$16 -> 0 | F168: =(SUMIFS('Marktäckning 05-23'!F8:F87,'Marktäckning 05-23'!$B$8:$B$87,$A$21))/[1]Data!$B$16 -> 0 | G168: =(SUMIFS('Marktäckning 05-23'!G8:G87,'Marktäckning 05-23'!$B$8:$B$87,$A$21))/[1]Data!$B$16 -> 0 | H168: =(SUMIFS('Marktäckning 05-23'!H8:H87,'Marktäckning 05-23'!$B$8:$B$87,$A$21))/[1]Data!$B$16 -> 0 | I168: =(SUMIFS('Marktäckning 05-23'!I8:I87,'Marktäckning 05-23'!$B$8:$B$87,$A$21))/[1]Data!$B$16 -> 0 | J168: =(SUMIFS('Marktäckning 05-23'!J8:J87,'Marktäckning 05-23'!$B$8:$B$87,$A$21))/[1]Data!$B$16 -> 0 | K168: =(SUMIFS('Marktäckning 05-23'!K8:K87,'Marktäckning 05-23'!$B$8:$B$87,$A$21))/[1]Data!$B$16 -> 0 | L168: =(SUMIFS('Marktäckning 05-23'!L8:L87,'Marktäckning 05-23'!$B$8:$B$87,$A$21))/[1]Data!$B$16 -> 0 | ... Z168: =(SUMIFS('Marktäckning 05-23'!Z8:Z87,'Marktäckning 05-23'!$B$8:$B$87,$A$21))/[1]Data!$B$16 -> 0
...

Sheet Effekt 05-23
F1: ADB nr.: | G1: =[1]Data!$B$6 -> 0568970 | I1: Plan nr: | J1: =[1]Data!$B$4 -> L5-8010P | M1: Försöks nr.: | N1: =[1]Data!$B$5 -> I-970-2022 | Q1: ADB nr.: | R1: =[1]Data!$B$6 -> 0568970 | T1: Plan nr: | U1: =[1]Data!$B$4 -> L5-8010P | X1: Försöks nr.: | Y1: =[1]Data!$B$5 -> I-970-2022
A2: Effektgradering
A3: Tidpunkt
A4: Utveckling, gröda
A5: Datum | E5: 45069
A6: Kod | D6: --> | E6: ='[1]Effekt 10-29'!E6 -> Effekt totalt | F6: ='[1]Effekt 10-29'!F6 -> Effekt kornvallmo | J6: ='[1]Effekt 10-29'!J6 -> Effekt Våtarv | K6: Effekt Viol | L6: ='[1]Effekt 10-29'!L6 -> h | M6: ='[1]Effekt 10-29'!M6 -> i | N6: ='[1]Effekt 10-29'!N6 -> j | O6: ='[1]Effekt 10-29'!O6 -> k | P6: ='[1]Effekt 10-29'!P6 -> l | Q6: ='[1]Effekt 10-29'!Q6 -> m | R6: ='[1]Effekt 10-29'!R6 -> n | S6: ='[1]Effekt 10-29'!S6 -> o | ... Z6: ='[1]Effekt 10-29'!Z6 -> v
A7: Ruta | B7: Led | C7: Led | D7: Block | E7: 1 | F7: 2 | G7: 3 | H7: 4 | I7: 5 | J7: 6 | K7: 7 | L7: 8 | M7: 9 | N7: 10 | O7: 11 | P7: 12 | Q7: 13 | R7: 14 | S7: 15 | T7: 16 | U7: 17 | V7: 18 | W7: 19 | X7: 20 | Y7: 21 | Z7: 22
A8: 1 | B8: =[1]Data!G5 -> 9 | C8: =[1]Data!#REF! -> #REF! | D8: =[1]Data!H5 -> 1 | E8: 88 | F8: 100 | J8: 85 | K8: 0
A9: 2 | B9: =[1]Data!G6 -> 6 | C9: =[1]Data!#REF! -> #REF! | D9: =[1]Data!H6 -> 1 | E9: 96 | F9: 100 | J9: 100 | K9: 0
A10: 3 | B10: =[1]Data!G7 -> 3 | C10: =[1]Data!#REF! -> #REF! | D10: =[1]Data!H7 -> 1 | E10: 94 | F10: 100 | J10: 100 | K10: 0
A11: 4 | B11: =[1]Data!G8 -> 1 | C11: =[1]Data!#REF! -> #REF! | D11: =[1]Data!H8 -> 1
A12: 5 | B12: =[1]Data!G9 -> 7 | C12: =[1]Data!#REF! -> #REF! | D12: =[1]Data!H9 -> 1 | E12: 65 | F12: 86 | J12: 30 | K12: 0
A13: 6 | B13: =[1]Data!G10 -> 2 | C13: =[1]Data!#REF! -> #REF! | D13: =[1]Data!H10 -> 1 | E13: 95 | F13: 99 | J13: 100 | K13: 65
A14: 7 | B14: =[1]Data!G11 -> 5 | C14: =[1]Data!#REF! -> #REF! | D14: =[1]Data!H11 -> 1 | E14: 96 | F14: 100 | J14: 100 | K14: 0
A15: 8 | B15: =[1]Data!G12 -> 4 | C15: =[1]Data!#REF! -> #REF! | D15: =[1]Data!H12 -> 1 | E15: 80 | F15: 70 | J15: 100 | K15: 0
A16: 9 | B16: =[1]Data!G13 -> 10 | C16: =[1]Data!#REF! -> #REF! | D16: =[1]Data!H13 -> 1 | E16: 90 | F16: 100 | J16: 100 | K16: 98
A17: 10 | B17: =[1]Data!G14 -> 8 | C17: =[1]Data!#REF! -> #REF! | D17: =[1]Data!H14 -> 1 | E17: 95 | F17: 100 | J17: 99 | K17: 93
A18: 11 | B18: =[1]Data!G15 -> 1 | C18: =[1]Data!#REF! -> #REF! | D18: =[1]Data!H15 -> 2
A19: 12 | B19: =[1]Data!G16 -> 6 | C19: =[1]Data!#REF! -> #REF! | D19: =[1]Data!H16 -> 2 | E19: 90 | F19: 100 | J19: 100 | K19: 65
A20: 13 | B20: =[1]Data!G17 -> 4 | C20: =[1]Data!#REF! -> #REF! | D20: =[1]Data!H17 -> 2 | E20: 20 | F20: 0 | J20: 100 | K20: 0
A21: 14 | B21: =[1]Data!G18 -> 8 | C21: =[1]Data!#REF! -> #REF! | D21: =[1]Data!H18 -> 2 | E21: 85 | F21: 100 | J21: 85 | K21: 65
A22: 15 | B22: =[1]Data!G19 -> 5 | C22: =[1]Data!#REF! -> #REF! | D22: =[1]Data!H19 -> 2 | E22: 95 | F22: 98 | J22: 100 | K22: 0
A23: 16 | B23: =[1]Data!G20 -> 7 | C23: =[1]Data!#REF! -> #REF! | D23: =[1]Data!H20 -> 2 | E23: 0 | F23: 0 | J23: 0 | K23: 0
A24: 17 | B24: =[1]Data!G21 -> 9 | C24: =[1]Data!#REF! -> #REF! | D24: =[1]Data!H21 -> 2 | E24: 75 | F24: 30 | J24: 98 | K24: 0
A25: 18 | B25: =[1]Data!G22 -> 3 | C25: =[1]Data!#REF! -> #REF! | D25: =[1]Data!H22 -> 2 | E25: 95 | F25: 100 | J25: 100 | K25: 0
A26: 19 | B26: =[1]Data!G23 -> 2 | C26: =[1]Data!#REF! -> #REF! | D26: =[1]Data!H23 -> 2 | E26: 75 | F26: 30 | J26: 100 | K26: 0
A27: 20 | B27: =[1]Data!G24 -> 10 | C27: =[1]Data!#REF! -> #REF! | D27: =[1]Data!H24 -> 2 | E27: 95 | F27: 100 | J27: 100 | K27: 93
A28: 21 | B28: =[1]Data!G25 -> 8 | C28: =[1]Data!#REF! -> #REF! | D28: =[1]Data!H25 -> 3 | E28: 93 | F28: 100 | J28: 96 | K28: 0
A29: 22 | B29: =[1]Data!G26 -> 9 | C29: =[1]Data!#REF! -> #REF! | D29: =[1]Data!H26 -> 3 | E29: 94 | F29: 100 | J29: 96 | K29: 0
A30: 23 | B30: =[1]Data!G27 -> 4 | C30: =[1]Data!#REF! -> #REF! | D30: =[1]Data!H27 -> 3 | E30: 20 | F30: 0 | J30: 100 | K30: 0
... A36: 29 | B36: =[1]Data!G33 -> 7 | C36: =[1]Data!#REF! -> #REF! | D36: =[1]Data!H33 -> 3 | E36: 35 | F36: 50 | J36: 65 | K36: 0
A37: 30 | B37: =[1]Data!G34 -> 1 | C37: =[1]Data!#REF! -> #REF! | D37: =[1]Data!H34 -> 3
A38: 31 | B38: =[1]Data!G35 -> 9 | C38: =[1]Data!#REF! -> #REF! | D38: =[1]Data!H35 -> 4 | E38: 75 | F38: 100 | J38: 65 | K38: 65
A39: 32 | B39: =[1]Data!G36 -> 5 | C39: =[1]Data!#REF! -> #REF! | D39: =[1]Data!H36 -> 4 | E39: 90 | F39: 100 | J39: 100 | K39: 0
A40: 33 | B40: =[1]Data!G37 -> 6 | C40: =[1]Data!#REF! -> #REF! | D40: =[1]Data!H37 -> 4 | E40: 95 | F40: 100 | J40: 100 | K40: 30
A41: 34 | B41: =[1]Data!G38 -> 10 | C41: =[1]Data!#REF! -> #REF! | D41: =[1]Data!H38 -> 4 | E41: 85 | F41: 100 | J41: 85 | K41: 60
A42: 35 | B42: =[1]Data!G39 -> 3 | C42: =[1]Data!#REF! -> #REF! | D42: =[1]Data!H39 -> 4 | E42: 93 | F42: 100 | J42: 100 | K42: 0
A43: 36 | B43: =[1]Data!G40 -> 1 | C43: =[1]Data!#REF! -> #REF! | D43: =[1]Data!H40 -> 4
A44: 37 | B44: =[1]Data!G41 -> 7 | C44: =[1]Data!#REF! -> #REF! | D44: =[1]Data!H41 -> 4 | E44: 0 | F44: 0 | J44: 0 | K44: 0
A45: 38 | B45: =[1]Data!G42 -> 2 | C45: =[1]Data!#REF! -> #REF! | D45: =[1]Data!H42 -> 4 | E45: 65 | F45: 50 | J45: 100 | K45: 0
A46: 39 | B46: =[1]Data!G43 -> 4 | C46: =[1]Data!#REF! -> #REF! | D46: =[1]Data!H43 -> 4 | E46: 40 | F46: 30 | J46: 100 | K46: 60
A47: 40 | B47: =[1]Data!G44 -> 8 | C47: =[1]Data!#REF! -> #REF! | D47: =[1]Data!H44 -> 4 | E47: 35 | F47: 100 | J47: 95 | K47: 60
A48: 41 | B48: =[1]Data!G45 -> 0 | C48: =[1]Data!#REF! -> #REF! | D48: =[1]Data!H45 -> 0 | J48: 100 | K48: 0
A49: 42 | B49: =[1]Data!G46 -> 0 | C49: =[1]Data!#REF! -> #REF! | D49: =[1]Data!H46 -> 0 | J49: 100 | K49: 0
A50: 43 | B50: =[1]Data!G47 -> 0 | C50: =[1]Data!#REF! -> #REF! | D50: =[1]Data!H47 -> 0 | J50: 100 | K50: 0
A51: 44 | B51: =[1]Data!G48 -> 0 | C51: =[1]Data!#REF! -> #REF! | D51: =[1]Data!H48 -> 0 | J51: 100 | K51: 0
A52: 45 | B52: =[1]Data!G49 -> 0 | C52: =[1]Data!#REF! -> #REF! | D52: =[1]Data!H49 -> 0 | J52: 100 | K52: 0
A53: 46 | B53: =[1]Data!G50 -> 0 | C53: =[1]Data!#REF! -> #REF! | D53: =[1]Data!H50 -> 0 | J53: 100 | K53: 0
A54: 47 | B54: =[1]Data!G51 -> 0 | C54: =[1]Data!#REF! -> #REF! | D54: =[1]Data!H51 -> 0 | J54: 100 | K54: 0
A55: 48 | B55: =[1]Data!G52 -> 0 | C55: =[1]Data!#REF! -> #REF! | D55: =[1]Data!H52 -> 0 | J55: 100 | K55: 0
A56: 49 | B56: =[1]Data!G53 -> 0 | C56: =[1]Data!#REF! -> #REF! | D56: =[1]Data!H53 -> 0 | J56: 100 | K56: 0
A57: 50 | B57: =[1]Data!G54 -> 0 | C57: =[1]Data!#REF! -> #REF! | D57: =[1]Data!H54 -> 0 | J57: 100 | K57: 0
A58: 51 | B58: =[1]Data!G55 -> 0 | C58: =[1]Data!#REF! -> #REF! | D58: =[1]Data!H55 -> 0 | J58: 100 | K58: 0
A59: 52 | B59: =[1]Data!G56 -> 0 | C59: =[1]Data!#REF! -> #REF! | D59: =[1]Data!H56 -> 0 | J59: 100 | K59: 0
... A87: 80 | B87: =[1]Data!G84 -> 0 | C87: =[1]Data!#REF! -> #REF! | D87: =[1]Data!H84 -> 0 | J87: 100 | K87: 0
B88: =[1]Data!A88 -> 1 | F88: =((SUMSQ(SUMIFS(F8:F87,$B$8:$B$87,$B$88))))/$B$109 -> 0 | G88: =((SUMSQ(SUMIFS(G8:G87,$B$8:$B$87,$B$88))))/$B$109 -> 0 | H88: =((SUMSQ(SUMIFS(H8:H87,$B$8:$B$87,$B$88))))/$B$109 -> 0 | I88: =((SUMSQ(SUMIFS(I8:I87,$B$8:$B$87,$B$88))))/$B$109 -> 0 | J88: =((SUMSQ(SUMIFS(J8:J87,$B$8:$B$87,$B$88))))/$B$109 -> 0 | K88: =((SUMSQ(SUMIFS(K8:K87,$B$8:$B$87,$B$88))))/$B$109 -> 0 | L88: =((SUMSQ(SUMIFS(L8:L87,$B$8:$B$87,$B$88))))/$B$109 -> 0 | M88: =((SUMSQ(SUMIFS(M8:M87,$B$8:$B$87,$B$88))))/$B$109 -> 0 | ... Z88: =((SUMSQ(SUMIFS(Z8:Z87,$B$8:$B$87,$B$88))))/$B$109 -> 0
B89: =[1]Data!A89 -> 2 | F89: =((SUMSQ(SUMIFS(F8:F87,$B$8:$B$87,$B$89))))/$B$109 -> 11449 | G89: =((SUMSQ(SUMIFS(G8:G87,$B$8:$B$87,$B$89))))/$B$109 -> 0 | H89: =((SUMSQ(SUMIFS(H8:H87,$B$8:$B$87,$B$89))))/$B$109 -> 0 | I89: =((SUMSQ(SUMIFS(I8:I87,$B$8:$B$87,$B$89))))/$B$109 -> 0 | J89: =((SUMSQ(SUMIFS(J8:J87,$B$8:$B$87,$B$89))))/$B$109 -> 40000 | K89: =((SUMSQ(SUMIFS(K8:K87,$B$8:$B$87,$B$89))))/$B$109 -> 1056.25 | L89: =((SUMSQ(SUMIFS(L8:L87,$B$8:$B$87,$B$89))))/$B$109 -> 0 | M89: =((SUMSQ(SUMIFS(M8:M87,$B$8:$B$87,$B$89))))/$B$109 -> 0 | ... Z89: =((SUMSQ(SUMIFS(Z8:Z87,$B$8:$B$87,$B$89))))/$B$109 -> 0
B90: =[1]Data!A90 -> 3 | F90: =((SUMSQ(SUMIFS(F8:F87,$B$8:$B$87,$B$90))))/$B$109 -> 40000 | G90: =((SUMSQ(SUMIFS(G8:G87,$B$8:$B$87,$B$90))))/$B$109 -> 0 | H90: =((SUMSQ(SUMIFS(H8:H87,$B$8:$B$87,$B$90))))/$B$109 -> 0 | I90: =((SUMSQ(SUMIFS(I8:I87,$B$8:$B$87,$B$90))))/$B$109 -> 0 | J90: =((SUMSQ(SUMIFS(J8:J87,$B$8:$B$87,$B$90))))/$B$109 -> 40000 | K90: =((SUMSQ(SUMIFS(K8:K87,$B$8:$B$87,$B$90))))/$B$109 -> 0 | L90: =((SUMSQ(SUMIFS(L8:L87,$B$8:$B$87,$B$90))))/$B$109 -> 0 | M90: =((SUMSQ(SUMIFS(M8:M87,$B$8:$B$87,$B$90))))/$B$109 -> 0 | ... Z90: =((SUMSQ(SUMIFS(Z8:Z87,$B$8:$B$87,$B$90))))/$B$109 -> 0
B91: =[1]Data!A91 -> 4 | F91: =((SUMSQ(SUMIFS(F8:F87,$B$8:$B$87,$B$91))))/$B$109 -> 2500 | G91: =((SUMSQ(SUMIFS(G8:G87,$B$8:$B$87,$B$91))))/$B$109 -> 0 | H91: =((SUMSQ(SUMIFS(H8:H87,$B$8:$B$87,$B$91))))/$B$109 -> 0 | I91: =((SUMSQ(SUMIFS(I8:I87,$B$8:$B$87,$B$91))))/$B$109 -> 0 | J91: =((SUMSQ(SUMIFS(J8:J87,$B$8:$B$87,$B$91))))/$B$109 -> 40000 | K91: =((SUMSQ(SUMIFS(K8:K87,$B$8:$B$87,$B$91))))/$B$109 -> 900 | L91: =((SUMSQ(SUMIFS(L8:L87,$B$8:$B$87,$B$91))))/$B$109 -> 0 | M91: =((SUMSQ(SUMIFS(M8:M87,$B$8:$B$87,$B$91))))/$B$109 -> 0 | ... Z91: =((SUMSQ(SUMIFS(Z8:Z87,$B$8:$B$87,$B$91))))/$B$109 -> 0
B92: =[1]Data!A92 -> 5 | F92: =((SUMSQ(SUMIFS(F8:F87,$B$8:$B$87,$B$92))))/$B$109 -> 39204 | G92: =((SUMSQ(SUMIFS(G8:G87,$B$8:$B$87,$B$92))))/$B$109 -> 0 | H92: =((SUMSQ(SUMIFS(H8:H87,$B$8:$B$87,$B$92))))/$B$109 -> 0 | I92: =((SUMSQ(SUMIFS(I8:I87,$B$8:$B$87,$B$92))))/$B$109 -> 0 | J92: =((SUMSQ(SUMIFS(J8:J87,$B$8:$B$87,$B$92))))/$B$109 -> 40000 | K92: =((SUMSQ(SUMIFS(K8:K87,$B$8:$B$87,$B$92))))/$B$109 -> 0 | L92: =((SUMSQ(SUMIFS(L8:L87,$B$8:$B$87,$B$92))))/$B$109 -> 0 | M92: =((SUMSQ(SUMIFS(M8:M87,$B$8:$B$87,$B$92))))/$B$109 -> 0 | ... Z92: =((SUMSQ(SUMIFS(Z8:Z87,$B$8:$B$87,$B$92))))/$B$109 -> 0
B93: =[1]Data!A93 -> 6 | F93: =((SUMSQ(SUMIFS(F8:F87,$B$8:$B$87,$B$93))))/$B$109 -> 40000 | G93: =((SUMSQ(SUMIFS(G8:G87,$B$8:$B$87,$B$93))))/$B$109 -> 0 | H93: =((SUMSQ(SUMIFS(H8:H87,$B$8:$B$87,$B$93))))/$B$109 -> 0 | I93: =((SUMSQ(SUMIFS(I8:I87,$B$8:$B$87,$B$93))))/$B$109 -> 0 | J93: =((SUMSQ(SUMIFS(J8:J87,$B$8:$B$87,$B$93))))/$B$109 -> 40000 | K93: =((SUMSQ(SUMIFS(K8:K87,$B$8:$B$87,$B$93))))/$B$109 -> 6400 | L93: =((SUMSQ(SUMIFS(L8:L87,$B$8:$B$87,$B$93))))/$B$109 -> 0 | M93: =((SUMSQ(SUMIFS(M8:M87,$B$8:$B$87,$B$93))))/$B$109 -> 0 | ... Z93: =((SUMSQ(SUMIFS(Z8:Z87,$B$8:$B$87,$B$93))))/$B$109 -> 0
B94: =[1]Data!A94 -> 7 | F94: =((SUMSQ(SUMIFS(F8:F87,$B$8:$B$87,$B$94))))/$B$109 -> 4624 | G94: =((SUMSQ(SUMIFS(G8:G87,$B$8:$B$87,$B$94))))/$B$109 -> 0 | H94: =((SUMSQ(SUMIFS(H8:H87,$B$8:$B$87,$B$94))))/$B$109 -> 0 | I94: =((SUMSQ(SUMIFS(I8:I87,$B$8:$B$87,$B$94))))/$B$109 -> 0 | J94: =((SUMSQ(SUMIFS(J8:J87,$B$8:$B$87,$B$94))))/$B$109 -> 2256.25 | K94: =((SUMSQ(SUMIFS(K8:K87,$B$8:$B$87,$B$94))))/$B$109 -> 0 | L94: =((SUMSQ(SUMIFS(L8:L87,$B$8:$B$87,$B$94))))/$B$109 -> 0 | M94: =((SUMSQ(SUMIFS(M8:M87,$B$8:$B$87,$B$94))))/$B$109 -> 0 | ... Z94: =((SUMSQ(SUMIFS(Z8:Z87,$B$8:$B$87,$B$94))))/$B$109 -> 0
B95: =[1]Data!A95 -> 8 | F95: =((SUMSQ(SUMIFS(F8:F87,$B$8:$B$87,$B$95))))/$B$109 -> 40000 | G95: =((SUMSQ(SUMIFS(G8:G87,$B$8:$B$87,$B$95))))/$B$109 -> 0 | H95: =((SUMSQ(SUMIFS(H8:H87,$B$8:$B$87,$B$95))))/$B$109 -> 0 | I95: =((SUMSQ(SUMIFS(I8:I87,$B$8:$B$87,$B$95))))/$B$109 -> 0 | J95: =((SUMSQ(SUMIFS(J8:J87,$B$8:$B$87,$B$95))))/$B$109 -> 35156.25 | K95: =((SUMSQ(SUMIFS(K8:K87,$B$8:$B$87,$B$95))))/$B$109 -> 11881 | L95: =((SUMSQ(SUMIFS(L8:L87,$B$8:$B$87,$B$95))))/$B$109 -> 0 | M95: =((SUMSQ(SUMIFS(M8:M87,$B$8:$B$87,$B$95))))/$B$109 -> 0 | ... Z95: =((SUMSQ(SUMIFS(Z8:Z87,$B$8:$B$87,$B$95))))/$B$109 -> 0
B96: =[1]Data!A96 -> 9 | F96: =((SUMSQ(SUMIFS(F8:F87,$B$8:$B$87,$B$96))))/$B$109 -> 27225 | G96: =((SUMSQ(SUMIFS(G8:G87,$B$8:$B$87,$B$96))))/$B$109 -> 0 | H96: =((SUMSQ(SUMIFS(H8:H87,$B$8:$B$87,$B$96))))/$B$109 -> 0 | I96: =((SUMSQ(SUMIFS(I8:I87,$B$8:$B$87,$B$96))))/$B$109 -> 0 | J96: =((SUMSQ(SUMIFS(J8:J87,$B$8:$B$87,$B$96))))/$B$109 -> 29584 | K96: =((SUMSQ(SUMIFS(K8:K87,$B$8:$B$87,$B$96))))/$B$109 -> 1056.25 | L96: =((SUMSQ(SUMIFS(L8:L87,$B$8:$B$87,$B$96))))/$B$109 -> 0 | M96: =((SUMSQ(SUMIFS(M8:M87,$B$8:$B$87,$B$96))))/$B$109 -> 0 | ... Z96: =((SUMSQ(SUMIFS(Z8:Z87,$B$8:$B$87,$B$96))))/$B$109 -> 0
B97: =[1]Data!A97 -> 10 | F97: =((SUMSQ(SUMIFS(F8:F87,$B$8:$B$87,$B$97))))/$B$109 -> 40000 | G97: =((SUMSQ(SUMIFS(G8:G87,$B$8:$B$87,$B$97))))/$B$109 -> 0 | H97: =((SUMSQ(SUMIFS(H8:H87,$B$8:$B$87,$B$97))))/$B$109 -> 0 | I97: =((SUMSQ(SUMIFS(I8:I87,$B$8:$B$87,$B$97))))/$B$109 -> 0 | J97: =((SUMSQ(SUMIFS(J8:J87,$B$8:$B$87,$B$97))))/$B$109 -> 37056.25 | K97: =((SUMSQ(SUMIFS(K8:K87,$B$8:$B$87,$B$97))))/$B$109 -> 29584 | L97: =((SUMSQ(SUMIFS(L8:L87,$B$8:$B$87,$B$97))))/$B$109 -> 0 | M97: =((SUMSQ(SUMIFS(M8:M87,$B$8:$B$87,$B$97))))/$B$109 -> 0 | ... Z97: =((SUMSQ(SUMIFS(Z8:Z87,$B$8:$B$87,$B$97))))/$B$109 -> 0
B98: =[1]Data!A98 -> 11 | F98: =((SUMSQ(SUMIFS(F8:F87,$B$8:$B$87,$B$98))))/$B$109 -> 0 | G98: =((SUMSQ(SUMIFS(G8:G87,$B$8:$B$87,$B$98))))/$B$109 -> 0 | H98: =((SUMSQ(SUMIFS(H8:H87,$B$8:$B$87,$B$98))))/$B$109 -> 0 | I98: =((SUMSQ(SUMIFS(I8:I87,$B$8:$B$87,$B$98))))/$B$109 -> 0 | J98: =((SUMSQ(SUMIFS(J8:J87,$B$8:$B$87,$B$98))))/$B$109 -> 0 | K98: =((SUMSQ(SUMIFS(K8:K87,$B$8:$B$87,$B$98))))/$B$109 -> 0 | L98: =((SUMSQ(SUMIFS(L8:L87,$B$8:$B$87,$B$98))))/$B$109 -> 0 | M98: =((SUMSQ(SUMIFS(M8:M87,$B$8:$B$87,$B$98))))/$B$109 -> 0 | ... Z98: =((SUMSQ(SUMIFS(Z8:Z87,$B$8:$B$87,$B$98))))/$B$109 -> 0
B99: =[1]Data!A99 -> 12 | F99: =((SUMSQ(SUMIFS(F8:F87,$B$8:$B$87,$B$99))))/$B$109 -> 0 | G99: =((SUMSQ(SUMIFS(G8:G87,$B$8:$B$87,$B$99))))/$B$109 -> 0 | H99: =((SUMSQ(SUMIFS(H8:H87,$B$8:$B$87,$B$99))))/$B$109 -> 0 | I99: =((SUMSQ(SUMIFS(I8:I87,$B$8:$B$87,$B$99))))/$B$109 -> 0 | J99: =((SUMSQ(SUMIFS(J8:J87,$B$8:$B$87,$B$99))))/$B$109 -> 0 | K99: =((SUMSQ(SUMIFS(K8:K87,$B$8:$B$87,$B$99))))/$B$109 -> 0 | L99: =((SUMSQ(SUMIFS(L8:L87,$B$8:$B$87,$B$99))))/$B$109 -> 0 | M99: =((SUMSQ(SUMIFS(M8:M87,$B$8:$B$87,$B$99))))/$B$109 -> 0 | ... Z99: =((SUMSQ(SUMIFS(Z8:Z87,$B$8:$B$87,$B$99))))/$B$109 -> 0
B100: =[1]Data!A100 -> 13 | F100: =((SUMSQ(SUMIFS(F8:F87,$B$8:$B$87,$B$100))))/$B$109 -> 0 | G100: =((SUMSQ(SUMIFS(G8:G87,$B$8:$B$87,$B$100))))/$B$109 -> 0 | H100: =((SUMSQ(SUMIFS(H8:H87,$B$8:$B$87,$B$100))))/$B$109 -> 0 | I100: =((SUMSQ(SUMIFS(I8:I87,$B$8:$B$87,$B$100))))/$B$109 -> 0 | J100: =((SUMSQ(SUMIFS(J8:J87,$B$8:$B$87,$B$100))))/$B$109 -> 0 | K100: =((SUMSQ(SUMIFS(K8:K87,$B$8:$B$87,$B$100))))/$B$109 -> 0 | L100: =((SUMSQ(SUMIFS(L8:L87,$B$8:$B$87,$B$100))))/$B$109 -> 0 | M100: =((SUMSQ(SUMIFS(M8:M87,$B$8:$B$87,$B$100))))/$B$109 -> 0 | ... Z100: =((SUMSQ(SUMIFS(Z8:Z87,$B$8:$B$87,$B$100))))/$B$109 -> 0
B101: =[1]Data!A101 -> 14 | F101: =((SUMSQ(SUMIFS(F8:F87,$B$8:$B$87,$B$101))))/$B$109 -> 0 | G101: =((SUMSQ(SUMIFS(G8:G87,$B$8:$B$87,$B$101))))/$B$109 -> 0 | H101: =((SUMSQ(SUMIFS(H8:H87,$B$8:$B$87,$B$101))))/$B$109 -> 0 | I101: =((SUMSQ(SUMIFS(I8:I87,$B$8:$B$87,$B$101))))/$B$109 -> 0 | J101: =((SUMSQ(SUMIFS(J8:J87,$B$8:$B$87,$B$101))))/$B$109 -> 0 | K101: =((SUMSQ(SUMIFS(K8:K87,$B$8:$B$87,$B$101))))/$B$109 -> 0 | L101: =((SUMSQ(SUMIFS(L8:L87,$B$8:$B$87,$B$101))))/$B$109 -> 0 | M101: =((SUMSQ(SUMIFS(M8:M87,$B$8:$B$87,$B$101))))/$B$109 -> 0 | ... Z101: =((SUMSQ(SUMIFS(Z8:Z87,$B$8:$B$87,$B$101))))/$B$109 -> 0
B102: =[1]Data!A102 -> 15 | F102: =((SUMSQ(SUMIFS(F8:F87,$B$8:$B$87,$B$102))))/$B$109 -> 0 | G102: =((SUMSQ(SUMIFS(G8:G87,$B$8:$B$87,$B$102))))/$B$109 -> 0 | H102: =((SUMSQ(SUMIFS(H8:H87,$B$8:$B$87,$B$102))))/$B$109 -> 0 | I102: =((SUMSQ(SUMIFS(I8:I87,$B$8:$B$87,$B$102))))/$B$109 -> 0 | J102: =((SUMSQ(SUMIFS(J8:J87,$B$8:$B$87,$B$102))))/$B$109 -> 0 | K102: =((SUMSQ(SUMIFS(K8:K87,$B$8:$B$87,$B$102))))/$B$109 -> 0 | L102: =((SUMSQ(SUMIFS(L8:L87,$B$8:$B$87,$B$102))))/$B$109 -> 0 | M102: =((SUMSQ(SUMIFS(M8:M87,$B$8:$B$87,$B$102))))/$B$109 -> 0 | ... Z102: =((SUMSQ(SUMIFS(Z8:Z87,$B$8:$B$87,$B$102))))/$B$109 -> 0
B103: =[1]Data!A103 -> 16 | F103: =((SUMSQ(SUMIFS(F8:F87,$B$8:$B$87,$B$103))))/$B$109 -> 0 | G103: =((SUMSQ(SUMIFS(G8:G87,$B$8:$B$87,$B$103))))/$B$109 -> 0 | H103: =((SUMSQ(SUMIFS(H8:H87,$B$8:$B$87,$B$103))))/$B$109 -> 0 | I103: =((SUMSQ(SUMIFS(I8:I87,$B$8:$B$87,$B$103))))/$B$109 -> 0 | J103: =((SUMSQ(SUMIFS(J8:J87,$B$8:$B$87,$B$103))))/$B$109 -> 0 | K103: =((SUMSQ(SUMIFS(K8:K87,$B$8:$B$87,$B$103))))/$B$109 -> 0 | L103: =((SUMSQ(SUMIFS(L8:L87,$B$8:$B$87,$B$103))))/$B$109 -> 0 | M103: =((SUMSQ(SUMIFS(M8:M87,$B$8:$B$87,$B$103))))/$B$109 -> 0 | ... Z103: =((SUMSQ(SUMIFS(Z8:Z87,$B$8:$B$87,$B$103))))/$B$109 -> 0
B104: =[1]Data!A104 -> 17 | F104: =((SUMSQ(SUMIFS(F8:F87,$B$8:$B$87,$B$104))))/$B$109 -> 0 | G104: =((SUMSQ(SUMIFS(G8:G87,$B$8:$B$87,$B$104))))/$B$109 -> 0 | H104: =((SUMSQ(SUMIFS(H8:H87,$B$8:$B$87,$B$104))))/$B$109 -> 0 | I104: =((SUMSQ(SUMIFS(I8:I87,$B$8:$B$87,$B$104))))/$B$109 -> 0 | J104: =((SUMSQ(SUMIFS(J8:J87,$B$8:$B$87,$B$104))))/$B$109 -> 0 | K104: =((SUMSQ(SUMIFS(K8:K87,$B$8:$B$87,$B$104))))/$B$109 -> 0 | L104: =((SUMSQ(SUMIFS(L8:L87,$B$8:$B$87,$B$104))))/$B$109 -> 0 | M104: =((SUMSQ(SUMIFS(M8:M87,$B$8:$B$87,$B$104))))/$B$109 -> 0 | ... Z104: =((SUMSQ(SUMIFS(Z8:Z87,$B$8:$B$87,$B$104))))/$B$109 -> 0
B105: =[1]Data!A105 -> 18 | F105: =((SUMSQ(SUMIFS(F8:F87,$B$8:$B$87,$B$105))))/$B$109 -> 0 | G105: =((SUMSQ(SUMIFS(G8:G87,$B$8:$B$87,$B$105))))/$B$109 -> 0 | H105: =((SUMSQ(SUMIFS(H8:H87,$B$8:$B$87,$B$105))))/$B$109 -> 0 | I105: =((SUMSQ(SUMIFS(I8:I87,$B$8:$B$87,$B$105))))/$B$109 -> 0 | J105: =((SUMSQ(SUMIFS(J8:J87,$B$8:$B$87,$B$105))))/$B$109 -> 0 | K105: =((SUMSQ(SUMIFS(K8:K87,$B$8:$B$87,$B$105))))/$B$109 -> 0 | L105: =((SUMSQ(SUMIFS(L8:L87,$B$8:$B$87,$B$105))))/$B$109 -> 0 | M105: =((SUMSQ(SUMIFS(M8:M87,$B$8:$B$87,$B$105))))/$B$109 -> 0 | ... Z105: =((SUMSQ(SUMIFS(Z8:Z87,$B$8:$B$87,$B$105))))/$B$109 -> 0
B106: =[1]Data!A106 -> 19 | F106: =((SUMSQ(SUMIFS(F8:F87,$B$8:$B$87,$B$106))))/$B$109 -> 0 | G106: =((SUMSQ(SUMIFS(G8:G87,$B$8:$B$87,$B$106))))/$B$109 -> 0 | H106: =((SUMSQ(SUMIFS(H8:H87,$B$8:$B$87,$B$106))))/$B$109 -> 0 | I106: =((SUMSQ(SUMIFS(I8:I87,$B$8:$B$87,$B$106))))/$B$109 -> 0 | J106: =((SUMSQ(SUMIFS(J8:J87,$B$8:$B$87,$B$106))))/$B$109 -> 0 | K106: =((SUMSQ(SUMIFS(K8:K87,$B$8:$B$87,$B$106))))/$B$109 -> 0 | L106: =((SUMSQ(SUMIFS(L8:L87,$B$8:$B$87,$B$106))))/$B$109 -> 0 | M106: =((SUMSQ(SUMIFS(M8:M87,$B$8:$B$87,$B$106))))/$B$109 -> 0 | ... Z106: =((SUMSQ(SUMIFS(Z8:Z87,$B$8:$B$87,$B$106))))/$B$109 -> 0
B107: =[1]Data!A107 -> 20 | F107: =((SUMSQ(SUMIFS(F8:F87,$B$8:$B$87,$B$107))))/$B$109 -> 0 | G107: =((SUMSQ(SUMIFS(G8:G87,$B$8:$B$87,$B$107))))/$B$109 -> 0 | H107: =((SUMSQ(SUMIFS(H8:H87,$B$8:$B$87,$B$107))))/$B$109 -> 0 | I107: =((SUMSQ(SUMIFS(I8:I87,$B$8:$B$87,$B$107))))/$B$109 -> 0 | J107: =((SUMSQ(SUMIFS(J8:J87,$B$8:$B$87,$B$107))))/$B$109 -> 0 | K107: =((SUMSQ(SUMIFS(K8:K87,$B$8:$B$87,$B$107))))/$B$109 -> 0 | L107: =((SUMSQ(SUMIFS(L8:L87,$B$8:$B$87,$B$107))))/$B$109 -> 0 | M107: =((SUMSQ(SUMIFS(M8:M87,$B$8:$B$87,$B$107))))/$B$109 -> 0 | ... Z107: =((SUMSQ(SUMIFS(Z8:Z87,$B$8:$B$87,$B$107))))/$B$109 -> 0
A109: Antal block | B109: =[1]Data!B16 -> 4
A110: Antal led | B110: =[1]Data!B15 -> 10
A111: Antal rutor | B111: =[1]Data!B15*[1]Data!B16 -> 40
A112: summan i samtliga rutor | F112: =SUM(F8:F87) -> 2776 | G112: =SUM(G8:G87) -> 0 | H112: =SUM(H8:H87) -> 0 | I112: =SUM(I8:I87) -> 0 | J112: =SUM(J8:J87) -> 7199 | K112: =SUM(K8:K87) -> 912 | L112: =SUM(L8:L87) -> 0 | M112: =SUM(M8:M87) -> 0 | ... Z112: =SUM(Z8:Z87) -> 0
A113: Medeltal | F113: =F112/$B$111 -> 69.4 | G113: =G112/$B$111 -> 0 | H113: =H112/$B$111 -> 0 | I113: =I112/$B$111 -> 0 | J113: =J112/$B$111 -> 179.975 | K113: =K112/$B$111 -> 22.8 | L113: =L112/$B$111 -> 0 | M113: =M112/$B$111 -> 0 | ... Z113: =Z112/$B$111 -> 0
A115: summa kvadratsumman från rutor/antal rutor | F115: =((SUMSQ(SUM(F8:F87)))/$B$111) -> 192654.4 | G115: =((SUMSQ(SUM(G8:G87)))/$B$111) -> 0 | H115: =((SUMSQ(SUM(H8:H87)))/$B$111) -> 0 | I115: =((SUMSQ(SUM(I8:I87)))/$B$111) -> 0 | J115: =((SUMSQ(SUM(J8:J87)))/$B$111) -> 1295640 | K115: =((SUMSQ(SUM(K8:K87)))/$B$111) -> 20793.6 | L115: =((SUMSQ(SUM(L8:L87)))/$B$111) -> 0 | M115: =((SUMSQ(SUM(M8:M87)))/$B$111) -> 0 | ... Z115: =((SUMSQ(SUM(Z8:Z87)))/$B$111) -> 0
A117: SS led | F117: =(SUM(F88:F107))-F115 -> 52347.6 | G117: =(SUM(G88:G107))-G115 -> 0 | H117: =(SUM(H88:H107))-H115 -> 0 | I117: =(SUM(I88:I107))-I115 -> 0 | J117: =(SUM(J88:J107))-J115 -> -991587.27 | K117: =(SUM(K88:K107))-K115 -> 30083.9 | L117: =(SUM(L88:L107))-L115 -> 0 | M117: =(SUM(M88:M107))-M115 -> 0 | ... Z117: =(SUM(Z88:Z107))-Z115 -> 0
A119: SS block | B119: 1 | F119: =((SUMIFS(F8:F87,$D$8:$D$87,$B$119))*(SUMIFS(F8:F87,$D$8:$D$87,$B$119)))/$B$110 -> 73102.5 | G119: =((SUMIFS(G8:G87,$D$8:$D$87,$B$119))*(SUMIFS(G8:G87,$D$8:$D$87,$B$119)))/$B$110 -> 0 | H119: =((SUMIFS(H8:H87,$D$8:$D$87,$B$119))*(SUMIFS(H8:H87,$D$8:$D$87,$B$119)))/$B$110 -> 0 | I119: =((SUMIFS(I8:I87,$D$8:$D$87,$B$119))*(SUMIFS(I8:I87,$D$8:$D$87,$B$119)))/$B$110 -> 0 | J119: =((SUMIFS(J8:J87,$D$8:$D$87,$B$119))*(SUMIFS(J8:J87,$D$8:$D$87,$B$119)))/$B$110 -> 66259.6 | K119: =((SUMIFS(K8:K87,$D$8:$D$87,$B$119))*(SUMIFS(K8:K87,$D$8:$D$87,$B$119)))/$B$110 -> 6553.6 | L119: =((SUMIFS(L8:L87,$D$8:$D$87,$B$119))*(SUMIFS(L8:L87,$D$8:$D$87,$B$119)))/$B$110 -> 0 | M119: =((SUMIFS(M8:M87,$D$8:$D$87,$B$119))*(SUMIFS(M8:M87,$D$8:$D$87,$B$119)))/$B$110 -> 0 | ... Z119: =((SUMIFS(Z8:Z87,$D$8:$D$87,$B$119))*(SUMIFS(Z8:Z87,$D$8:$D$87,$B$119)))/$B$110 -> 0
B120: 2 | F120: =((SUMIFS(F8:F87,$D$8:$D$87,$B$120))*(SUMIFS(F8:F87,$D$8:$D$87,$B$120)))/$B$110 -> 31136.4 | G120: =((SUMIFS(G8:G87,$D$8:$D$87,$B$120))*(SUMIFS(G8:G87,$D$8:$D$87,$B$120)))/$B$110 -> 0 | H120: =((SUMIFS(H8:H87,$D$8:$D$87,$B$120))*(SUMIFS(H8:H87,$D$8:$D$87,$B$120)))/$B$110 -> 0 | I120: =((SUMIFS(I8:I87,$D$8:$D$87,$B$120))*(SUMIFS(I8:I87,$D$8:$D$87,$B$120)))/$B$110 -> 0 | J120: =((SUMIFS(J8:J87,$D$8:$D$87,$B$120))*(SUMIFS(J8:J87,$D$8:$D$87,$B$120)))/$B$110 -> 61308.9 | K120: =((SUMIFS(K8:K87,$D$8:$D$87,$B$120))*(SUMIFS(K8:K87,$D$8:$D$87,$B$120)))/$B$110 -> 4972.9 | L120: =((SUMIFS(L8:L87,$D$8:$D$87,$B$120))*(SUMIFS(L8:L87,$D$8:$D$87,$B$120)))/$B$110 -> 0 | M120: =((SUMIFS(M8:M87,$D$8:$D$87,$B$120))*(SUMIFS(M8:M87,$D$8:$D$87,$B$120)))/$B$110 -> 0 | ... Z120: =((SUMIFS(Z8:Z87,$D$8:$D$87,$B$120))*(SUMIFS(Z8:Z87,$D$8:$D$87,$B$120)))/$B$110 -> 0
B121: 3 | F121: =((SUMIFS(F8:F87,$D$8:$D$87,$B$121))*(SUMIFS(F8:F87,$D$8:$D$87,$B$121)))/$B$110 -> 46648.9 | G121: =((SUMIFS(G8:G87,$D$8:$D$87,$B$121))*(SUMIFS(G8:G87,$D$8:$D$87,$B$121)))/$B$110 -> 0 | H121: =((SUMIFS(H8:H87,$D$8:$D$87,$B$121))*(SUMIFS(H8:H87,$D$8:$D$87,$B$121)))/$B$110 -> 0 | I121: =((SUMIFS(I8:I87,$D$8:$D$87,$B$121))*(SUMIFS(I8:I87,$D$8:$D$87,$B$121)))/$B$110 -> 0 | J121: =((SUMIFS(J8:J87,$D$8:$D$87,$B$121))*(SUMIFS(J8:J87,$D$8:$D$87,$B$121)))/$B$110 -> 73444.9 | K121: =((SUMIFS(K8:K87,$D$8:$D$87,$B$121))*(SUMIFS(K8:K87,$D$8:$D$87,$B$121)))/$B$110 -> 2496.4 | L121: =((SUMIFS(L8:L87,$D$8:$D$87,$B$121))*(SUMIFS(L8:L87,$D$8:$D$87,$B$121)))/$B$110 -> 0 | M121: =((SUMIFS(M8:M87,$D$8:$D$87,$B$121))*(SUMIFS(M8:M87,$D$8:$D$87,$B$121)))/$B$110 -> 0 | ... Z121: =((SUMIFS(Z8:Z87,$D$8:$D$87,$B$121))*(SUMIFS(Z8:Z87,$D$8:$D$87,$B$121)))/$B$110 -> 0
B122: 4 | F122: =((SUMIFS(F8:F87,$D$8:$D$87,$B$122))*(SUMIFS(F8:F87,$D$8:$D$87,$B$122)))/$B$110 -> 46240 | G122: =((SUMIFS(G8:G87,$D$8:$D$87,$B$122))*(SUMIFS(G8:G87,$D$8:$D$87,$B$122)))/$B$110 -> 0 | H122: =((SUMIFS(H8:H87,$D$8:$D$87,$B$122))*(SUMIFS(H8:H87,$D$8:$D$87,$B$122)))/$B$110 -> 0 | I122: =((SUMIFS(I8:I87,$D$8:$D$87,$B$122))*(SUMIFS(I8:I87,$D$8:$D$87,$B$122)))/$B$110 -> 0 | J122: =((SUMIFS(J8:J87,$D$8:$D$87,$B$122))*(SUMIFS(J8:J87,$D$8:$D$87,$B$122)))/$B$110 -> 55502.5 | K122: =((SUMIFS(K8:K87,$D$8:$D$87,$B$122))*(SUMIFS(K8:K87,$D$8:$D$87,$B$122)))/$B$110 -> 7562.5 | L122: =((SUMIFS(L8:L87,$D$8:$D$87,$B$122))*(SUMIFS(L8:L87,$D$8:$D$87,$B$122)))/$B$110 -> 0 | M122: =((SUMIFS(M8:M87,$D$8:$D$87,$B$122))*(SUMIFS(M8:M87,$D$8:$D$87,$B$122)))/$B$110 -> 0 | ... Z122: =((SUMIFS(Z8:Z87,$D$8:$D$87,$B$122))*(SUMIFS(Z8:Z87,$D$8:$D$87,$B$122)))/$B$110 -> 0
B123: 5 | F123: =((SUMIFS(F8:F87,$D$8:$D$87,$B$123))*(SUMIFS(F8:F87,$D$8:$D$87,$B$123)))/$B$110 -> 0 | G123: =((SUMIFS(G8:G87,$D$8:$D$87,$B$123))*(SUMIFS(G8:G87,$D$8:$D$87,$B$123)))/$B$110 -> 0 | H123: =((SUMIFS(H8:H87,$D$8:$D$87,$B$123))*(SUMIFS(H8:H87,$D$8:$D$87,$B$123)))/$B$110 -> 0 | I123: =((SUMIFS(I8:I87,$D$8:$D$87,$B$123))*(SUMIFS(I8:I87,$D$8:$D$87,$B$123)))/$B$110 -> 0 | J123: =((SUMIFS(J8:J87,$D$8:$D$87,$B$123))*(SUMIFS(J8:J87,$D$8:$D$87,$B$123)))/$B$110 -> 0 | K123: =((SUMIFS(K8:K87,$D$8:$D$87,$B$123))*(SUMIFS(K8:K87,$D$8:$D$87,$B$123)))/$B$110 -> 0 | L123: =((SUMIFS(L8:L87,$D$8:$D$87,$B$123))*(SUMIFS(L8:L87,$D$8:$D$87,$B$123)))/$B$110 -> 0 | M123: =((SUMIFS(M8:M87,$D$8:$D$87,$B$123))*(SUMIFS(M8:M87,$D$8:$D$87,$B$123)))/$B$110 -> 0 | ... Z123: =((SUMIFS(Z8:Z87,$D$8:$D$87,$B$123))*(SUMIFS(Z8:Z87,$D$8:$D$87,$B$123)))/$B$110 -> 0
B124: 6 | F124: =((SUMIFS(F8:F87,$D$8:$D$87,$B$124))*(SUMIFS(F8:F87,$D$8:$D$87,$B$124)))/$B$110 -> 0 | G124: =((SUMIFS(G8:G87,$D$8:$D$87,$B$124))*(SUMIFS(G8:G87,$D$8:$D$87,$B$124)))/$B$110 -> 0 | H124: =((SUMIFS(H8:H87,$D$8:$D$87,$B$124))*(SUMIFS(H8:H87,$D$8:$D$87,$B$124)))/$B$110 -> 0 | I124: =((SUMIFS(I8:I87,$D$8:$D$87,$B$124))*(SUMIFS(I8:I87,$D$8:$D$87,$B$124)))/$B$110 -> 0 | J124: =((SUMIFS(J8:J87,$D$8:$D$87,$B$124))*(SUMIFS(J8:J87,$D$8:$D$87,$B$124)))/$B$110 -> 0 | K124: =((SUMIFS(K8:K87,$D$8:$D$87,$B$124))*(SUMIFS(K8:K87,$D$8:$D$87,$B$124)))/$B$110 -> 0 | L124: =((SUMIFS(L8:L87,$D$8:$D$87,$B$124))*(SUMIFS(L8:L87,$D$8:$D$87,$B$124)))/$B$110 -> 0 | M124: =((SUMIFS(M8:M87,$D$8:$D$87,$B$124))*(SUMIFS(M8:M87,$D$8:$D$87,$B$124)))/$B$110 -> 0 | ... Z124: =((SUMIFS(Z8:Z87,$D$8:$D$87,$B$124))*(SUMIFS(Z8:Z87,$D$8:$D$87,$B$124)))/$B$110 -> 0
B125: 7 | F125: =((SUMIFS(F8:F87,$D$8:$D$87,$B$125))*(SUMIFS(F8:F87,$D$8:$D$87,$B$125)))/$B$110 -> 0 | G125: =((SUMIFS(G8:G87,$D$8:$D$87,$B$125))*(SUMIFS(G8:G87,$D$8:$D$87,$B$125)))/$B$110 -> 0 | H125: =((SUMIFS(H8:H87,$D$8:$D$87,$B$125))*(SUMIFS(H8:H87,$D$8:$D$87,$B$125)))/$B$110 -> 0 | I125: =((SUMIFS(I8:I87,$D$8:$D$87,$B$125))*(SUMIFS(I8:I87,$D$8:$D$87,$B$125)))/$B$110 -> 0 | J125: =((SUMIFS(J8:J87,$D$8:$D$87,$B$125))*(SUMIFS(J8:J87,$D$8:$D$87,$B$125)))/$B$110 -> 0 | K125: =((SUMIFS(K8:K87,$D$8:$D$87,$B$125))*(SUMIFS(K8:K87,$D$8:$D$87,$B$125)))/$B$110 -> 0 | L125: =((SUMIFS(L8:L87,$D$8:$D$87,$B$125))*(SUMIFS(L8:L87,$D$8:$D$87,$B$125)))/$B$110 -> 0 | M125: =((SUMIFS(M8:M87,$D$8:$D$87,$B$125))*(SUMIFS(M8:M87,$D$8:$D$87,$B$125)))/$B$110 -> 0 | ... Z125: =((SUMIFS(Z8:Z87,$D$8:$D$87,$B$125))*(SUMIFS(Z8:Z87,$D$8:$D$87,$B$125)))/$B$110 -> 0
B126: 8 | F126: =((SUMIFS(F8:F87,$D$8:$D$87,$B$126))*(SUMIFS(F8:F87,$D$8:$D$87,$B$126)))/$B$110 -> 0 | G126: =((SUMIFS(G8:G87,$D$8:$D$87,$B$126))*(SUMIFS(G8:G87,$D$8:$D$87,$B$126)))/$B$110 -> 0 | H126: =((SUMIFS(H8:H87,$D$8:$D$87,$B$126))*(SUMIFS(H8:H87,$D$8:$D$87,$B$126)))/$B$110 -> 0 | I126: =((SUMIFS(I8:I87,$D$8:$D$87,$B$126))*(SUMIFS(I8:I87,$D$8:$D$87,$B$126)))/$B$110 -> 0 | J126: =((SUMIFS(J8:J87,$D$8:$D$87,$B$126))*(SUMIFS(J8:J87,$D$8:$D$87,$B$126)))/$B$110 -> 0 | K126: =((SUMIFS(K8:K87,$D$8:$D$87,$B$126))*(SUMIFS(K8:K87,$D$8:$D$87,$B$126)))/$B$110 -> 0 | L126: =((SUMIFS(L8:L87,$D$8:$D$87,$B$126))*(SUMIFS(L8:L87,$D$8:$D$87,$B$126)))/$B$110 -> 0 | M126: =((SUMIFS(M8:M87,$D$8:$D$87,$B$126))*(SUMIFS(M8:M87,$D$8:$D$87,$B$126)))/$B$110 -> 0 | ... Z126: =((SUMIFS(Z8:Z87,$D$8:$D$87,$B$126))*(SUMIFS(Z8:Z87,$D$8:$D$87,$B$126)))/$B$110 -> 0
A127: summa SS block | F127: =(SUM(F119:F126))-F115 -> 4473.4 | G127: =(SUM(G119:G126))-G115 -> 0 | H127: =(SUM(H119:H126))-H115 -> 0 | I127: =(SUM(I119:I126))-I115 -> 0 | J127: =(SUM(J119:J126))-J115 -> -1039124.1 | K127: =(SUM(K119:K126))-K115 -> 791.8 | L127: =(SUM(L119:L126))-L115 -> 0 | M127: =(SUM(M119:M126))-M115 -> 0 | ... Z127: =(SUM(Z119:Z126))-Z115 -> 0
A129: SS error | F129: =F131-F127-F117 -> 10754.6 | G129: =G131-G127-G117 -> 0 | H129: =H131-H127-H117 -> 0 | I129: =I131-I127-I117 -> 0 | J129: =J131-J127-J117 -> 1442958.4 | K129: =K131-K127-K117 -> 16706.7 | L129: =L131-L127-L117 -> 0 | M129: =M131-M127-M117 -> 0 | ... Z129: =Z131-Z127-Z117 -> 0
A131: SS total | F131: =(SUMSQ(F8:F87)-F115) -> 67575.6 | G131: =(SUMSQ(G8:G87)-G115) -> 0 | H131: =(SUMSQ(H8:H87)-H115) -> 0 | I131: =(SUMSQ(I8:I87)-I115) -> 0 | J131: =(SUMSQ(J8:J87)-J115) -> -587753.02 | K131: =(SUMSQ(K8:K87)-K115) -> 47582.4 | L131: =(SUMSQ(L8:L87)-L115) -> 0 | M131: =(SUMSQ(M8:M87)-M115) -> 0 | ... Z131: =(SUMSQ(Z8:Z87)-Z115) -> 0
A133: df led | F133: =$B$110-1 -> 9 | G133: =$B$110-1 -> 9 | H133: =$B$110-1 -> 9 | I133: =$B$110-1 -> 9 | J133: =$B$110-1 -> 9 | K133: =$B$110-1 -> 9 | L133: =$B$110-1 -> 9 | M133: =$B$110-1 -> 9 | ... Z133: =$B$110-1 -> 9
A134: df block | F134: =$B$109-1 -> 3 | G134: =$B$109-1 -> 3 | H134: =$B$109-1 -> 3 | I134: =$B$109-1 -> 3 | J134: =$B$109-1 -> 3 | K134: =$B$109-1 -> 3 | L134: =$B$109-1 -> 3 | M134: =$B$109-1 -> 3 | ... Z134: =$B$109-1 -> 3
A135: df error | F135: =F133*F134 -> 27 | G135: =G133*G134 -> 27 | H135: =H133*H134 -> 27 | I135: =I133*I134 -> 27 | J135: =J133*J134 -> 27 | K135: =K133*K134 -> 27 | L135: =L133*L134 -> 27 | M135: =M133*M134 -> 27 | ... Z135: =Z133*Z134 -> 27
A136: df total (summa SS block/df block)
A139: MS led (SS led/df led) | F139: =F117/F133 -> 5816.4 | G139: =IFERROR(G117/G133,0) -> 0 | H139: =H117/H133 -> 0 | I139: =I117/I133 -> 0 | J139: =J117/J133 -> -110176.36 | K139: =K117/K133 -> 3342.6556 | L139: =L117/L133 -> 0 | M139: =M117/M133 -> 0 | N139: =N117/N133 -> 0 | O139: =O117/O133 -> 0 | ... Z139: =Z117/Z133 -> 0
A140: MS block | F140: =F127/F134 -> 1491.1333 | G140: =G127/G134 -> 0 | H140: =H127/H134 -> 0 | I140: =I127/I134 -> 0 | J140: =J127/J134 -> -346374.71 | K140: =K127/K134 -> 263.93333 | L140: =L127/L134 -> 0 | M140: =M127/M134 -> 0 | ... Z140: =Z127/Z134 -> 0
A141: MS error (SS error/df error) | F141: =F129/F135 -> 398.31852 | G141: =G129/G135 -> 0 | H141: =H129/H135 -> 0 | I141: =I129/I135 -> 0 | J141: =J129/J135 -> 53442.903 | K141: =K129/K135 -> 618.76667 | L141: =L129/L135 -> 0 | M141: =M129/M135 -> 0 | ... Z141: =Z129/Z135 -> 0
...

Sheet 05-23
A1: Ogräsgradering | E1: Örtogräsbekämpning i höstraps, plöjt, höst- och vårbehandling
A2: Plan nr. | B2: L5-8010P
A3: Försöks nr. | B3: 0568970 | E3: Datum: | G3: 45069
A4: ADB nr. | B4: I-970-2022
D6: kornvallmo | E6: åkerviol | F6: våtarv | G6: vitblära
A7: Utveckling, BBCH | D7: 16 | E7: 65 | F7: 65 | G7: 14
B8: min | D8: 13 | E8: 12 | F8: 12 | G8: 12
B9: max | D9: 51 | E9: 65 | F9: 65 | G9: 15
A10: Höjd (cm) | D10: 25 | E10: 15 | F10: 20 | G10: 25
A11: Diameter (cm) | D11: 25 | E11: 8 | F11: 30 | G11: 15
A12: Örtogräs | B12: Hj-blad gnm m-yta | C12: Hj-blad utvecklade | D12: 1 örtblad utv. | E12: 2 örtblad utv. ect | F12: Pl börjar sträckas | G12: 1 internod förlängd | H12: 2 internoder förl ect | I12: Blomknoppar finns täckta av blad | J12: 1:a bl-knoppar synl, ej täckta av blad | K12: Individuella bl-kn, synl, fortf slutna | L12: första kronbl synl | M12: 1:a blomman utslag | N12: full blomn | O12: avslutad blomning | P12: 1:a skidor/baljor etc | Q12: 10 % nått full längd | R12: X0 % nått full längd | S12: 10 % av sk/balj mogna | T12: X0 % mogna | U12: fullmoget
B13: 09 | C13: 10 | D13: 11 | E13: 12 | F13: 30 | G13: 31 | H13: 32 | I13: 50 | J13: 51 | K13: 55 | L13: 59 | M13: 61 | N13: 65 | O13: 69 | P13: 70 | Q13: 71 | R13: 7X | S13: 81 | T13: 8X | U13: 89
A14: Gräsogräs | B14: Sk genom m-yta | C14: 1:a utanf koleopt | D14: 1:a bl utvecklat | E14: 2:a bl utvecklat | F14: end h-skott utveckl | G14: h-skott + 1 sidosk. | H14: h-skott + 2 sidosk. | I14: Bladslidor förlängs | J14: 1 nod finns | K14: 2 noder finns | L14: fl-blad just synligt | M14: fl-blad slida synlig | N14: fl-blad slida utväxer | O14: fl-blad slida utvidgad | P14: ax första agnar synl | Q14: 1 småax synl | R14: 1/2 axet framme | S14: hela axet framme | T14: Beg blomning | U14: full blom | V14: avslutad blomning | W14: beg mjölkmognad | X14: mjölkm. | Y14: sen m-m, klibbigt | Z14: beg degmogn, ostigt | AA14: degm., nagelavtr tb | AB14: sen d-m, n-avtr kvar
B15: 09 | C15: 10 | D15: 11 | E15: 12 | F15: 20 | G15: 21 | H15: 22 | I15: 30 | J15: 31 | K15: 32 | L15: 37 | M15: 39 | N15: 41 | O15: 45 | P15: 49 | Q15: 51 | R15: 55 | S15: 59 | T15: 61 | U15: 65 | V15: 69 | W15: 73 | X15: 75 | Y15: 77 | Z15: 83 | AA15: 85 | AB15: 87
