Workbook

Sheet 1a Marktäckning 11-06
A1: Ogräsgradering marktäckning
A2: Försöksserie: | D2: Örtogräsbekämpning i höstraps, plöjt
A3: Plan nr: | D3: L5-8010P
A4: Försöks nr: | D4: I-915-2021
A5: ADB nr: | D5: 0566652
A7: Datum: | D7: 44506 | F7: DC >19
D9: Ettåriga örtogräs marktäckning
D10: 1 | E10: 2 | F10: 3 | G10: 4 | H10: 5 | I10: 6 | J10: 7 | K10: 8 | L10: 9 | M10: 10 | N10: 11 | O10: 12
A11: Ruta nr | B11: Led | C11: Block | D11: Baldersbrå | E11: Våtarv | F11: Mjuknäva | G11: Åkerveronika | H11: Korsört | I11: Lomme | J11: Svinmålla | K11: Åkerviol | L11: I | M11: J | N11: K | O11: Spillsäd | P11: Marktäckning
A12: 1 | B12: 7 | C12: 1 | D12: 5 | E12: 0 | F12: 0 | G12: 1 | H12: 1 | I12: 0 | J12: 0 | K12: 3 | O12: 1 | P12: =SUM(D12:O12) -> 11
A13: 2 | B13: 3 | C13: 1 | D13: 5 | E13: 0 | F13: 0 | G13: 0 | H13: 0 | I13: 0 | J13: 0 | K13: 3 | O13: 0 | P13: =SUM(D13:O13) -> 8
A14: 3 | B14: 5 | C14: 1 | D14: 5 | E14: 0 | F14: 0 | G14: 2 | H14: 1 | I14: 0 | J14: 0 | K14: 5 | O14: 2 | P14: =SUM(D14:O14) -> 15
A15: 4 | B15: 4 | C15: 1 | D15: 15 | E15: 10 | F15: 2 | G15: 2 | H15: 5 | I15: 20 | J15: 1 | K15: 5 | O15: 0 | P15: =SUM(D15:O15) -> 60
A16: 5 | B16: 2 | C16: 1 | D16: 1 | E16: 0 | F16: 0 | G16: 0 | H16: 0 | I16: 0 | J16: 0 | K16: 5 | O16: 0 | P16: =SUM(D16:O16) -> 6
A17: 6 | B17: 6 | C17: 1 | D17: 5 | E17: 0 | F17: 0 | G17: 0 | H17: 1 | I17: 0 | J17: 0 | K17: 5 | O17: 0 | P17: =SUM(D17:O17) -> 11
A18: 7 | B18: 1 | C18: 1 | D18: 15 | E18: 2 | F18: 2 | G18: 2 | H18: 5 | I18: 20 | J18: 1 | K18: 5 | O18: 3 | P18: =SUM(D18:O18) -> 55
A19: 8 | B19: 2 | C19: 2 | D19: 1 | E19: 0 | F19: 0 | G19: 0 | H19: 0 | I19: 0 | J19: 0 | K19: 5 | O19: 0 | P19: =SUM(D19:O19) -> 6
A20: 9 | B20: 7 | C20: 2 | D20: 7 | E20: 0 | F20: 0 | G20: 0 | H20: 1 | I20: 0 | J20: 0 | K20: 5 | O20: 0 | P20: =SUM(D20:O20) -> 13
A21: 10 | B21: 6 | C21: 2 | D21: 5 | E21: 0 | F21: 0 | G21: 0.1 | H21: 3 | I21: 0 | J21: 0 | K21: 5 | O21: 0 | P21: =SUM(D21:O21) -> 13.1
A22: 11 | B22: 1 | C22: 2 | D22: 10 | E22: 10 | F22: 1 | G22: 0 | H22: 5 | I22: 7 | J22: 0 | K22: 5 | O22: 1 | P22: =SUM(D22:O22) -> 39
A23: 12 | B23: 4 | C23: 2 | D23: 15 | E23: 10 | F23: 0 | G23: 1 | H23: 5 | I23: 10 | J23: 0 | K23: 5 | O23: 0 | P23: =SUM(D23:O23) -> 46
... A39: 28 | B39: 2 | C39: 4 | D39: 1 | E39: 0 | F39: 0 | G39: 0 | H39: 0 | I39: 0 | J39: 0 | K39: 5 | O39: 0 | P39: =SUM(D39:O39) -> 6
D41: =D11 -> Baldersbrå | E41: =E11 -> Våtarv | F41: =F11 -> Mjuknäva | G41: =G11 -> Åkerveronika | H41: =H11 -> Korsört | I41: =I11 -> Lomme | J41: =J11 -> Svinmålla | K41: =K11 -> Åkerviol | ... O41: =O11 -> Spillsäd
A42: 1 | D42: =(SUMIFS($D$12:$D$39,B12:B39,$A$42))/4 -> 11.25 | E42: =(SUMIFS($E$12:$E$39,$B$12:$B$39,A42))/4 -> 6.25 | F42: =(SUMIFS($F$12:$F$39,$B$12:$B$39,A42))/4 -> 1.25 | G42: =(SUMIFS($G$12:$G$39,$B$12:$B$39,A42))/4 -> 9.25 | H42: =(SUMIFS($H$12:$H$39,$B$12:$B$39,A42))/4 -> 4.5 | I42: =(SUMIFS($I$12:$I$39,$B$12:$B$39,A42))/4 -> 7.25 | J42: =(SUMIFS($J$13:$J$40,$B$12:$B$39,A42))/4 -> 0.25 | K42: =(SUMIFS($K$12:$K$39,$B$12:$B$39,A42))/4 -> 3 | L42: =(SUMIFS($L$12:$L$39,$B$12:$B$39,A42))/4 -> 0 | M42: =(SUMIFS($M$12:$M$39,$B$12:$B$39,A42))/4 -> 0 | N42: =(SUMIFS($N$12:$N$39,$B$12:$B$39,A42))/4 -> 0 | O42: =(SUMIFS($O$12:$O$39,$B$12:$B$39,A42))/4 -> 1.25
A43: 2 | D43: =(SUMIFS($D$12:$D$39,$B$12:$B$39,A43))/4 -> 1.25 | E43: =(SUMIFS($E$12:$E$39,$B$12:$B$39,A43))/4 -> 0 | F43: =(SUMIFS($F$12:$F$39,$B$12:$B$39,A43))/4 -> 0 | G43: =(SUMIFS($G$12:$G$39,$B$12:$B$39,A43))/4 -> 0 | H43: =(SUMIFS($H$12:$H$39,$B$12:$B$39,A43))/4 -> 0 | I43: =(SUMIFS($I$12:$I$39,$B$12:$B$39,A43))/4 -> 0 | J43: =(SUMIFS($J$13:$J$40,$B$12:$B$39,A43))/4 -> 0.25 | K43: =(SUMIFS($K$12:$K$39,$B$12:$B$39,A43))/4 -> 5 | L43: =(SUMIFS($L$12:$L$39,$B$12:$B$39,A43))/4 -> 0 | M43: =(SUMIFS($M$12:$M$39,$B$12:$B$39,A43))/4 -> 0 | N43: =(SUMIFS($N$12:$N$39,$B$12:$B$39,A43))/4 -> 0 | O43: =(SUMIFS($O$12:$O$39,$B$12:$B$39,A43))/4 -> 0
A44: 3 | D44: =(SUMIFS($D$12:$D$39,$B$12:$B$39,A44))/4 -> 2.75 | E44: =(SUMIFS($E$12:$E$39,$B$12:$B$39,A44))/4 -> 0 | F44: =(SUMIFS($F$12:$F$39,$B$12:$B$39,A44))/4 -> 0 | G44: =(SUMIFS($G$12:$G$39,$B$12:$B$39,A44))/4 -> 0.25 | H44: =(SUMIFS($H$12:$H$39,$B$12:$B$39,A44))/4 -> 0 | I44: =(SUMIFS($I$12:$I$39,$B$12:$B$39,A44))/4 -> 0 | J44: =(SUMIFS($J$13:$J$40,$B$12:$B$39,A44))/4 -> 0.25 | K44: =(SUMIFS($K$12:$K$39,$B$12:$B$39,A44))/4 -> 4.5 | L44: =(SUMIFS($L$12:$L$39,$B$12:$B$39,A44))/4 -> 0 | M44: =(SUMIFS($M$12:$M$39,$B$12:$B$39,A44))/4 -> 0 | N44: =(SUMIFS($N$12:$N$39,$B$12:$B$39,A44))/4 -> 0 | O44: =(SUMIFS($O$12:$O$39,$B$12:$B$39,A44))/4 -> 0.5
A45: 4 | D45: =(SUMIFS($D$12:$D$39,$B$12:$B$39,A45))/4 -> 13 | E45: =(SUMIFS($E$12:$E$39,$B$12:$B$39,A45))/4 -> 7 | F45: =(SUMIFS($F$12:$F$39,$B$12:$B$39,A45))/4 -> 1.25 | G45: =(SUMIFS($G$12:$G$39,$B$12:$B$39,A45))/4 -> 9.5 | H45: =(SUMIFS($H$12:$H$39,$B$12:$B$39,A45))/4 -> 4.5 | I45: =(SUMIFS($I$12:$I$39,$B$12:$B$39,A45))/4 -> 8 | J45: =(SUMIFS($J$13:$J$40,$B$12:$B$39,A45))/4 -> 0.25 | K45: =(SUMIFS($K$12:$K$39,$B$12:$B$39,A45))/4 -> 3.5 | L45: =(SUMIFS($L$12:$L$39,$B$12:$B$39,A45))/4 -> 0 | M45: =(SUMIFS($M$12:$M$39,$B$12:$B$39,A45))/4 -> 0 | N45: =(SUMIFS($N$12:$N$39,$B$12:$B$39,A45))/4 -> 0 | O45: =(SUMIFS($O$12:$O$39,$B$12:$B$39,A45))/4 -> 0
A46: 5 | D46: =(SUMIFS($D$12:$D$39,$B$12:$B$39,A46))/4 -> 5.5 | E46: =(SUMIFS($E$12:$E$39,$B$12:$B$39,A46))/4 -> 0.25 | F46: =(SUMIFS($F$12:$F$39,$B$12:$B$39,A46))/4 -> 0 | G46: =(SUMIFS($G$12:$G$39,$B$12:$B$39,A46))/4 -> 4.5 | H46: =(SUMIFS($H$12:$H$39,$B$12:$B$39,A46))/4 -> 1.75 | I46: =(SUMIFS($I$12:$I$39,$B$12:$B$39,A46))/4 -> 0 | J46: =(SUMIFS($J$13:$J$40,$B$12:$B$39,A46))/4 -> 0.25 | K46: =(SUMIFS($K$12:$K$39,$B$12:$B$39,A46))/4 -> 5 | L46: =(SUMIFS($L$12:$L$39,$B$12:$B$39,A46))/4 -> 0 | M46: =(SUMIFS($M$12:$M$39,$B$12:$B$39,A46))/4 -> 0 | N46: =(SUMIFS($N$12:$N$39,$B$12:$B$39,A46))/4 -> 0 | O46: =(SUMIFS($O$12:$O$39,$B$12:$B$39,A46))/4 -> 1
A47: 6 | D47: =(SUMIFS($D$12:$D$39,$B$12:$B$39,A47))/4 -> 5.5 | E47: =(SUMIFS($E$12:$E$39,$B$12:$B$39,A47))/4 -> 0 | F47: =(SUMIFS($F$12:$F$39,$B$12:$B$39,A47))/4 -> 0 | G47: =(SUMIFS($G$12:$G$39,$B$12:$B$39,A47))/4 -> 2.525 | H47: =(SUMIFS($H$12:$H$39,$B$12:$B$39,A47))/4 -> 2 | I47: =(SUMIFS($I$12:$I$39,$B$12:$B$39,A47))/4 -> 0 | J47: =(SUMIFS($J$13:$J$40,$B$12:$B$39,A47))/4 -> 0.25 | K47: =(SUMIFS($K$12:$K$39,$B$12:$B$39,A47))/4 -> 5 | L47: =(SUMIFS($L$12:$L$39,$B$12:$B$39,A47))/4 -> 0 | M47: =(SUMIFS($M$12:$M$39,$B$12:$B$39,A47))/4 -> 0 | N47: =(SUMIFS($N$12:$N$39,$B$12:$B$39,A47))/4 -> 0 | O47: =(SUMIFS($O$12:$O$39,$B$12:$B$39,A47))/4 -> 0
A48: 7 | D48: =(SUMIFS($D$12:$D$39,$B$12:$B$39,A48))/4 -> 6 | E48: =(SUMIFS($E$12:$E$39,$B$12:$B$39,A48))/4 -> 0 | F48: =(SUMIFS($F$12:$F$39,$B$12:$B$39,A48))/4 -> 0 | G48: =(SUMIFS($G$12:$G$39,$B$12:$B$39,A48))/4 -> 1.75 | H48: =(SUMIFS($H$12:$H$39,$B$12:$B$39,A48))/4 -> 1.25 | I48: =(SUMIFS($I$12:$I$39,$B$12:$B$39,A48))/4 -> 0 | J48: =(SUMIFS($J$13:$J$40,$B$12:$B$39,A48))/4 -> 0 | K48: =(SUMIFS($K$12:$K$39,$B$12:$B$39,A48))/4 -> 4.5 | L48: =(SUMIFS($L$12:$L$39,$B$12:$B$39,A48))/4 -> 0 | M48: =(SUMIFS($M$12:$M$39,$B$12:$B$39,A48))/4 -> 0 | N48: =(SUMIFS($N$12:$N$39,$B$12:$B$39,A48))/4 -> 0 | O48: =(SUMIFS($O$12:$O$39,$B$12:$B$39,A48))/4 -> 0.25

Sheet Protokoll
A1: Ogräsgradering
A2: Plan nr. | B2: OS5-8010P
A3: Försöks nr. | B3: I-631-2016
A4: ADB nr. | B4: 05B408
B6: Antal/m2 | C6: P16 | D6: Höstraps | E6: Penningört | F6: Vallmo | G6: Baldersbrå | H6: Näva | I6: Etternässla | J6: Fårtunga | K6: Veronika | L6: Våtarv | M6: Svinmålla | N6: Åkerspergel | O6: Rödplister | P6: Vitgröe | Q6: Kvickrot | R6: Spillsäd
A7: Block I | B7: 0.25
A8: Block II | B8: 0.25
A9: Block III | B9: 0.25
A10: Block IV | B10: 0.25
A11: Utveckling, BBCH
B12: min
B13: max
A14: Höjd (cm)
A15: Diameter (cm)

Sheet 1a Effekt 11-06
A1: Ogräsgradering effektgradering
A2: Försöksserie: | D2: ='1a Marktäckning 11-06'!D2 -> Örtogräsbekämpning i höstraps, plöjt
A3: Plan nr: | D3: ='1a Marktäckning 11-06'!D3 -> L5-8010P
A4: Försöks nr: | D4: ='1a Marktäckning 11-06'!D4 -> I-915-2021
A5: ADB nr: | D5: ='1a Marktäckning 11-06'!D5 -> 0566652
A7: Datum: | D7: ='1a Marktäckning 11-06'!D7 -> 44506 | F7: ='1a Marktäckning 11-06'!F7 -> DC >19
D9: Ettåriga örtogräs effektgradering
D10: 1 | E10: 2 | F10: 3 | G10: 4 | H10: 5 | I10: 6 | J10: 7 | K10: 8 | L10: 9 | M10: 10 | N10: 11 | O10: 12
A11: Ruta nr | B11: Led | C11: Block | D11: Baldersbrå | E11: Lomme | F11: Våtarv | G11: Svinmålla | H11: Korsört | I11: F | J11: G | K11: H | L11: I | M11: J | N11: Spillsäd | O11: Effekt totalt
A12: ='1a Marktäckning 11-06'!A12 -> 1 | B12: ='1a Marktäckning 11-06'!B12 -> 7 | C12: ='1a Marktäckning 11-06'!C12 -> 1 | D12: 80 | E12: 100 | F12: 100 | G12: 100 | H12: 80 | N12: 80 | O12: 85
A13: ='1a Marktäckning 11-06'!A13 -> 2 | B13: ='1a Marktäckning 11-06'!B13 -> 3 | C13: ='1a Marktäckning 11-06'!C13 -> 1 | D13: 80 | E13: 100 | F13: 100 | G13: 100 | H13: 100 | N13: 100 | O13: 90
A14: ='1a Marktäckning 11-06'!A14 -> 3 | B14: ='1a Marktäckning 11-06'!B14 -> 5 | C14: ='1a Marktäckning 11-06'!C14 -> 1 | D14: 80 | E14: 100 | F14: 100 | G14: 100 | H14: 80 | N14: 80 | O14: 85
A15: ='1a Marktäckning 11-06'!A15 -> 4 | B15: ='1a Marktäckning 11-06'!B15 -> 4 | C15: ='1a Marktäckning 11-06'!C15 -> 1 | D15: 0 | E15: 0 | F15: 0 | G15: 0 | H15: 0 | N15: 100 | O15: 10
A16: ='1a Marktäckning 11-06'!A16 -> 5 | B16: ='1a Marktäckning 11-06'!B16 -> 2 | C16: ='1a Marktäckning 11-06'!C16 -> 1 | D16: 95 | E16: 100 | F16: 100 | G16: 100 | H16: 100 | N16: 100 | O16: 95
A17: ='1a Marktäckning 11-06'!A17 -> 6 | B17: ='1a Marktäckning 11-06'!B17 -> 6 | C17: ='1a Marktäckning 11-06'!C17 -> 1 | D17: 80 | E17: 100 | F17: 100 | G17: 100 | H17: 80 | N17: 100 | O17: 85
A18: ='1a Marktäckning 11-06'!A18 -> 7 | B18: ='1a Marktäckning 11-06'!B18 -> 1 | C18: ='1a Marktäckning 11-06'!C18 -> 1
A19: ='1a Marktäckning 11-06'!A19 -> 8 | B19: ='1a Marktäckning 11-06'!B19 -> 2 | C19: ='1a Marktäckning 11-06'!C19 -> 2 | D19: 90 | E19: 100 | F19: 100 | G19: 100 | H19: 100 | N19: 100 | O19: 93
A20: ='1a Marktäckning 11-06'!A20 -> 9 | B20: ='1a Marktäckning 11-06'!B20 -> 7 | C20: ='1a Marktäckning 11-06'!C20 -> 2 | D20: 70 | E20: 100 | F20: 100 | G20: 100 | H20: 70 | N20: 100 | O20: 85
A21: ='1a Marktäckning 11-06'!A21 -> 10 | B21: ='1a Marktäckning 11-06'!B21 -> 6 | C21: ='1a Marktäckning 11-06'!C21 -> 2 | D21: 80 | E21: 100 | F21: 100 | G21: 100 | H21: 70 | N21: 100 | O21: 80
A22: ='1a Marktäckning 11-06'!A22 -> 11 | B22: ='1a Marktäckning 11-06'!B22 -> 1 | C22: ='1a Marktäckning 11-06'!C22 -> 2
A23: ='1a Marktäckning 11-06'!A23 -> 12 | B23: ='1a Marktäckning 11-06'!B23 -> 4 | C23: ='1a Marktäckning 11-06'!C23 -> 2 | D23: 0 | E23: 0 | F23: 0 | G23: 0 | H23: 0 | N23: 100 | O23: 10
A24: ='1a Marktäckning 11-06'!A24 -> 13 | B24: ='1a Marktäckning 11-06'!B24 -> 3 | C24: ='1a Marktäckning 11-06'!C24 -> 2 | D24: 93 | E24: 100 | F24: 100 | G24: 100 | H24: 100 | N24: 90 | O24: 95
A25: ='1a Marktäckning 11-06'!A25 -> 14 | B25: ='1a Marktäckning 11-06'!B25 -> 5 | C25: ='1a Marktäckning 11-06'!C25 -> 2 | D25: 85 | E25: 100 | F25: 100 | G25: 100 | H25: 70 | N25: 100 | O25: 90
A26: ='1a Marktäckning 11-06'!A26 -> 15 | B26: ='1a Marktäckning 11-06'!B26 -> 3 | C26: ='1a Marktäckning 11-06'!C26 -> 3 | D26: 85 | E26: 100 | F26: 100 | G26: 100 | H26: 100 | N26: 90 | O26: 90
A27: ='1a Marktäckning 11-06'!A27 -> 16 | B27: ='1a Marktäckning 11-06'!B27 -> 4 | C27: ='1a Marktäckning 11-06'!C27 -> 3 | D27: 0 | E27: 0 | F27: 0 | G27: 0 | H27: 0 | N27: 100 | O27: 0
A28: ='1a Marktäckning 11-06'!A28 -> 17 | B28: ='1a Marktäckning 11-06'!B28 -> 1 | C28: ='1a Marktäckning 11-06'!C28 -> 3
A29: ='1a Marktäckning 11-06'!A29 -> 18 | B29: ='1a Marktäckning 11-06'!B29 -> 6 | C29: ='1a Marktäckning 11-06'!C29 -> 3 | D29: 70 | E29: 100 | F29: 100 | G29: 100 | H29: 85 | N29: 100 | O29: 85
A30: ='1a Marktäckning 11-06'!A30 -> 19 | B30: ='1a Marktäckning 11-06'!B30 -> 7 | C30: ='1a Marktäckning 11-06'!C30 -> 3 | D30: 80 | E30: 100 | F30: 100 | G30: 100 | H30: 85 | N30: 100 | O30: 85
A31: ='1a Marktäckning 11-06'!A31 -> 20 | B31: ='1a Marktäckning 11-06'!B31 -> 5 | C31: ='1a Marktäckning 11-06'!C31 -> 3 | D31: 60 | E31: 100 | F31: 90 | G31: 100 | H31: 70 | N31: 90 | O31: 80
A32: ='1a Marktäckning 11-06'!A32 -> 21 | B32: ='1a Marktäckning 11-06'!B32 -> 2 | C32: ='1a Marktäckning 11-06'!C32 -> 3 | D32: 90 | E32: 97 | F32: 100 | G32: 100 | H32: 100 | N32: 100 | O32: 93
A33: ='1a Marktäckning 11-06'!A33 -> 22 | B33: ='1a Marktäckning 11-06'!B33 -> 1 | C33: ='1a Marktäckning 11-06'!C33 -> 4
A34: ='1a Marktäckning 11-06'!A34 -> 23 | B34: ='1a Marktäckning 11-06'!B34 -> 4 | C34: ='1a Marktäckning 11-06'!C34 -> 4 | D34: 0 | E34: 0 | F34: 0 | G34: 0 | H34: 0 | N34: 100 | O34: 0
A35: ='1a Marktäckning 11-06'!A35 -> 24 | B35: ='1a Marktäckning 11-06'!B35 -> 3 | C35: ='1a Marktäckning 11-06'!C35 -> 4 | D35: 90 | E35: 100 | F35: 100 | G35: 100 | H35: 100 | N35: 100 | O35: 93
A36: ='1a Marktäckning 11-06'!A36 -> 25 | B36: ='1a Marktäckning 11-06'!B36 -> 5 | C36: ='1a Marktäckning 11-06'!C36 -> 4 | D36: 70 | E36: 100 | F36: 100 | G36: 100 | H36: 80 | N36: 90 | O36: 80
A37: ='1a Marktäckning 11-06'!A37 -> 26 | B37: ='1a Marktäckning 11-06'!B37 -> 6 | C37: ='1a Marktäckning 11-06'!C37 -> 4 | D37: 80 | E37: 100 | F37: 100 | G37: 100 | H37: 70 | N37: 100 | O37: 90
A38: ='1a Marktäckning 11-06'!A38 -> 27 | B38: ='1a Marktäckning 11-06'!B38 -> 7 | C38: ='1a Marktäckning 11-06'!C38 -> 4 | D38: 70 | E38: 100 | F38: 100 | G38: 100 | H38: 70 | N38: 100 | O38: 85
A39: ='1a Marktäckning 11-06'!A39 -> 28 | B39: ='1a Marktäckning 11-06'!B39 -> 2 | C39: ='1a Marktäckning 11-06'!C39 -> 4 | D39: 93 | E39: 100 | F39: 100 | G39: 100 | H39: 100 | N39: 100 | O39: 93
D41: =D11 -> Baldersbrå | E41: =E11 -> Lomme | F41: =F11 -> Våtarv | G41: =G11 -> Svinmålla | H41: =H11 -> Korsört | I41: =I11 -> F | J41: =J11 -> G | K41: =K11 -> H | ... O41: =O11 -> Effekt totalt
A42: 1 | D42: =(SUMIFS($D$12:$D$39,B12:B39,$A$42))/4 -> 0 | E42: =(SUMIFS($E$12:$E$39,$B$12:$B$39,A42))/4 -> 0 | F42: =(SUMIFS($F$12:$F$39,$B$12:$B$39,A42))/4 -> 0 | G42: =(SUMIFS($G$12:$G$39,$B$12:$B$39,A42))/4 -> 0 | H42: =(SUMIFS($H$12:$H$39,$B$12:$B$39,A42))/4 -> 0 | I42: =(SUMIFS($I$12:$I$39,$B$12:$B$39,A42))/4 -> 0 | J42: =(SUMIFS($J$13:$J$40,$B$12:$B$39,A42))/4 -> 0 | K42: =(SUMIFS($K$12:$K$39,$B$12:$B$39,A42))/4 -> 0 | L42: =(SUMIFS($L$12:$L$39,$B$12:$B$39,A42))/4 -> 0 | M42: =(SUMIFS($M$12:$M$39,$B$12:$B$39,A42))/4 -> 0 | N42: =(SUMIFS($N$12:$N$39,$B$12:$B$39,A42))/4 -> 0 | O42: =(SUMIFS($O$12:$O$39,$B$12:$B$39,A42))/4 -> 0
A43: 2 | D43: =(SUMIFS($D$12:$D$39,$B$12:$B$39,A43))/4 -> 92 | E43: =(SUMIFS($E$12:$E$39,$B$12:$B$39,A43))/4 -> 99.25 | F43: =(SUMIFS($F$12:$F$39,$B$12:$B$39,A43))/4 -> 100 | G43: =(SUMIFS($G$12:$G$39,$B$12:$B$39,A43))/4 -> 100 | H43: =(SUMIFS($H$12:$H$39,$B$12:$B$39,A43))/4 -> 100 | I43: =(SUMIFS($I$12:$I$39,$B$12:$B$39,A43))/4 -> 0 | J43: =(SUMIFS($J$13:$J$40,$B$12:$B$39,A43))/4 -> 0 | K43: =(SUMIFS($K$12:$K$39,$B$12:$B$39,A43))/4 -> 0 | L43: =(SUMIFS($L$12:$L$39,$B$12:$B$39,A43))/4 -> 0 | M43: =(SUMIFS($M$12:$M$39,$B$12:$B$39,A43))/4 -> 0 | N43: =(SUMIFS($N$12:$N$39,$B$12:$B$39,A43))/4 -> 100 | O43: =(SUMIFS($O$12:$O$39,$B$12:$B$39,A43))/4 -> 93.5
...

Sheet 2a marktäckning
A1: Ogräsgradering marktäckning
A2: Försöksserie: | D2: ='1a Marktäckning 11-06'!D2 -> Örtogräsbekämpning i höstraps, plöjt
A3: Plan nr: | D3: ='1a Marktäckning 11-06'!D3 -> L5-8010P
A4: Försöks nr: | D4: ='1a Marktäckning 11-06'!D4 -> I-915-2021
A5: ADB nr: | D5: ='1a Marktäckning 11-06'!D5 -> 0566652
A7: Datum: | D7: 2
D9: Ettåriga örtogräs marktäckning
D10: 1 | E10: 2 | F10: 3 | G10: 4 | H10: 5 | I10: 6 | J10: 7 | K10: 8 | L10: 9 | M10: 10 | N10: 11 | O10: 12
A11: Ruta nr | B11: Led | C11: Block | D11: A | E11: B | F11: C | G11: D | H11: E | I11: F | J11: G | K11: H | L11: I | M11: J | N11: K | O11: L
A12: ='1a Marktäckning 11-06'!A12 -> 1 | B12: ='1a Marktäckning 11-06'!B12 -> 7 | C12: ='1a Marktäckning 11-06'!C12 -> 1
A13: ='1a Marktäckning 11-06'!A13 -> 2 | B13: ='1a Marktäckning 11-06'!B13 -> 3 | C13: ='1a Marktäckning 11-06'!C13 -> 1
A14: ='1a Marktäckning 11-06'!A14 -> 3 | B14: ='1a Marktäckning 11-06'!B14 -> 5 | C14: ='1a Marktäckning 11-06'!C14 -> 1
A15: ='1a Marktäckning 11-06'!A15 -> 4 | B15: ='1a Marktäckning 11-06'!B15 -> 4 | C15: ='1a Marktäckning 11-06'!C15 -> 1
A16: ='1a Marktäckning 11-06'!A16 -> 5 | B16: ='1a Marktäckning 11-06'!B16 -> 2 | C16: ='1a Marktäckning 11-06'!C16 -> 1
A17: ='1a Marktäckning 11-06'!A17 -> 6 | B17: ='1a Marktäckning 11-06'!B17 -> 6 | C17: ='1a Marktäckning 11-06'!C17 -> 1
A18: ='1a Marktäckning 11-06'!A18 -> 7 | B18: ='1a Marktäckning 11-06'!B18 -> 1 | C18: ='1a Marktäckning 11-06'!C18 -> 1
A19: ='1a Marktäckning 11-06'!A19 -> 8 | B19: ='1a Marktäckning 11-06'!B19 -> 2 | C19: ='1a Marktäckning 11-06'!C19 -> 2
A20: ='1a Marktäckning 11-06'!A20 -> 9 | B20: ='1a Marktäckning 11-06'!B20 -> 7 | C20: ='1a Marktäckning 11-06'!C20 -> 2
A21: ='1a Marktäckning 11-06'!A21 -> 10 | B21: ='1a Marktäckning 11-06'!B21 -> 6 | C21: ='1a Marktäckning 11-06'!C21 -> 2
A22: ='1a Marktäckning 11-06'!A22 -> 11 | B22: ='1a Marktäckning 11-06'!B22 -> 1 | C22: ='1a Marktäckning 11-06'!C22 -> 2
A23: ='1a Marktäckning 11-06'!A23 -> 12 | B23: ='1a Marktäckning 11-06'!B23 -> 4 | C23: ='1a Marktäckning 11-06'!C23 -> 2
... A39: ='1a Marktäckning 11-06'!A39 -> 28 | B39: ='1a Marktäckning 11-06'!B39 -> 2 | C39: ='1a Marktäckning 11-06'!C39 -> 4

Sheet 2a effekt
A1: Ogräsgradering effektgradering
A2: Försöksserie: | D2: ='1a Marktäckning 11-06'!D2 -> Örtogräsbekämpning i höstraps, plöjt
A3: Plan nr: | D3: ='2a marktäckning'!D3 -> L5-8010P
A4: Försöks nr: | D4: ='2a marktäckning'!D4 -> I-915-2021
A5: ADB nr: | D5: ='2a marktäckning'!D5 -> 0566652
A7: Datum: | D7: ='2a marktäckning'!D7 -> 2
D9: Ettåriga örtogräs effektgradering
D10: 1 | E10: 2 | F10: 3 | G10: 4 | H10: 5 | I10: 6 | J10: 7 | K10: 8
A11: Ruta nr | B11: Led | C11: Block | D11: A | E11: B | F11: C | G11: D | H11: E | I11: F | J11: G | K11: H
A12: ='1a Marktäckning 11-06'!A12 -> 1 | B12: ='1a Marktäckning 11-06'!B12 -> 7 | C12: ='1a Marktäckning 11-06'!C12 -> 1
A13: ='1a Marktäckning 11-06'!A13 -> 2 | B13: ='1a Marktäckning 11-06'!B13 -> 3 | C13: ='1a Marktäckning 11-06'!C13 -> 1
A14: ='1a Marktäckning 11-06'!A14 -> 3 | B14: ='1a Marktäckning 11-06'!B14 -> 5 | C14: ='1a Marktäckning 11-06'!C14 -> 1
A15: ='1a Marktäckning 11-06'!A15 -> 4 | B15: ='1a Marktäckning 11-06'!B15 -> 4 | C15: ='1a Marktäckning 11-06'!C15 -> 1
A16: ='1a Marktäckning 11-06'!A16 -> 5 | B16: ='1a Marktäckning 11-06'!B16 -> 2 | C16: ='1a Marktäckning 11-06'!C16 -> 1
A17: ='1a Marktäckning 11-06'!A17 -> 6 | B17: ='1a Marktäckning 11-06'!B17 -> 6 | C17: ='1a Marktäckning 11-06'!C17 -> 1
A18: ='1a Marktäckning 11-06'!A18 -> 7 | B18: ='1a Marktäckning 11-06'!B18 -> 1 | C18: ='1a Marktäckning 11-06'!C18 -> 1
A19: ='1a Marktäckning 11-06'!A19 -> 8 | B19: ='1a Marktäckning 11-06'!B19 -> 2 | C19: ='1a Marktäckning 11-06'!C19 -> 2
A20: ='1a Marktäckning 11-06'!A20 -> 9 | B20: ='1a Marktäckning 11-06'!B20 -> 7 | C20: ='1a Marktäckning 11-06'!C20 -> 2
A21: ='1a Marktäckning 11-06'!A21 -> 10 | B21: ='1a Marktäckning 11-06'!B21 -> 6 | C21: ='1a Marktäckning 11-06'!C21 -> 2
A22: ='1a Marktäckning 11-06'!A22 -> 11 | B22: ='1a Marktäckning 11-06'!B22 -> 1 | C22: ='1a Marktäckning 11-06'!C22 -> 2
A23: ='1a Marktäckning 11-06'!A23 -> 12 | B23: ='1a Marktäckning 11-06'!B23 -> 4 | C23: ='1a Marktäckning 11-06'!C23 -> 2
... A39: ='1a Marktäckning 11-06'!A39 -> 28 | B39: ='1a Marktäckning 11-06'!B39 -> 2 | C39: ='1a Marktäckning 11-06'!C39 -> 4
A40: ='1a Marktäckning 11-06'!#REF! -> #REF! | B40: ='1a Marktäckning 11-06'!#REF! -> #REF! | C40: ='1a Marktäckning 11-06'!#REF! -> #REF!
A41: ='1a Marktäckning 11-06'!#REF! -> #REF! | B41: ='1a Marktäckning 11-06'!#REF! -> #REF! | C41: ='1a Marktäckning 11-06'!#REF! -> #REF!
A42: ='1a Marktäckning 11-06'!#REF! -> #REF! | B42: ='1a Marktäckning 11-06'!#REF! -> #REF! | C42: ='1a Marktäckning 11-06'!#REF! -> #REF!
A43: ='1a Marktäckning 11-06'!#REF! -> #REF! | B43: ='1a Marktäckning 11-06'!#REF! -> #REF! | C43: ='1a Marktäckning 11-06'!#REF! -> #REF!
A44: ='1a Marktäckning 11-06'!#REF! -> #REF! | B44: ='1a Marktäckning 11-06'!#REF! -> #REF! | C44: ='1a Marktäckning 11-06'!#REF! -> #REF!
A45: ='1a Marktäckning 11-06'!#REF! -> #REF! | B45: ='1a Marktäckning 11-06'!#REF! -> #REF! | C45: ='1a Marktäckning 11-06'!#REF! -> #REF!
A46: ='1a Marktäckning 11-06'!#REF! -> #REF! | B46: ='1a Marktäckning 11-06'!#REF! -> #REF! | C46: ='1a Marktäckning 11-06'!#REF! -> #REF!
A47: ='1a Marktäckning 11-06'!#REF! -> #REF! | B47: ='1a Marktäckning 11-06'!#REF! -> #REF! | C47: ='1a Marktäckning 11-06'!#REF! -> #REF!
A48: ='1a Marktäckning 11-06'!#REF! -> #REF! | B48: ='1a Marktäckning 11-06'!#REF! -> #REF! | C48: ='1a Marktäckning 11-06'!#REF! -> #REF!
A49: ='1a Marktäckning 11-06'!#REF! -> #REF! | B49: ='1a Marktäckning 11-06'!#REF! -> #REF! | C49: ='1a Marktäckning 11-06'!#REF! -> #REF!
A50: ='1a Marktäckning 11-06'!#REF! -> #REF! | B50: ='1a Marktäckning 11-06'!#REF! -> #REF! | C50: ='1a Marktäckning 11-06'!#REF! -> #REF!
A51: ='1a Marktäckning 11-06'!#REF! -> #REF! | B51: ='1a Marktäckning 11-06'!#REF! -> #REF! | C51: ='1a Marktäckning 11-06'!#REF! -> #REF!
... A107: ='1a Marktäckning 11-06'!#REF! -> #REF! | B107: ='1a Marktäckning 11-06'!#REF! -> #REF! | C107: ='1a Marktäckning 11-06'!#REF! -> #REF!

Sheet 3e marktäckning
A1: Ogräsgradering marktäckning
A2: Försöksserie: | D2: ='1a Marktäckning 11-06'!D2 -> Örtogräsbekämpning i höstraps, plöjt
A3: Plan nr: | D3: ='1a Marktäckning 11-06'!D3 -> L5-8010P
A4: Försöks nr: | D4: ='1a Marktäckning 11-06'!D4 -> I-915-2021
A5: ADB nr: | D5: ='1a Marktäckning 11-06'!D5 -> 0566652
A7: Datum: | D7: 3
D9: Ettåriga örtogräs marktäckning | R9: Övriga fleråriga örtogräs marktäckning | W9: Övriga gräsogräs % marktäckning | AA9: Marktäckning ogräs totalt % | AB9: Marktäckning samtliga ettåriga örtogräs % | AC9: Marktäckning övriga fleråriga örtogräs % | AD9: Marktäckning gräsogräs % | AE9: Marktäckning fräken %
D10: 1 | E10: 2 | F10: 3 | G10: 4 | H10: 5 | I10: 6 | J10: 7 | K10: 8 | L10: 9 | M10: 10 | N10: 11 | O10: 12 | P10: 13 | Q10: 14 | R10: 15 | S10: 16 | T10: 17 | U10: 18 | V10: 19 | W10: 20 | X10: 21 | Y10: 22 | Z10: 23
A11: Ruta nr | B11: Led | C11: Block | D11: A | E11: B | F11: C | G11: D | H11: E | I11: F | J11: G | K11: H | L11: I | M11: J | N11: K | O11: L | P11: M | Q11: N | R11: O | S11: P | T11: Q | U11: R | V11: S | W11: T | X11: U | Y11: V | Z11: X
A12: ='1a Marktäckning 11-06'!A12 -> 1 | B12: ='1a Marktäckning 11-06'!B12 -> 7 | C12: ='1a Marktäckning 11-06'!C12 -> 1 | AA12: =AB12+AC12+AD12+AE12 -> 0 | AB12: =SUM(D12:Q12) -> 0 | AC12: =SUM(R12:V12) -> 0 | AD12: =SUM(W12:Z12) -> 0
A13: ='1a Marktäckning 11-06'!A13 -> 2 | B13: ='1a Marktäckning 11-06'!B13 -> 3 | C13: ='1a Marktäckning 11-06'!C13 -> 1 | AA13: =AB13+AC13+AD13+AE13 -> 0 | AB13: =SUM(D13:Q13) -> 0 | AC13: =SUM(R13:V13) -> 0 | AD13: =SUM(W13:Z13) -> 0
A14: ='1a Marktäckning 11-06'!A14 -> 3 | B14: ='1a Marktäckning 11-06'!B14 -> 5 | C14: ='1a Marktäckning 11-06'!C14 -> 1 | AA14: =AB14+AC14+AD14+AE14 -> 0 | AB14: =SUM(D14:Q14) -> 0 | AC14: =SUM(R14:V14) -> 0 | AD14: =SUM(W14:Z14) -> 0
A15: ='1a Marktäckning 11-06'!A15 -> 4 | B15: ='1a Marktäckning 11-06'!B15 -> 4 | C15: ='1a Marktäckning 11-06'!C15 -> 1 | AA15: =AB15+AC15+AD15+AE15 -> 0 | AB15: =SUM(D15:Q15) -> 0 | AC15: =SUM(R15:V15) -> 0 | AD15: =SUM(W15:Z15) -> 0
A16: ='1a Marktäckning 11-06'!A16 -> 5 | B16: ='1a Marktäckning 11-06'!B16 -> 2 | C16: ='1a Marktäckning 11-06'!C16 -> 1 | AA16: =AB16+AC16+AD16+AE16 -> 0 | AB16: =SUM(D16:Q16) -> 0 | AC16: =SUM(R16:V16) -> 0 | AD16: =SUM(W16:Z16) -> 0
A17: ='1a Marktäckning 11-06'!A17 -> 6 | B17: ='1a Marktäckning 11-06'!B17 -> 6 | C17: ='1a Marktäckning 11-06'!C17 -> 1 | AA17: =AB17+AC17+AD17+AE17 -> 0 | AB17: =SUM(D17:Q17) -> 0 | AC17: =SUM(R17:V17) -> 0 | AD17: =SUM(W17:Z17) -> 0
A18: ='1a Marktäckning 11-06'!A18 -> 7 | B18: ='1a Marktäckning 11-06'!B18 -> 1 | C18: ='1a Marktäckning 11-06'!C18 -> 1 | AA18: =AB18+AC18+AD18+AE18 -> 0 | AB18: =SUM(D18:Q18) -> 0 | AC18: =SUM(R18:V18) -> 0 | AD18: =SUM(W18:Z18) -> 0
A19: ='1a Marktäckning 11-06'!A19 -> 8 | B19: ='1a Marktäckning 11-06'!B19 -> 2 | C19: ='1a Marktäckning 11-06'!C19 -> 2 | AA19: =AB19+AC19+AD19+AE19 -> 0 | AB19: =SUM(D19:Q19) -> 0 | AC19: =SUM(R19:V19) -> 0 | AD19: =SUM(W19:Z19) -> 0
A20: ='1a Marktäckning 11-06'!A20 -> 9 | B20: ='1a Marktäckning 11-06'!B20 -> 7 | C20: ='1a Marktäckning 11-06'!C20 -> 2 | AA20: =AB20+AC20+AD20+AE20 -> 0 | AB20: =SUM(D20:Q20) -> 0 | AC20: =SUM(R20:V20) -> 0 | AD20: =SUM(W20:Z20) -> 0
A21: ='1a Marktäckning 11-06'!A21 -> 10 | B21: ='1a Marktäckning 11-06'!B21 -> 6 | C21: ='1a Marktäckning 11-06'!C21 -> 2 | AA21: =AB21+AC21+AD21+AE21 -> 0 | AB21: =SUM(D21:Q21) -> 0 | AC21: =SUM(R21:V21) -> 0 | AD21: =SUM(W21:Z21) -> 0
A22: ='1a Marktäckning 11-06'!A22 -> 11 | B22: ='1a Marktäckning 11-06'!B22 -> 1 | C22: ='1a Marktäckning 11-06'!C22 -> 2 | AA22: =AB22+AC22+AD22+AE22 -> 0 | AB22: =SUM(D22:Q22) -> 0 | AC22: =SUM(R22:V22) -> 0 | AD22: =SUM(W22:Z22) -> 0
A23: ='1a Marktäckning 11-06'!A23 -> 12 | B23: ='1a Marktäckning 11-06'!B23 -> 4 | C23: ='1a Marktäckning 11-06'!C23 -> 2 | AA23: =AB23+AC23+AD23+AE23 -> 0 | AB23: =SUM(D23:Q23) -> 0 | AC23: =SUM(R23:V23) -> 0 | AD23: =SUM(W23:Z23) -> 0
... A39: ='1a Marktäckning 11-06'!A39 -> 28 | B39: ='1a Marktäckning 11-06'!B39 -> 2 | C39: ='1a Marktäckning 11-06'!C39 -> 4 | AA39: =AB39+AC39+AD39+AE39 -> 0 | AB39: =SUM(D39:Q39) -> 0 | AC39: =SUM(R39:V39) -> 0 | AD39: =SUM(W39:Z39) -> 0
A40: ='1a Marktäckning 11-06'!#REF! -> #REF! | B40: ='1a Marktäckning 11-06'!#REF! -> #REF! | C40: ='1a Marktäckning 11-06'!#REF! -> #REF! | AA40: =AB40+AC40+AD40+AE40 -> 0 | AB40: =SUM(D40:Q40) -> 0 | AC40: =SUM(R40:V40) -> 0 | AD40: =SUM(W40:Z40) -> 0
A41: ='1a Marktäckning 11-06'!#REF! -> #REF! | B41: ='1a Marktäckning 11-06'!#REF! -> #REF! | C41: ='1a Marktäckning 11-06'!#REF! -> #REF! | AA41: =AB41+AC41+AD41+AE41 -> 0 | AB41: =SUM(D41:Q41) -> 0 | AC41: =SUM(R41:V41) -> 0 | AD41: =SUM(W41:Z41) -> 0
A42: ='1a Marktäckning 11-06'!#REF! -> #REF! | B42: ='1a Marktäckning 11-06'!#REF! -> #REF! | C42: ='1a Marktäckning 11-06'!#REF! -> #REF! | AA42: =AB42+AC42+AD42+AE42 -> 0 | AB42: =SUM(D42:Q42) -> 0 | AC42: =SUM(R42:V42) -> 0 | AD42: =SUM(W42:Z42) -> 0
A43: ='1a Marktäckning 11-06'!#REF! -> #REF! | B43: ='1a Marktäckning 11-06'!#REF! -> #REF! | C43: ='1a Marktäckning 11-06'!#REF! -> #REF! | AA43: =AB43+AC43+AD43+AE43 -> 0 | AB43: =SUM(D43:Q43) -> 0 | AC43: =SUM(R43:V43) -> 0 | AD43: =SUM(W43:Z43) -> 0
A44: ='1a Marktäckning 11-06'!#REF! -> #REF! | B44: ='1a Marktäckning 11-06'!#REF! -> #REF! | C44: ='1a Marktäckning 11-06'!#REF! -> #REF! | AA44: =AB44+AC44+AD44+AE44 -> 0 | AB44: =SUM(D44:Q44) -> 0 | AC44: =SUM(R44:V44) -> 0 | AD44: =SUM(W44:Z44) -> 0
A45: ='1a Marktäckning 11-06'!#REF! -> #REF! | B45: ='1a Marktäckning 11-06'!#REF! -> #REF! | C45: ='1a Marktäckning 11-06'!#REF! -> #REF! | AA45: =AB45+AC45+AD45+AE45 -> 0 | AB45: =SUM(D45:Q45) -> 0 | AC45: =SUM(R45:V45) -> 0 | AD45: =SUM(W45:Z45) -> 0
A46: ='1a Marktäckning 11-06'!#REF! -> #REF! | B46: ='1a Marktäckning 11-06'!#REF! -> #REF! | C46: ='1a Marktäckning 11-06'!#REF! -> #REF! | AA46: =AB46+AC46+AD46+AE46 -> 0 | AB46: =SUM(D46:Q46) -> 0 | AC46: =SUM(R46:V46) -> 0 | AD46: =SUM(W46:Z46) -> 0
A47: ='1a Marktäckning 11-06'!#REF! -> #REF! | B47: ='1a Marktäckning 11-06'!#REF! -> #REF! | C47: ='1a Marktäckning 11-06'!#REF! -> #REF! | AA47: =AB47+AC47+AD47+AE47 -> 0 | AB47: =SUM(D47:Q47) -> 0 | AC47: =SUM(R47:V47) -> 0 | AD47: =SUM(W47:Z47) -> 0
A48: ='1a Marktäckning 11-06'!#REF! -> #REF! | B48: ='1a Marktäckning 11-06'!#REF! -> #REF! | C48: ='1a Marktäckning 11-06'!#REF! -> #REF! | AA48: =AB48+AC48+AD48+AE48 -> 0 | AB48: =SUM(D48:Q48) -> 0 | AC48: =SUM(R48:V48) -> 0 | AD48: =SUM(W48:Z48) -> 0
A49: ='1a Marktäckning 11-06'!#REF! -> #REF! | B49: ='1a Marktäckning 11-06'!#REF! -> #REF! | C49: ='1a Marktäckning 11-06'!#REF! -> #REF! | AA49: =AB49+AC49+AD49+AE49 -> 0 | AB49: =SUM(D49:Q49) -> 0 | AC49: =SUM(R49:V49) -> 0 | AD49: =SUM(W49:Z49) -> 0
A50: ='1a Marktäckning 11-06'!#REF! -> #REF! | B50: ='1a Marktäckning 11-06'!#REF! -> #REF! | C50: ='1a Marktäckning 11-06'!#REF! -> #REF! | AA50: =AB50+AC50+AD50+AE50 -> 0 | AB50: =SUM(D50:Q50) -> 0 | AC50: =SUM(R50:V50) -> 0 | AD50: =SUM(W50:Z50) -> 0
A51: ='1a Marktäckning 11-06'!#REF! -> #REF! | B51: ='1a Marktäckning 11-06'!#REF! -> #REF! | C51: ='1a Marktäckning 11-06'!#REF! -> #REF! | AA51: =AB51+AC51+AD51+AE51 -> 0 | AB51: =SUM(D51:Q51) -> 0 | AC51: =SUM(R51:V51) -> 0 | AD51: =SUM(W51:Z51) -> 0
... A107: ='1a Marktäckning 11-06'!#REF! -> #REF! | B107: ='1a Marktäckning 11-06'!#REF! -> #REF! | C107: ='1a Marktäckning 11-06'!#REF! -> #REF! | AA107: =AB107+AC107+AD107+AE107 -> 0 | AB107: =SUM(D107:Q107) -> 0 | AC107: =SUM(R107:V107) -> 0 | AD107: =SUM(W107:Z107) -> 0

Sheet 3e effekt
A1: Ogräsgradering effektgradering
A2: Försöksserie: | D2: ='1a Marktäckning 11-06'!D2 -> Örtogräsbekämpning i höstraps, plöjt
A3: Plan nr: | D3: B
A4: Försöks nr: | D4: C
A5: ADB nr: | D5: D
A7: Datum: | D7: 3
D9: Ettåriga örtogräs effektgradering | R9: Övriga fleråriga örtogräs effektgradering | W9: Övriga gräsogräs % effektgradering | AA9: Effektgradering ogräs totalt % | AB9: Effektgradering samtliga ettåriga örtogräs % | AC9: Effektgradering övriga fleråriga örtogräs % | AD9: Effektgradering gräsogräs % | AE9: Effektgradering fräken %
D10: 1 | E10: 2 | F10: 3 | G10: 4 | H10: 5 | I10: 6 | J10: 7 | K10: 8 | L10: 9 | M10: 10 | N10: 11 | O10: 12 | P10: 13 | Q10: 14 | R10: 15 | S10: 16 | T10: 17 | U10: 18 | V10: 19 | W10: 20 | X10: 21 | Y10: 22 | Z10: 23
A11: Ruta nr | B11: Led | C11: Block | D11: A | E11: B | F11: C | G11: D | H11: E | I11: F | J11: G | K11: H | L11: I | M11: J | N11: K | O11: L | P11: M | Q11: N | R11: O | S11: P | T11: Q | U11: R | V11: S | W11: T | X11: U | Y11: V | Z11: X
A12: ='1a Marktäckning 11-06'!A12 -> 1 | B12: ='1a Marktäckning 11-06'!B12 -> 7 | C12: ='1a Marktäckning 11-06'!C12 -> 1 | AA12: =AB12+AC12+AD12+AE12 -> 0 | AB12: =SUM(D12:Q12) -> 0 | AC12: =SUM(R12:V12) -> 0 | AD12: =SUM(W12:Z12) -> 0
A13: ='1a Marktäckning 11-06'!A13 -> 2 | B13: ='1a Marktäckning 11-06'!B13 -> 3 | C13: ='1a Marktäckning 11-06'!C13 -> 1 | AA13: =AB13+AC13+AD13+AE13 -> 0 | AB13: =SUM(D13:Q13) -> 0 | AC13: =SUM(R13:V13) -> 0 | AD13: =SUM(W13:Z13) -> 0
A14: ='1a Marktäckning 11-06'!A14 -> 3 | B14: ='1a Marktäckning 11-06'!B14 -> 5 | C14: ='1a Marktäckning 11-06'!C14 -> 1 | AA14: =AB14+AC14+AD14+AE14 -> 0 | AB14: =SUM(D14:Q14) -> 0 | AC14: =SUM(R14:V14) -> 0 | AD14: =SUM(W14:Z14) -> 0
A15: ='1a Marktäckning 11-06'!A15 -> 4 | B15: ='1a Marktäckning 11-06'!B15 -> 4 | C15: ='1a Marktäckning 11-06'!C15 -> 1 | AA15: =AB15+AC15+AD15+AE15 -> 0 | AB15: =SUM(D15:Q15) -> 0 | AC15: =SUM(R15:V15) -> 0 | AD15: =SUM(W15:Z15) -> 0
A16: ='1a Marktäckning 11-06'!A16 -> 5 | B16: ='1a Marktäckning 11-06'!B16 -> 2 | C16: ='1a Marktäckning 11-06'!C16 -> 1 | AA16: =AB16+AC16+AD16+AE16 -> 0 | AB16: =SUM(D16:Q16) -> 0 | AC16: =SUM(R16:V16) -> 0 | AD16: =SUM(W16:Z16) -> 0
A17: ='1a Marktäckning 11-06'!A17 -> 6 | B17: ='1a Marktäckning 11-06'!B17 -> 6 | C17: ='1a Marktäckning 11-06'!C17 -> 1 | AA17: =AB17+AC17+AD17+AE17 -> 0 | AB17: =SUM(D17:Q17) -> 0 | AC17: =SUM(R17:V17) -> 0 | AD17: =SUM(W17:Z17) -> 0
A18: ='1a Marktäckning 11-06'!A18 -> 7 | B18: ='1a Marktäckning 11-06'!B18 -> 1 | C18: ='1a Marktäckning 11-06'!C18 -> 1 | AA18: =AB18+AC18+AD18+AE18 -> 0 | AB18: =SUM(D18:Q18) -> 0 | AC18: =SUM(R18:V18) -> 0 | AD18: =SUM(W18:Z18) -> 0
A19: ='1a Marktäckning 11-06'!A19 -> 8 | B19: ='1a Marktäckning 11-06'!B19 -> 2 | C19: ='1a Marktäckning 11-06'!C19 -> 2 | AA19: =AB19+AC19+AD19+AE19 -> 0 | AB19: =SUM(D19:Q19) -> 0 | AC19: =SUM(R19:V19) -> 0 | AD19: =SUM(W19:Z19) -> 0
A20: ='1a Marktäckning 11-06'!A20 -> 9 | B20: ='1a Marktäckning 11-06'!B20 -> 7 | C20: ='1a Marktäckning 11-06'!C20 -> 2 | AA20: =AB20+AC20+AD20+AE20 -> 0 | AB20: =SUM(D20:Q20) -> 0 | AC20: =SUM(R20:V20) -> 0 | AD20: =SUM(W20:Z20) -> 0
A21: ='1a Marktäckning 11-06'!A21 -> 10 | B21: ='1a Marktäckning 11-06'!B21 -> 6 | C21: ='1a Marktäckning 11-06'!C21 -> 2 | AA21: =AB21+AC21+AD21+AE21 -> 0 | AB21: =SUM(D21:Q21) -> 0 | AC21: =SUM(R21:V21) -> 0 | AD21: =SUM(W21:Z21) -> 0
A22: ='1a Marktäckning 11-06'!A22 -> 11 | B22: ='1a Marktäckning 11-06'!B22 -> 1 | C22: ='1a Marktäckning 11-06'!C22 -> 2 | AA22: =AB22+AC22+AD22+AE22 -> 0 | AB22: =SUM(D22:Q22) -> 0 | AC22: =SUM(R22:V22) -> 0 | AD22: =SUM(W22:Z22) -> 0
A23: ='1a Marktäckning 11-06'!A23 -> 12 | B23: ='1a Marktäckning 11-06'!B23 -> 4 | C23: ='1a Marktäckning 11-06'!C23 -> 2 | AA23: =AB23+AC23+AD23+AE23 -> 0 | AB23: =SUM(D23:Q23) -> 0 | AC23: =SUM(R23:V23) -> 0 | AD23: =SUM(W23:Z23) -> 0
... A39: ='1a Marktäckning 11-06'!A39 -> 28 | B39: ='1a Marktäckning 11-06'!B39 -> 2 | C39: ='1a Marktäckning 11-06'!C39 -> 4 | AA39: =AB39+AC39+AD39+AE39 -> 0 | AB39: =SUM(D39:Q39) -> 0 | AC39: =SUM(R39:V39) -> 0 | AD39: =SUM(W39:Z39) -> 0
A40: ='1a Marktäckning 11-06'!#REF! -> #REF! | B40: ='1a Marktäckning 11-06'!#REF! -> #REF! | C40: ='1a Marktäckning 11-06'!#REF! -> #REF! | AA40: =AB40+AC40+AD40+AE40 -> 0 | AB40: =SUM(D40:Q40) -> 0 | AC40: =SUM(R40:V40) -> 0 | AD40: =SUM(W40:Z40) -> 0
A41: ='1a Marktäckning 11-06'!#REF! -> #REF! | B41: ='1a Marktäckning 11-06'!#REF! -> #REF! | C41: ='1a Marktäckning 11-06'!#REF! -> #REF! | AA41: =AB41+AC41+AD41+AE41 -> 0 | AB41: =SUM(D41:Q41) -> 0 | AC41: =SUM(R41:V41) -> 0 | AD41: =SUM(W41:Z41) -> 0
A42: ='1a Marktäckning 11-06'!#REF! -> #REF! | B42: ='1a Marktäckning 11-06'!#REF! -> #REF! | C42: ='1a Marktäckning 11-06'!#REF! -> #REF! | AA42: =AB42+AC42+AD42+AE42 -> 0 | AB42: =SUM(D42:Q42) -> 0 | AC42: =SUM(R42:V42) -> 0 | AD42: =SUM(W42:Z42) -> 0
A43: ='1a Marktäckning 11-06'!#REF! -> #REF! | B43: ='1a Marktäckning 11-06'!#REF! -> #REF! | C43: ='1a Marktäckning 11-06'!#REF! -> #REF! | AA43: =AB43+AC43+AD43+AE43 -> 0 | AB43: =SUM(D43:Q43) -> 0 | AC43: =SUM(R43:V43) -> 0 | AD43: =SUM(W43:Z43) -> 0
A44: ='1a Marktäckning 11-06'!#REF! -> #REF! | B44: ='1a Marktäckning 11-06'!#REF! -> #REF! | C44: ='1a Marktäckning 11-06'!#REF! -> #REF! | AA44: =AB44+AC44+AD44+AE44 -> 0 | AB44: =SUM(D44:Q44) -> 0 | AC44: =SUM(R44:V44) -> 0 | AD44: =SUM(W44:Z44) -> 0
A45: ='1a Marktäckning 11-06'!#REF! -> #REF! | B45: ='1a Marktäckning 11-06'!#REF! -> #REF! | C45: ='1a Marktäckning 11-06'!#REF! -> #REF! | AA45: =AB45+AC45+AD45+AE45 -> 0 | AB45: =SUM(D45:Q45) -> 0 | AC45: =SUM(R45:V45) -> 0 | AD45: =SUM(W45:Z45) -> 0
A46: ='1a Marktäckning 11-06'!#REF! -> #REF! | B46: ='1a Marktäckning 11-06'!#REF! -> #REF! | C46: ='1a Marktäckning 11-06'!#REF! -> #REF! | AA46: =AB46+AC46+AD46+AE46 -> 0 | AB46: =SUM(D46:Q46) -> 0 | AC46: =SUM(R46:V46) -> 0 | AD46: =SUM(W46:Z46) -> 0
A47: ='1a Marktäckning 11-06'!#REF! -> #REF! | B47: ='1a Marktäckning 11-06'!#REF! -> #REF! | C47: ='1a Marktäckning 11-06'!#REF! -> #REF! | AA47: =AB47+AC47+AD47+AE47 -> 0 | AB47: =SUM(D47:Q47) -> 0 | AC47: =SUM(R47:V47) -> 0 | AD47: =SUM(W47:Z47) -> 0
A48: ='1a Marktäckning 11-06'!#REF! -> #REF! | B48: ='1a Marktäckning 11-06'!#REF! -> #REF! | C48: ='1a Marktäckning 11-06'!#REF! -> #REF! | AA48: =AB48+AC48+AD48+AE48 -> 0 | AB48: =SUM(D48:Q48) -> 0 | AC48: =SUM(R48:V48) -> 0 | AD48: =SUM(W48:Z48) -> 0
A49: ='1a Marktäckning 11-06'!#REF! -> #REF! | B49: ='1a Marktäckning 11-06'!#REF! -> #REF! | C49: ='1a Marktäckning 11-06'!#REF! -> #REF! | AA49: =AB49+AC49+AD49+AE49 -> 0 | AB49: =SUM(D49:Q49) -> 0 | AC49: =SUM(R49:V49) -> 0 | AD49: =SUM(W49:Z49) -> 0
A50: ='1a Marktäckning 11-06'!#REF! -> #REF! | B50: ='1a Marktäckning 11-06'!#REF! -> #REF! | C50: ='1a Marktäckning 11-06'!#REF! -> #REF! | AA50: =AB50+AC50+AD50+AE50 -> 0 | AB50: =SUM(D50:Q50) -> 0 | AC50: =SUM(R50:V50) -> 0 | AD50: =SUM(W50:Z50) -> 0
A51: ='1a Marktäckning 11-06'!#REF! -> #REF! | B51: ='1a Marktäckning 11-06'!#REF! -> #REF! | C51: ='1a Marktäckning 11-06'!#REF! -> #REF! | AA51: =AB51+AC51+AD51+AE51 -> 0 | AB51: =SUM(D51:Q51) -> 0 | AC51: =SUM(R51:V51) -> 0 | AD51: =SUM(W51:Z51) -> 0
... A107: ='1a Marktäckning 11-06'!#REF! -> #REF! | B107: ='1a Marktäckning 11-06'!#REF! -> #REF! | C107: ='1a Marktäckning 11-06'!#REF! -> #REF! | AA107: =AB107+AC107+AD107+AE107 -> 0 | AB107: =SUM(D107:Q107) -> 0 | AC107: =SUM(R107:V107) -> 0 | AD107: =SUM(W107:Z107) -> 0

Sheet 4e marktäckning
A1: Ogräsgradering marktäckning
A2: Försöksserie: | D2: ='1a Marktäckning 11-06'!D2 -> Örtogräsbekämpning i höstraps, plöjt
A3: Plan nr: | D3: ='1a Marktäckning 11-06'!D3 -> L5-8010P
A4: Försöks nr: | D4: ='1a Marktäckning 11-06'!D4 -> I-915-2021
A5: ADB nr: | D5: ='1a Marktäckning 11-06'!D5 -> 0566652
A7: Datum: | D7: 4
D9: Ettåriga örtogräs marktäckning | R9: Övriga fleråriga örtogräs marktäckning | W9: Övriga gräsogräs % marktäckning | AA9: Marktäckning ogräs totalt % | AB9: Marktäckning samtliga ettåriga örtogräs % | AC9: Marktäckning övriga fleråriga örtogräs % | AD9: Marktäckning gräsogräs % | AE9: Marktäckning fräken %
D10: 1 | E10: 2 | F10: 3 | G10: 4 | H10: 5 | I10: 6 | J10: 7 | K10: 8 | L10: 9 | M10: 10 | N10: 11 | O10: 12 | P10: 13 | Q10: 14 | R10: 15 | S10: 16 | T10: 17 | U10: 18 | V10: 19 | W10: 20 | X10: 21 | Y10: 22 | Z10: 23
A11: Ruta nr | B11: Led | C11: Block | D11: A | E11: B | F11: C | G11: D | H11: E | I11: F | J11: G | K11: H | L11: I | M11: J | N11: K | O11: L | P11: M | Q11: N | R11: O | S11: P | T11: Q | U11: R | V11: S | W11: T | X11: U | Y11: V | Z11: X
A12: ='1a Marktäckning 11-06'!A12 -> 1 | B12: ='1a Marktäckning 11-06'!B12 -> 7 | C12: ='1a Marktäckning 11-06'!C12 -> 1 | AA12: =AB12+AC12+AD12+AE12 -> 0 | AB12: =SUM(D12:Q12) -> 0 | AC12: =SUM(R12:V12) -> 0 | AD12: =SUM(W12:Z12) -> 0
A13: ='1a Marktäckning 11-06'!A13 -> 2 | B13: ='1a Marktäckning 11-06'!B13 -> 3 | C13: ='1a Marktäckning 11-06'!C13 -> 1 | AA13: =AB13+AC13+AD13+AE13 -> 0 | AB13: =SUM(D13:Q13) -> 0 | AC13: =SUM(R13:V13) -> 0 | AD13: =SUM(W13:Z13) -> 0
A14: ='1a Marktäckning 11-06'!A14 -> 3 | B14: ='1a Marktäckning 11-06'!B14 -> 5 | C14: ='1a Marktäckning 11-06'!C14 -> 1 | AA14: =AB14+AC14+AD14+AE14 -> 0 | AB14: =SUM(D14:Q14) -> 0 | AC14: =SUM(R14:V14) -> 0 | AD14: =SUM(W14:Z14) -> 0
A15: ='1a Marktäckning 11-06'!A15 -> 4 | B15: ='1a Marktäckning 11-06'!B15 -> 4 | C15: ='1a Marktäckning 11-06'!C15 -> 1 | AA15: =AB15+AC15+AD15+AE15 -> 0 | AB15: =SUM(D15:Q15) -> 0 | AC15: =SUM(R15:V15) -> 0 | AD15: =SUM(W15:Z15) -> 0
A16: ='1a Marktäckning 11-06'!A16 -> 5 | B16: ='1a Marktäckning 11-06'!B16 -> 2 | C16: ='1a Marktäckning 11-06'!C16 -> 1 | AA16: =AB16+AC16+AD16+AE16 -> 0 | AB16: =SUM(D16:Q16) -> 0 | AC16: =SUM(R16:V16) -> 0 | AD16: =SUM(W16:Z16) -> 0
A17: ='1a Marktäckning 11-06'!A17 -> 6 | B17: ='1a Marktäckning 11-06'!B17 -> 6 | C17: ='1a Marktäckning 11-06'!C17 -> 1 | AA17: =AB17+AC17+AD17+AE17 -> 0 | AB17: =SUM(D17:Q17) -> 0 | AC17: =SUM(R17:V17) -> 0 | AD17: =SUM(W17:Z17) -> 0
A18: ='1a Marktäckning 11-06'!A18 -> 7 | B18: ='1a Marktäckning 11-06'!B18 -> 1 | C18: ='1a Marktäckning 11-06'!C18 -> 1 | AA18: =AB18+AC18+AD18+AE18 -> 0 | AB18: =SUM(D18:Q18) -> 0 | AC18: =SUM(R18:V18) -> 0 | AD18: =SUM(W18:Z18) -> 0
A19: ='1a Marktäckning 11-06'!A19 -> 8 | B19: ='1a Marktäckning 11-06'!B19 -> 2 | C19: ='1a Marktäckning 11-06'!C19 -> 2 | AA19: =AB19+AC19+AD19+AE19 -> 0 | AB19: =SUM(D19:Q19) -> 0 | AC19: =SUM(R19:V19) -> 0 | AD19: =SUM(W19:Z19) -> 0
A20: ='1a Marktäckning 11-06'!A20 -> 9 | B20: ='1a Marktäckning 11-06'!B20 -> 7 | C20: ='1a Marktäckning 11-06'!C20 -> 2 | AA20: =AB20+AC20+AD20+AE20 -> 0 | AB20: =SUM(D20:Q20) -> 0 | AC20: =SUM(R20:V20) -> 0 | AD20: =SUM(W20:Z20) -> 0
A21: ='1a Marktäckning 11-06'!A21 -> 10 | B21: ='1a Marktäckning 11-06'!B21 -> 6 | C21: ='1a Marktäckning 11-06'!C21 -> 2 | AA21: =AB21+AC21+AD21+AE21 -> 0 | AB21: =SUM(D21:Q21) -> 0 | AC21: =SUM(R21:V21) -> 0 | AD21: =SUM(W21:Z21) -> 0
A22: ='1a Marktäckning 11-06'!A22 -> 11 | B22: ='1a Marktäckning 11-06'!B22 -> 1 | C22: ='1a Marktäckning 11-06'!C22 -> 2 | AA22: =AB22+AC22+AD22+AE22 -> 0 | AB22: =SUM(D22:Q22) -> 0 | AC22: =SUM(R22:V22) -> 0 | AD22: =SUM(W22:Z22) -> 0
A23: ='1a Marktäckning 11-06'!A23 -> 12 | B23: ='1a Marktäckning 11-06'!B23 -> 4 | C23: ='1a Marktäckning 11-06'!C23 -> 2 | AA23: =AB23+AC23+AD23+AE23 -> 0 | AB23: =SUM(D23:Q23) -> 0 | AC23: =SUM(R23:V23) -> 0 | AD23: =SUM(W23:Z23) -> 0
... A39: ='1a Marktäckning 11-06'!A39 -> 28 | B39: ='1a Marktäckning 11-06'!B39 -> 2 | C39: ='1a Marktäckning 11-06'!C39 -> 4 | AA39: =AB39+AC39+AD39+AE39 -> 0 | AB39: =SUM(D39:Q39) -> 0 | AC39: =SUM(R39:V39) -> 0 | AD39: =SUM(W39:Z39) -> 0
A40: ='1a Marktäckning 11-06'!#REF! -> #REF! | B40: ='1a Marktäckning 11-06'!#REF! -> #REF! | C40: ='1a Marktäckning 11-06'!#REF! -> #REF! | AA40: =AB40+AC40+AD40+AE40 -> 0 | AB40: =SUM(D40:Q40) -> 0 | AC40: =SUM(R40:V40) -> 0 | AD40: =SUM(W40:Z40) -> 0
A41: ='1a Marktäckning 11-06'!#REF! -> #REF! | B41: ='1a Marktäckning 11-06'!#REF! -> #REF! | C41: ='1a Marktäckning 11-06'!#REF! -> #REF! | AA41: =AB41+AC41+AD41+AE41 -> 0 | AB41: =SUM(D41:Q41) -> 0 | AC41: =SUM(R41:V41) -> 0 | AD41: =SUM(W41:Z41) -> 0
A42: ='1a Marktäckning 11-06'!#REF! -> #REF! | B42: ='1a Marktäckning 11-06'!#REF! -> #REF! | C42: ='1a Marktäckning 11-06'!#REF! -> #REF! | AA42: =AB42+AC42+AD42+AE42 -> 0 | AB42: =SUM(D42:Q42) -> 0 | AC42: =SUM(R42:V42) -> 0 | AD42: =SUM(W42:Z42) -> 0
A43: ='1a Marktäckning 11-06'!#REF! -> #REF! | B43: ='1a Marktäckning 11-06'!#REF! -> #REF! | C43: ='1a Marktäckning 11-06'!#REF! -> #REF! | AA43: =AB43+AC43+AD43+AE43 -> 0 | AB43: =SUM(D43:Q43) -> 0 | AC43: =SUM(R43:V43) -> 0 | AD43: =SUM(W43:Z43) -> 0
A44: ='1a Marktäckning 11-06'!#REF! -> #REF! | B44: ='1a Marktäckning 11-06'!#REF! -> #REF! | C44: ='1a Marktäckning 11-06'!#REF! -> #REF! | AA44: =AB44+AC44+AD44+AE44 -> 0 | AB44: =SUM(D44:Q44) -> 0 | AC44: =SUM(R44:V44) -> 0 | AD44: =SUM(W44:Z44) -> 0
A45: ='1a Marktäckning 11-06'!#REF! -> #REF! | B45: ='1a Marktäckning 11-06'!#REF! -> #REF! | C45: ='1a Marktäckning 11-06'!#REF! -> #REF! | AA45: =AB45+AC45+AD45+AE45 -> 0 | AB45: =SUM(D45:Q45) -> 0 | AC45: =SUM(R45:V45) -> 0 | AD45: =SUM(W45:Z45) -> 0
A46: ='1a Marktäckning 11-06'!#REF! -> #REF! | B46: ='1a Marktäckning 11-06'!#REF! -> #REF! | C46: ='1a Marktäckning 11-06'!#REF! -> #REF! | AA46: =AB46+AC46+AD46+AE46 -> 0 | AB46: =SUM(D46:Q46) -> 0 | AC46: =SUM(R46:V46) -> 0 | AD46: =SUM(W46:Z46) -> 0
A47: ='1a Marktäckning 11-06'!#REF! -> #REF! | B47: ='1a Marktäckning 11-06'!#REF! -> #REF! | C47: ='1a Marktäckning 11-06'!#REF! -> #REF! | AA47: =AB47+AC47+AD47+AE47 -> 0 | AB47: =SUM(D47:Q47) -> 0 | AC47: =SUM(R47:V47) -> 0 | AD47: =SUM(W47:Z47) -> 0
A48: ='1a Marktäckning 11-06'!#REF! -> #REF! | B48: ='1a Marktäckning 11-06'!#REF! -> #REF! | C48: ='1a Marktäckning 11-06'!#REF! -> #REF! | AA48: =AB48+AC48+AD48+AE48 -> 0 | AB48: =SUM(D48:Q48) -> 0 | AC48: =SUM(R48:V48) -> 0 | AD48: =SUM(W48:Z48) -> 0
A49: ='1a Marktäckning 11-06'!#REF! -> #REF! | B49: ='1a Marktäckning 11-06'!#REF! -> #REF! | C49: ='1a Marktäckning 11-06'!#REF! -> #REF! | AA49: =AB49+AC49+AD49+AE49 -> 0 | AB49: =SUM(D49:Q49) -> 0 | AC49: =SUM(R49:V49) -> 0 | AD49: =SUM(W49:Z49) -> 0
A50: ='1a Marktäckning 11-06'!#REF! -> #REF! | B50: ='1a Marktäckning 11-06'!#REF! -> #REF! | C50: ='1a Marktäckning 11-06'!#REF! -> #REF! | AA50: =AB50+AC50+AD50+AE50 -> 0 | AB50: =SUM(D50:Q50) -> 0 | AC50: =SUM(R50:V50) -> 0 | AD50: =SUM(W50:Z50) -> 0
A51: ='1a Marktäckning 11-06'!#REF! -> #REF! | B51: ='1a Marktäckning 11-06'!#REF! -> #REF! | C51: ='1a Marktäckning 11-06'!#REF! -> #REF! | AA51: =AB51+AC51+AD51+AE51 -> 0 | AB51: =SUM(D51:Q51) -> 0 | AC51: =SUM(R51:V51) -> 0 | AD51: =SUM(W51:Z51) -> 0
... A107: ='1a Marktäckning 11-06'!#REF! -> #REF! | B107: ='1a Marktäckning 11-06'!#REF! -> #REF! | C107: ='1a Marktäckning 11-06'!#REF! -> #REF! | AA107: =AB107+AC107+AD107+AE107 -> 0 | AB107: =SUM(D107:Q107) -> 0 | AC107: =SUM(R107:V107) -> 0 | AD107: =SUM(W107:Z107) -> 0

Sheet 4e effekt
A1: Ogräsgradering effektgradering
A2: Försöksserie: | D2: ='1a Marktäckning 11-06'!D2 -> Örtogräsbekämpning i höstraps, plöjt
A3: Plan nr: | D3: B
A4: Försöks nr: | D4: C
A5: ADB nr: | D5: D
A7: Datum: | D7: 4
D9: Ettåriga örtogräs effektgradering | R9: Övriga fleråriga örtogräs effektgradering | W9: Övriga gräsogräs % effektgradering | AA9: Effektgradering ogräs totalt % | AB9: Effektgradering samtliga ettåriga örtogräs % | AC9: Effektgradering övriga fleråriga örtogräs % | AD9: Effektgradering gräsogräs % | AE9: Effektgradering fräken %
D10: 1 | E10: 2 | F10: 3 | G10: 4 | H10: 5 | I10: 6 | J10: 7 | K10: 8 | L10: 9 | M10: 10 | N10: 11 | O10: 12 | P10: 13 | Q10: 14 | R10: 15 | S10: 16 | T10: 17 | U10: 18 | V10: 19 | W10: 20 | X10: 21 | Y10: 22 | Z10: 23
A11: Ruta nr | B11: Led | C11: Block | D11: A | E11: B | F11: C | G11: D | H11: E | I11: F | J11: G | K11: H | L11: I | M11: J | N11: K | O11: L | P11: M | Q11: N | R11: O | S11: P | T11: Q | U11: R | V11: S | W11: T | X11: U | Y11: V | Z11: X
A12: ='1a Marktäckning 11-06'!A12 -> 1 | B12: ='1a Marktäckning 11-06'!B12 -> 7 | C12: ='1a Marktäckning 11-06'!C12 -> 1 | AA12: =AB12+AC12+AD12+AE12 -> 0 | AB12: =SUM(D12:Q12) -> 0 | AC12: =SUM(R12:V12) -> 0 | AD12: =SUM(W12:Z12) -> 0
A13: ='1a Marktäckning 11-06'!A13 -> 2 | B13: ='1a Marktäckning 11-06'!B13 -> 3 | C13: ='1a Marktäckning 11-06'!C13 -> 1 | AA13: =AB13+AC13+AD13+AE13 -> 0 | AB13: =SUM(D13:Q13) -> 0 | AC13: =SUM(R13:V13) -> 0 | AD13: =SUM(W13:Z13) -> 0
A14: ='1a Marktäckning 11-06'!A14 -> 3 | B14: ='1a Marktäckning 11-06'!B14 -> 5 | C14: ='1a Marktäckning 11-06'!C14 -> 1 | AA14: =AB14+AC14+AD14+AE14 -> 0 | AB14: =SUM(D14:Q14) -> 0 | AC14: =SUM(R14:V14) -> 0 | AD14: =SUM(W14:Z14) -> 0
A15: ='1a Marktäckning 11-06'!A15 -> 4 | B15: ='1a Marktäckning 11-06'!B15 -> 4 | C15: ='1a Marktäckning 11-06'!C15 -> 1 | AA15: =AB15+AC15+AD15+AE15 -> 0 | AB15: =SUM(D15:Q15) -> 0 | AC15: =SUM(R15:V15) -> 0 | AD15: =SUM(W15:Z15) -> 0
A16: ='1a Marktäckning 11-06'!A16 -> 5 | B16: ='1a Marktäckning 11-06'!B16 -> 2 | C16: ='1a Marktäckning 11-06'!C16 -> 1 | AA16: =AB16+AC16+AD16+AE16 -> 0 | AB16: =SUM(D16:Q16) -> 0 | AC16: =SUM(R16:V16) -> 0 | AD16: =SUM(W16:Z16) -> 0
A17: ='1a Marktäckning 11-06'!A17 -> 6 | B17: ='1a Marktäckning 11-06'!B17 -> 6 | C17: ='1a Marktäckning 11-06'!C17 -> 1 | AA17: =AB17+AC17+AD17+AE17 -> 0 | AB17: =SUM(D17:Q17) -> 0 | AC17: =SUM(R17:V17) -> 0 | AD17: =SUM(W17:Z17) -> 0
A18: ='1a Marktäckning 11-06'!A18 -> 7 | B18: ='1a Marktäckning 11-06'!B18 -> 1 | C18: ='1a Marktäckning 11-06'!C18 -> 1 | AA18: =AB18+AC18+AD18+AE18 -> 0 | AB18: =SUM(D18:Q18) -> 0 | AC18: =SUM(R18:V18) -> 0 | AD18: =SUM(W18:Z18) -> 0
A19: ='1a Marktäckning 11-06'!A19 -> 8 | B19: ='1a Marktäckning 11-06'!B19 -> 2 | C19: ='1a Marktäckning 11-06'!C19 -> 2 | AA19: =AB19+AC19+AD19+AE19 -> 0 | AB19: =SUM(D19:Q19) -> 0 | AC19: =SUM(R19:V19) -> 0 | AD19: =SUM(W19:Z19) -> 0
A20: ='1a Marktäckning 11-06'!A20 -> 9 | B20: ='1a Marktäckning 11-06'!B20 -> 7 | C20: ='1a Marktäckning 11-06'!C20 -> 2 | AA20: =AB20+AC20+AD20+AE20 -> 0 | AB20: =SUM(D20:Q20) -> 0 | AC20: =SUM(R20:V20) -> 0 | AD20: =SUM(W20:Z20) -> 0
A21: ='1a Marktäckning 11-06'!A21 -> 10 | B21: ='1a Marktäckning 11-06'!B21 -> 6 | C21: ='1a Marktäckning 11-06'!C21 -> 2 | AA21: =AB21+AC21+AD21+AE21 -> 0 | AB21: =SUM(D21:Q21) -> 0 | AC21: =SUM(R21:V21) -> 0 | AD21: =SUM(W21:Z21) -> 0
A22: ='1a Marktäckning 11-06'!A22 -> 11 | B22: ='1a Marktäckning 11-06'!B22 -> 1 | C22: ='1a Marktäckning 11-06'!C22 -> 2 | AA22: =AB22+AC22+AD22+AE22 -> 0 | AB22: =SUM(D22:Q22) -> 0 | AC22: =SUM(R22:V22) -> 0 | AD22: =SUM(W22:Z22) -> 0
A23: ='1a Marktäckning 11-06'!A23 -> 12 | B23: ='1a Marktäckning 11-06'!B23 -> 4 | C23: ='1a Marktäckning 11-06'!C23 -> 2 | AA23: =AB23+AC23+AD23+AE23 -> 0 | AB23: =SUM(D23:Q23) -> 0 | AC23: =SUM(R23:V23) -> 0 | AD23: =SUM(W23:Z23) -> 0
... A39: ='1a Marktäckning 11-06'!A39 -> 28 | B39: ='1a Marktäckning 11-06'!B39 -> 2 | C39: ='1a Marktäckning 11-06'!C39 -> 4 | AA39: =AB39+AC39+AD39+AE39 -> 0 | AB39: =SUM(D39:Q39) -> 0 | AC39: =SUM(R39:V39) -> 0 | AD39: =SUM(W39:Z39) -> 0
A40: ='1a Marktäckning 11-06'!#REF! -> #REF! | B40: ='1a Marktäckning 11-06'!#REF! -> #REF! | C40: ='1a Marktäckning 11-06'!#REF! -> #REF! | AA40: =AB40+AC40+AD40+AE40 -> 0 | AB40: =SUM(D40:Q40) -> 0 | AC40: =SUM(R40:V40) -> 0 | AD40: =SUM(W40:Z40) -> 0
A41: ='1a Marktäckning 11-06'!#REF! -> #REF! | B41: ='1a Marktäckning 11-06'!#REF! -> #REF! | C41: ='1a Marktäckning 11-06'!#REF! -> #REF! | AA41: =AB41+AC41+AD41+AE41 -> 0 | AB41: =SUM(D41:Q41) -> 0 | AC41: =SUM(R41:V41) -> 0 | AD41: =SUM(W41:Z41) -> 0
A42: ='1a Marktäckning 11-06'!#REF! -> #REF! | B42: ='1a Marktäckning 11-06'!#REF! -> #REF! | C42: ='1a Marktäckning 11-06'!#REF! -> #REF! | AA42: =AB42+AC42+AD42+AE42 -> 0 | AB42: =SUM(D42:Q42) -> 0 | AC42: =SUM(R42:V42) -> 0 | AD42: =SUM(W42:Z42) -> 0
A43: ='1a Marktäckning 11-06'!#REF! -> #REF! | B43: ='1a Marktäckning 11-06'!#REF! -> #REF! | C43: ='1a Marktäckning 11-06'!#REF! -> #REF! | AA43: =AB43+AC43+AD43+AE43 -> 0 | AB43: =SUM(D43:Q43) -> 0 | AC43: =SUM(R43:V43) -> 0 | AD43: =SUM(W43:Z43) -> 0
A44: ='1a Marktäckning 11-06'!#REF! -> #REF! | B44: ='1a Marktäckning 11-06'!#REF! -> #REF! | C44: ='1a Marktäckning 11-06'!#REF! -> #REF! | AA44: =AB44+AC44+AD44+AE44 -> 0 | AB44: =SUM(D44:Q44) -> 0 | AC44: =SUM(R44:V44) -> 0 | AD44: =SUM(W44:Z44) -> 0
A45: ='1a Marktäckning 11-06'!#REF! -> #REF! | B45: ='1a Marktäckning 11-06'!#REF! -> #REF! | C45: ='1a Marktäckning 11-06'!#REF! -> #REF! | AA45: =AB45+AC45+AD45+AE45 -> 0 | AB45: =SUM(D45:Q45) -> 0 | AC45: =SUM(R45:V45) -> 0 | AD45: =SUM(W45:Z45) -> 0
A46: ='1a Marktäckning 11-06'!#REF! -> #REF! | B46: ='1a Marktäckning 11-06'!#REF! -> #REF! | C46: ='1a Marktäckning 11-06'!#REF! -> #REF! | AA46: =AB46+AC46+AD46+AE46 -> 0 | AB46: =SUM(D46:Q46) -> 0 | AC46: =SUM(R46:V46) -> 0 | AD46: =SUM(W46:Z46) -> 0
A47: ='1a Marktäckning 11-06'!#REF! -> #REF! | B47: ='1a Marktäckning 11-06'!#REF! -> #REF! | C47: ='1a Marktäckning 11-06'!#REF! -> #REF! | AA47: =AB47+AC47+AD47+AE47 -> 0 | AB47: =SUM(D47:Q47) -> 0 | AC47: =SUM(R47:V47) -> 0 | AD47: =SUM(W47:Z47) -> 0
A48: ='1a Marktäckning 11-06'!#REF! -> #REF! | B48: ='1a Marktäckning 11-06'!#REF! -> #REF! | C48: ='1a Marktäckning 11-06'!#REF! -> #REF! | AA48: =AB48+AC48+AD48+AE48 -> 0 | AB48: =SUM(D48:Q48) -> 0 | AC48: =SUM(R48:V48) -> 0 | AD48: =SUM(W48:Z48) -> 0
A49: ='1a Marktäckning 11-06'!#REF! -> #REF! | B49: ='1a Marktäckning 11-06'!#REF! -> #REF! | C49: ='1a Marktäckning 11-06'!#REF! -> #REF! | AA49: =AB49+AC49+AD49+AE49 -> 0 | AB49: =SUM(D49:Q49) -> 0 | AC49: =SUM(R49:V49) -> 0 | AD49: =SUM(W49:Z49) -> 0
A50: ='1a Marktäckning 11-06'!#REF! -> #REF! | B50: ='1a Marktäckning 11-06'!#REF! -> #REF! | C50: ='1a Marktäckning 11-06'!#REF! -> #REF! | AA50: =AB50+AC50+AD50+AE50 -> 0 | AB50: =SUM(D50:Q50) -> 0 | AC50: =SUM(R50:V50) -> 0 | AD50: =SUM(W50:Z50) -> 0
A51: ='1a Marktäckning 11-06'!#REF! -> #REF! | B51: ='1a Marktäckning 11-06'!#REF! -> #REF! | C51: ='1a Marktäckning 11-06'!#REF! -> #REF! | AA51: =AB51+AC51+AD51+AE51 -> 0 | AB51: =SUM(D51:Q51) -> 0 | AC51: =SUM(R51:V51) -> 0 | AD51: =SUM(W51:Z51) -> 0
... A107: ='1a Marktäckning 11-06'!#REF! -> #REF! | B107: ='1a Marktäckning 11-06'!#REF! -> #REF! | C107: ='1a Marktäckning 11-06'!#REF! -> #REF! | AA107: =AB107+AC107+AD107+AE107 -> 0 | AB107: =SUM(D107:Q107) -> 0 | AC107: =SUM(R107:V107) -> 0 | AD107: =SUM(W107:Z107) -> 0

Sheet 5e marktäckning
A1: Ogräsgradering marktäckning
A2: Försöksserie: | D2: ='1a Marktäckning 11-06'!D2 -> Örtogräsbekämpning i höstraps, plöjt
A3: Plan nr: | D3: ='1a Marktäckning 11-06'!D3 -> L5-8010P
A4: Försöks nr: | D4: ='1a Marktäckning 11-06'!D4 -> I-915-2021
A5: ADB nr: | D5: ='1a Marktäckning 11-06'!D5 -> 0566652
A7: Datum: | D7: 5
D9: Ettåriga örtogräs marktäckning | R9: Övriga fleråriga örtogräs marktäckning | W9: Övriga gräsogräs % marktäckning | AA9: Marktäckning ogräs totalt % | AB9: Marktäckning samtliga ettåriga örtogräs % | AC9: Marktäckning övriga fleråriga örtogräs % | AD9: Marktäckning gräsogräs % | AE9: Marktäckning fräken %
D10: 1 | E10: 2 | F10: 3 | G10: 4 | H10: 5 | I10: 6 | J10: 7 | K10: 8 | L10: 9 | M10: 10 | N10: 11 | O10: 12 | P10: 13 | Q10: 14 | R10: 15 | S10: 16 | T10: 17 | U10: 18 | V10: 19 | W10: 20 | X10: 21 | Y10: 22 | Z10: 23
A11: Ruta nr | B11: Led | C11: Block | D11: A | E11: B | F11: C | G11: D | H11: E | I11: F | J11: G | K11: H | L11: I | M11: J | N11: K | O11: L | P11: M | Q11: N | R11: O | S11: P | T11: Q | U11: R | V11: S | W11: T | X11: U | Y11: V | Z11: X
A12: ='1a Marktäckning 11-06'!A12 -> 1 | B12: ='1a Marktäckning 11-06'!B12 -> 7 | C12: ='1a Marktäckning 11-06'!C12 -> 1 | AA12: =AB12+AC12+AD12+AE12 -> 0 | AB12: =SUM(D12:Q12) -> 0 | AC12: =SUM(R12:V12) -> 0 | AD12: =SUM(W12:Z12) -> 0
A13: ='1a Marktäckning 11-06'!A13 -> 2 | B13: ='1a Marktäckning 11-06'!B13 -> 3 | C13: ='1a Marktäckning 11-06'!C13 -> 1 | AA13: =AB13+AC13+AD13+AE13 -> 0 | AB13: =SUM(D13:Q13) -> 0 | AC13: =SUM(R13:V13) -> 0 | AD13: =SUM(W13:Z13) -> 0
A14: ='1a Marktäckning 11-06'!A14 -> 3 | B14: ='1a Marktäckning 11-06'!B14 -> 5 | C14: ='1a Marktäckning 11-06'!C14 -> 1 | AA14: =AB14+AC14+AD14+AE14 -> 0 | AB14: =SUM(D14:Q14) -> 0 | AC14: =SUM(R14:V14) -> 0 | AD14: =SUM(W14:Z14) -> 0
A15: ='1a Marktäckning 11-06'!A15 -> 4 | B15: ='1a Marktäckning 11-06'!B15 -> 4 | C15: ='1a Marktäckning 11-06'!C15 -> 1 | AA15: =AB15+AC15+AD15+AE15 -> 0 | AB15: =SUM(D15:Q15) -> 0 | AC15: =SUM(R15:V15) -> 0 | AD15: =SUM(W15:Z15) -> 0
A16: ='1a Marktäckning 11-06'!A16 -> 5 | B16: ='1a Marktäckning 11-06'!B16 -> 2 | C16: ='1a Marktäckning 11-06'!C16 -> 1 | AA16: =AB16+AC16+AD16+AE16 -> 0 | AB16: =SUM(D16:Q16) -> 0 | AC16: =SUM(R16:V16) -> 0 | AD16: =SUM(W16:Z16) -> 0
A17: ='1a Marktäckning 11-06'!A17 -> 6 | B17: ='1a Marktäckning 11-06'!B17 -> 6 | C17: ='1a Marktäckning 11-06'!C17 -> 1 | AA17: =AB17+AC17+AD17+AE17 -> 0 | AB17: =SUM(D17:Q17) -> 0 | AC17: =SUM(R17:V17) -> 0 | AD17: =SUM(W17:Z17) -> 0
A18: ='1a Marktäckning 11-06'!A18 -> 7 | B18: ='1a Marktäckning 11-06'!B18 -> 1 | C18: ='1a Marktäckning 11-06'!C18 -> 1 | AA18: =AB18+AC18+AD18+AE18 -> 0 | AB18: =SUM(D18:Q18) -> 0 | AC18: =SUM(R18:V18) -> 0 | AD18: =SUM(W18:Z18) -> 0
A19: ='1a Marktäckning 11-06'!A19 -> 8 | B19: ='1a Marktäckning 11-06'!B19 -> 2 | C19: ='1a Marktäckning 11-06'!C19 -> 2 | AA19: =AB19+AC19+AD19+AE19 -> 0 | AB19: =SUM(D19:Q19) -> 0 | AC19: =SUM(R19:V19) -> 0 | AD19: =SUM(W19:Z19) -> 0
A20: ='1a Marktäckning 11-06'!A20 -> 9 | B20: ='1a Marktäckning 11-06'!B20 -> 7 | C20: ='1a Marktäckning 11-06'!C20 -> 2 | AA20: =AB20+AC20+AD20+AE20 -> 0 | AB20: =SUM(D20:Q20) -> 0 | AC20: =SUM(R20:V20) -> 0 | AD20: =SUM(W20:Z20) -> 0
A21: ='1a Marktäckning 11-06'!A21 -> 10 | B21: ='1a Marktäckning 11-06'!B21 -> 6 | C21: ='1a Marktäckning 11-06'!C21 -> 2 | AA21: =AB21+AC21+AD21+AE21 -> 0 | AB21: =SUM(D21:Q21) -> 0 | AC21: =SUM(R21:V21) -> 0 | AD21: =SUM(W21:Z21) -> 0
A22: ='1a Marktäckning 11-06'!A22 -> 11 | B22: ='1a Marktäckning 11-06'!B22 -> 1 | C22: ='1a Marktäckning 11-06'!C22 -> 2 | AA22: =AB22+AC22+AD22+AE22 -> 0 | AB22: =SUM(D22:Q22) -> 0 | AC22: =SUM(R22:V22) -> 0 | AD22: =SUM(W22:Z22) -> 0
A23: ='1a Marktäckning 11-06'!A23 -> 12 | B23: ='1a Marktäckning 11-06'!B23 -> 4 | C23: ='1a Marktäckning 11-06'!C23 -> 2 | AA23: =AB23+AC23+AD23+AE23 -> 0 | AB23: =SUM(D23:Q23) -> 0 | AC23: =SUM(R23:V23) -> 0 | AD23: =SUM(W23:Z23) -> 0
... A39: ='1a Marktäckning 11-06'!A39 -> 28 | B39: ='1a Marktäckning 11-06'!B39 -> 2 | C39: ='1a Marktäckning 11-06'!C39 -> 4 | AA39: =AB39+AC39+AD39+AE39 -> 0 | AB39: =SUM(D39:Q39) -> 0 | AC39: =SUM(R39:V39) -> 0 | AD39: =SUM(W39:Z39) -> 0
A40: ='1a Marktäckning 11-06'!#REF! -> #REF! | B40: ='1a Marktäckning 11-06'!#REF! -> #REF! | C40: ='1a Marktäckning 11-06'!#REF! -> #REF! | AA40: =AB40+AC40+AD40+AE40 -> 0 | AB40: =SUM(D40:Q40) -> 0 | AC40: =SUM(R40:V40) -> 0 | AD40: =SUM(W40:Z40) -> 0
A41: ='1a Marktäckning 11-06'!#REF! -> #REF! | B41: ='1a Marktäckning 11-06'!#REF! -> #REF! | C41: ='1a Marktäckning 11-06'!#REF! -> #REF! | AA41: =AB41+AC41+AD41+AE41 -> 0 | AB41: =SUM(D41:Q41) -> 0 | AC41: =SUM(R41:V41) -> 0 | AD41: =SUM(W41:Z41) -> 0
A42: ='1a Marktäckning 11-06'!#REF! -> #REF! | B42: ='1a Marktäckning 11-06'!#REF! -> #REF! | C42: ='1a Marktäckning 11-06'!#REF! -> #REF! | AA42: =AB42+AC42+AD42+AE42 -> 0 | AB42: =SUM(D42:Q42) -> 0 | AC42: =SUM(R42:V42) -> 0 | AD42: =SUM(W42:Z42) -> 0
A43: ='1a Marktäckning 11-06'!#REF! -> #REF! | B43: ='1a Marktäckning 11-06'!#REF! -> #REF! | C43: ='1a Marktäckning 11-06'!#REF! -> #REF! | AA43: =AB43+AC43+AD43+AE43 -> 0 | AB43: =SUM(D43:Q43) -> 0 | AC43: =SUM(R43:V43) -> 0 | AD43: =SUM(W43:Z43) -> 0
A44: ='1a Marktäckning 11-06'!#REF! -> #REF! | B44: ='1a Marktäckning 11-06'!#REF! -> #REF! | C44: ='1a Marktäckning 11-06'!#REF! -> #REF! | AA44: =AB44+AC44+AD44+AE44 -> 0 | AB44: =SUM(D44:Q44) -> 0 | AC44: =SUM(R44:V44) -> 0 | AD44: =SUM(W44:Z44) -> 0
A45: ='1a Marktäckning 11-06'!#REF! -> #REF! | B45: ='1a Marktäckning 11-06'!#REF! -> #REF! | C45: ='1a Marktäckning 11-06'!#REF! -> #REF! | AA45: =AB45+AC45+AD45+AE45 -> 0 | AB45: =SUM(D45:Q45) -> 0 | AC45: =SUM(R45:V45) -> 0 | AD45: =SUM(W45:Z45) -> 0
A46: ='1a Marktäckning 11-06'!#REF! -> #REF! | B46: ='1a Marktäckning 11-06'!#REF! -> #REF! | C46: ='1a Marktäckning 11-06'!#REF! -> #REF! | AA46: =AB46+AC46+AD46+AE46 -> 0 | AB46: =SUM(D46:Q46) -> 0 | AC46: =SUM(R46:V46) -> 0 | AD46: =SUM(W46:Z46) -> 0
A47: ='1a Marktäckning 11-06'!#REF! -> #REF! | B47: ='1a Marktäckning 11-06'!#REF! -> #REF! | C47: ='1a Marktäckning 11-06'!#REF! -> #REF! | AA47: =AB47+AC47+AD47+AE47 -> 0 | AB47: =SUM(D47:Q47) -> 0 | AC47: =SUM(R47:V47) -> 0 | AD47: =SUM(W47:Z47) -> 0
A48: ='1a Marktäckning 11-06'!#REF! -> #REF! | B48: ='1a Marktäckning 11-06'!#REF! -> #REF! | C48: ='1a Marktäckning 11-06'!#REF! -> #REF! | AA48: =AB48+AC48+AD48+AE48 -> 0 | AB48: =SUM(D48:Q48) -> 0 | AC48: =SUM(R48:V48) -> 0 | AD48: =SUM(W48:Z48) -> 0
A49: ='1a Marktäckning 11-06'!#REF! -> #REF! | B49: ='1a Marktäckning 11-06'!#REF! -> #REF! | C49: ='1a Marktäckning 11-06'!#REF! -> #REF! | AA49: =AB49+AC49+AD49+AE49 -> 0 | AB49: =SUM(D49:Q49) -> 0 | AC49: =SUM(R49:V49) -> 0 | AD49: =SUM(W49:Z49) -> 0
A50: ='1a Marktäckning 11-06'!#REF! -> #REF! | B50: ='1a Marktäckning 11-06'!#REF! -> #REF! | C50: ='1a Marktäckning 11-06'!#REF! -> #REF! | AA50: =AB50+AC50+AD50+AE50 -> 0 | AB50: =SUM(D50:Q50) -> 0 | AC50: =SUM(R50:V50) -> 0 | AD50: =SUM(W50:Z50) -> 0
A51: ='1a Marktäckning 11-06'!#REF! -> #REF! | B51: ='1a Marktäckning 11-06'!#REF! -> #REF! | C51: ='1a Marktäckning 11-06'!#REF! -> #REF! | AA51: =AB51+AC51+AD51+AE51 -> 0 | AB51: =SUM(D51:Q51) -> 0 | AC51: =SUM(R51:V51) -> 0 | AD51: =SUM(W51:Z51) -> 0
... A107: ='1a Marktäckning 11-06'!#REF! -> #REF! | B107: ='1a Marktäckning 11-06'!#REF! -> #REF! | C107: ='1a Marktäckning 11-06'!#REF! -> #REF! | AA107: =AB107+AC107+AD107+AE107 -> 0 | AB107: =SUM(D107:Q107) -> 0 | AC107: =SUM(R107:V107) -> 0 | AD107: =SUM(W107:Z107) -> 0

Sheet 5e effekt
A1: Ogräsgradering effektgradering
A2: Försöksserie: | D2: ='1a Marktäckning 11-06'!D2 -> Örtogräsbekämpning i höstraps, plöjt
A3: Plan nr: | D3: B
A4: Försöks nr: | D4: C
A5: ADB nr: | D5: D
A7: Datum: | D7: 4
D9: Ettåriga örtogräs effektgradering | R9: Övriga fleråriga örtogräs effektgradering | W9: Övriga gräsogräs % effektgradering | AA9: Effektgradering ogräs totalt % | AB9: Effektgradering samtliga ettåriga örtogräs % | AC9: Effektgradering övriga fleråriga örtogräs % | AD9: Effektgradering gräsogräs % | AE9: Effektgradering fräken %
D10: 1 | E10: 2 | F10: 3 | G10: 4 | H10: 5 | I10: 6 | J10: 7 | K10: 8 | L10: 9 | M10: 10 | N10: 11 | O10: 12 | P10: 13 | Q10: 14 | R10: 15 | S10: 16 | T10: 17 | U10: 18 | V10: 19 | W10: 20 | X10: 21 | Y10: 22 | Z10: 23
A11: Ruta nr | B11: Led | C11: Block | D11: A | E11: B | F11: C | G11: D | H11: E | I11: F | J11: G | K11: H | L11: I | M11: J | N11: K | O11: L | P11: M | Q11: N | R11: O | S11: P | T11: Q | U11: R | V11: S | W11: T | X11: U | Y11: V | Z11: X
A12: ='1a Marktäckning 11-06'!A12 -> 1 | B12: ='1a Marktäckning 11-06'!B12 -> 7 | C12: ='1a Marktäckning 11-06'!C12 -> 1 | AA12: =AB12+AC12+AD12+AE12 -> 0 | AB12: =SUM(D12:Q12) -> 0 | AC12: =SUM(R12:V12) -> 0 | AD12: =SUM(W12:Z12) -> 0
