Workbook

Sheet 10-29 Marktäckning
A1: Ogräsgradering marktäckning
A2: Försöksserie: | D2: Örtogräsbekämpning i höstraps
A3: Plan nr: | D3: L5-8010P
A4: Försöks nr: | D4: I-865-2020
A5: ADB nr: | D5: 0561501
A7: Datum: | D7: 44133
D9: Ettåriga örtogräs marktäckning | R9: Övriga fleråriga örtogräs marktäckning | W9: Övriga gräsogräs % marktäckning | AA9: Marktäckning ogräs totalt % | AB9: Marktäckning samtliga ettåriga örtogräs % | AC9: Marktäckning övriga fleråriga örtogräs % | AD9: Marktäckning gräsogräs % | AE9: Marktäckning fräken %
D10: 1 | E10: 2 | F10: 3 | G10: 4 | H10: 5 | I10: 6 | J10: 7 | K10: 8 | L10: 9 | M10: 10 | N10: 11 | O10: 12 | P10: 13 | Q10: 14 | R10: 15 | S10: 16 | T10: 17 | U10: 18 | V10: 19 | W10: 20 | X10: 21 | Y10: 22 | Z10: 23
A11: Ruta nr | B11: Led | C11: Block | D11: Blåklint | E11: Kornvallmo | F11: Våtarv | G11: Åkerviol | H11: Spillsäd | I11: F | J11: G | K11: H | L11: I | M11: J | N11: K | O11: L | P11: M | Q11: N | R11: O | S11: P | T11: Q | U11: R | V11: S | W11: T | X11: U | Y11: V | Z11: X
A12: 1 | B12: 4 | C12: 1 | D12: 1 | E12: 5 | F12: 0 | G12: 10 | H12: 0 | AA12: =AB12+AC12+AD12+AE12 -> 16 | AB12: =SUM(D12:Q12) -> 16 | AC12: =SUM(R12:V12) -> 0 | AD12: =SUM(W12:Z12) -> 0
A13: 2 | B13: 6 | C13: 1 | D13: 1 | E13: 5 | F13: 0 | G13: 10 | H13: 0 | AA13: =AB13+AC13+AD13+AE13 -> 16 | AB13: =SUM(D13:Q13) -> 16 | AC13: =SUM(R13:V13) -> 0 | AD13: =SUM(W13:Z13) -> 0
A14: 3 | B14: 1 | C14: 1 | D14: 5 | E14: 60 | F14: 5 | G14: 5 | H14: 5 | AA14: =AB14+AC14+AD14+AE14 -> 80 | AB14: =SUM(D14:Q14) -> 80 | AC14: =SUM(R14:V14) -> 0 | AD14: =SUM(W14:Z14) -> 0
A15: 4 | B15: 5 | C15: 1 | D15: 1 | E15: 5 | F15: 0 | G15: 15 | H15: 3 | AA15: =AB15+AC15+AD15+AE15 -> 24 | AB15: =SUM(D15:Q15) -> 24 | AC15: =SUM(R15:V15) -> 0 | AD15: =SUM(W15:Z15) -> 0
A16: 5 | B16: 2 | C16: 1 | D16: 3 | E16: 25 | F16: 5 | G16: 5 | H16: 0 | AA16: =AB16+AC16+AD16+AE16 -> 38 | AB16: =SUM(D16:Q16) -> 38 | AC16: =SUM(R16:V16) -> 0 | AD16: =SUM(W16:Z16) -> 0
A17: 6 | B17: 3 | C17: 1 | D17: 5 | E17: 60 | F17: 5 | G17: 3 | H17: 0 | AA17: =AB17+AC17+AD17+AE17 -> 73 | AB17: =SUM(D17:Q17) -> 73 | AC17: =SUM(R17:V17) -> 0 | AD17: =SUM(W17:Z17) -> 0
A18: 7 | B18: 3 | C18: 2 | D18: 5 | E18: 60 | F18: 5 | G18: 3 | H18: 0 | AA18: =AB18+AC18+AD18+AE18 -> 73 | AB18: =SUM(D18:Q18) -> 73 | AC18: =SUM(R18:V18) -> 0 | AD18: =SUM(W18:Z18) -> 0
A19: 8 | B19: 5 | C19: 2 | D19: 1 | E19: 3 | F19: 1 | G19: 5 | H19: 5 | AA19: =AB19+AC19+AD19+AE19 -> 15 | AB19: =SUM(D19:Q19) -> 15 | AC19: =SUM(R19:V19) -> 0 | AD19: =SUM(W19:Z19) -> 0
A20: 9 | B20: 6 | C20: 2 | D20: 1 | E20: 3 | F20: 0 | G20: 5 | H20: 0 | AA20: =AB20+AC20+AD20+AE20 -> 9 | AB20: =SUM(D20:Q20) -> 9 | AC20: =SUM(R20:V20) -> 0 | AD20: =SUM(W20:Z20) -> 0
A21: 10 | B21: 1 | C21: 2 | D21: 5 | E21: 55 | F21: 5 | G21: 2 | H21: 7 | AA21: =AB21+AC21+AD21+AE21 -> 74 | AB21: =SUM(D21:Q21) -> 74 | AC21: =SUM(R21:V21) -> 0 | AD21: =SUM(W21:Z21) -> 0
A22: 11 | B22: 2 | C22: 2 | D22: 3 | E22: 30 | F22: 3 | G22: 5 | H22: 0 | AA22: =AB22+AC22+AD22+AE22 -> 41 | AB22: =SUM(D22:Q22) -> 41 | AC22: =SUM(R22:V22) -> 0 | AD22: =SUM(W22:Z22) -> 0
A23: 12 | B23: 4 | C23: 2 | D23: 0 | E23: 5 | F23: 0 | G23: 5 | H23: 0 | AA23: =AB23+AC23+AD23+AE23 -> 10 | AB23: =SUM(D23:Q23) -> 10 | AC23: =SUM(R23:V23) -> 0 | AD23: =SUM(W23:Z23) -> 0
... A35: 24 | B35: 1 | C35: 4 | D35: 5 | E35: 65 | F35: 1 | G35: 3 | H35: 7 | AA35: =AB35+AC35+AD35+AE35 -> 81 | AB35: =SUM(D35:Q35) -> 81 | AC35: =SUM(R35:V35) -> 0 | AD35: =SUM(W35:Z35) -> 0
A36: 25 | AA36: =AB36+AC36+AD36+AE36 -> 0 | AB36: =SUM(D36:Q36) -> 0 | AC36: =SUM(R36:V36) -> 0 | AD36: =SUM(W36:Z36) -> 0
A37: 26 | AA37: =AB37+AC37+AD37+AE37 -> 0 | AB37: =SUM(D37:Q37) -> 0 | AC37: =SUM(R37:V37) -> 0 | AD37: =SUM(W37:Z37) -> 0
A38: 27 | AA38: =AB38+AC38+AD38+AE38 -> 0 | AB38: =SUM(D38:Q38) -> 0 | AC38: =SUM(R38:V38) -> 0 | AD38: =SUM(W38:Z38) -> 0
A39: 28 | AA39: =AB39+AC39+AD39+AE39 -> 0 | AB39: =SUM(D39:Q39) -> 0 | AC39: =SUM(R39:V39) -> 0 | AD39: =SUM(W39:Z39) -> 0
A40: 29 | AA40: =AB40+AC40+AD40+AE40 -> 0 | AB40: =SUM(D40:Q40) -> 0 | AC40: =SUM(R40:V40) -> 0 | AD40: =SUM(W40:Z40) -> 0
A41: 30 | AA41: =AB41+AC41+AD41+AE41 -> 0 | AB41: =SUM(D41:Q41) -> 0 | AC41: =SUM(R41:V41) -> 0 | AD41: =SUM(W41:Z41) -> 0
A42: 31 | AA42: =AB42+AC42+AD42+AE42 -> 0 | AB42: =SUM(D42:Q42) -> 0 | AC42: =SUM(R42:V42) -> 0 | AD42: =SUM(W42:Z42) -> 0
A43: 32 | AA43: =AB43+AC43+AD43+AE43 -> 0 | AB43: =SUM(D43:Q43) -> 0 | AC43: =SUM(R43:V43) -> 0 | AD43: =SUM(W43:Z43) -> 0
A44: 33 | AA44: =AB44+AC44+AD44+AE44 -> 0 | AB44: =SUM(D44:Q44) -> 0 | AC44: =SUM(R44:V44) -> 0 | AD44: =SUM(W44:Z44) -> 0
A45: 34 | AA45: =AB45+AC45+AD45+AE45 -> 0 | AB45: =SUM(D45:Q45) -> 0 | AC45: =SUM(R45:V45) -> 0 | AD45: =SUM(W45:Z45) -> 0
A46: 35 | AA46: =AB46+AC46+AD46+AE46 -> 0 | AB46: =SUM(D46:Q46) -> 0 | AC46: =SUM(R46:V46) -> 0 | AD46: =SUM(W46:Z46) -> 0
A47: 36 | AA47: =AB47+AC47+AD47+AE47 -> 0 | AB47: =SUM(D47:Q47) -> 0 | AC47: =SUM(R47:V47) -> 0 | AD47: =SUM(W47:Z47) -> 0
... A107: 100 | AA107: =AB107+AC107+AD107+AE107 -> 0 | AB107: =SUM(D107:Q107) -> 0 | AC107: =SUM(R107:V107) -> 0 | AD107: =SUM(W107:Z107) -> 0

Sheet Protokoll
A1: Ogräsgradering
A2: Plan nr. | B2: OS5-8010P
A3: Försöks nr. | B3: I-631-2016
A4: ADB nr. | B4: 05B408
B6: Antal/m2 | C6: P16 | D6: Höstraps | E6: Penningört | F6: Vallmo | G6: Baldersbrå | H6: Näva | I6: Etternässla | J6: Fårtunga | K6: Veronika | L6: Våtarv | M6: Svinmålla | N6: Åkerspergel | O6: Rödplister | P6: Vitgröe | Q6: Kvickrot | R6: Spillsäd
A7: Block I | B7: 0.25
A8: Block II | B8: 0.25
A9: Block III | B9: 0.25
A10: Block IV | B10: 0.25
A11: Utveckling, BBCH
B12: min
B13: max
A14: Höjd (cm)
A15: Diameter (cm)

Sheet 10-29 Effekt
A1: Ogräsgradering effektgradering
A2: Försöksserie: | D2: ='10-29 Marktäckning'!D2 -> Örtogräsbekämpning i höstraps
A3: Plan nr: | D3: ='10-29 Marktäckning'!D3 -> L5-8010P
A4: Försöks nr: | D4: ='10-29 Marktäckning'!D4 -> I-865-2020
A5: ADB nr: | D5: ='10-29 Marktäckning'!D5 -> 0561501
A7: Datum: | D7: ='10-29 Marktäckning'!D7 -> 44133
D9: Ettåriga örtogräs effektgradering | R9: Övriga fleråriga örtogräs effektgradering | W9: Övriga gräsogräs % effektgradering | AA9: Effektgradering ogräs totalt % | AB9: Effektgradering samtliga ettåriga örtogräs % | AC9: Effektgradering övriga fleråriga örtogräs % | AD9: Effektgradering gräsogräs % | AE9: Effektgradering fräken %
D10: 1 | E10: 2 | F10: 3 | G10: 4 | H10: 5 | I10: 6 | J10: 7 | K10: 8 | L10: 9 | M10: 10 | N10: 11 | O10: 12 | P10: 13 | Q10: 14 | R10: 15 | S10: 16 | T10: 17 | U10: 18 | V10: 19 | W10: 20 | X10: 21 | Y10: 22 | Z10: 23
A11: Ruta nr | B11: Led | C11: Block | D11: Blåklint | E11: Kornvallmo | F11: Spillsäd | G11: total effekt | H11: E | I11: F | J11: G | K11: H | L11: I | M11: J | N11: K | O11: L | P11: M | Q11: N | R11: O | S11: P | T11: Q | U11: R | V11: S | W11: T | X11: U | Y11: V | Z11: X
A12: ='10-29 Marktäckning'!A12 -> 1 | B12: ='10-29 Marktäckning'!B12 -> 4 | C12: ='10-29 Marktäckning'!C12 -> 1 | D12: 95 | E12: 95 | F12: 100 | G12: 95 | AA12: =AB12+AC12+AD12+AE12 -> 385 | AB12: =SUM(D12:Q12) -> 385 | AC12: =SUM(R12:V12) -> 0 | AD12: =SUM(W12:Z12) -> 0
A13: ='10-29 Marktäckning'!A13 -> 2 | B13: ='10-29 Marktäckning'!B13 -> 6 | C13: ='10-29 Marktäckning'!C13 -> 1 | D13: 95 | E13: 95 | F13: 100 | G13: 95 | AA13: =AB13+AC13+AD13+AE13 -> 385 | AB13: =SUM(D13:Q13) -> 385 | AC13: =SUM(R13:V13) -> 0 | AD13: =SUM(W13:Z13) -> 0
A14: ='10-29 Marktäckning'!A14 -> 3 | B14: ='10-29 Marktäckning'!B14 -> 1 | C14: ='10-29 Marktäckning'!C14 -> 1 | AA14: =AB14+AC14+AD14+AE14 -> 0 | AB14: =SUM(D14:Q14) -> 0 | AC14: =SUM(R14:V14) -> 0 | AD14: =SUM(W14:Z14) -> 0
A15: ='10-29 Marktäckning'!A15 -> 4 | B15: ='10-29 Marktäckning'!B15 -> 5 | C15: ='10-29 Marktäckning'!C15 -> 1 | D15: 93 | E15: 93 | F15: 0 | G15: 90 | AA15: =AB15+AC15+AD15+AE15 -> 276 | AB15: =SUM(D15:Q15) -> 276 | AC15: =SUM(R15:V15) -> 0 | AD15: =SUM(W15:Z15) -> 0
A16: ='10-29 Marktäckning'!A16 -> 5 | B16: ='10-29 Marktäckning'!B16 -> 2 | C16: ='10-29 Marktäckning'!C16 -> 1 | D16: 85 | E16: 75 | F16: 100 | G16: 80 | AA16: =AB16+AC16+AD16+AE16 -> 340 | AB16: =SUM(D16:Q16) -> 340 | AC16: =SUM(R16:V16) -> 0 | AD16: =SUM(W16:Z16) -> 0
A17: ='10-29 Marktäckning'!A17 -> 6 | B17: ='10-29 Marktäckning'!B17 -> 3 | C17: ='10-29 Marktäckning'!C17 -> 1 | D17: 0 | E17: 0 | F17: 100 | G17: 10 | AA17: =AB17+AC17+AD17+AE17 -> 110 | AB17: =SUM(D17:Q17) -> 110 | AC17: =SUM(R17:V17) -> 0 | AD17: =SUM(W17:Z17) -> 0
A18: ='10-29 Marktäckning'!A18 -> 7 | B18: ='10-29 Marktäckning'!B18 -> 3 | C18: ='10-29 Marktäckning'!C18 -> 2 | D18: 0 | E18: 0 | F18: 100 | G18: 10 | AA18: =AB18+AC18+AD18+AE18 -> 110 | AB18: =SUM(D18:Q18) -> 110 | AC18: =SUM(R18:V18) -> 0 | AD18: =SUM(W18:Z18) -> 0
A19: ='10-29 Marktäckning'!A19 -> 8 | B19: ='10-29 Marktäckning'!B19 -> 5 | C19: ='10-29 Marktäckning'!C19 -> 2 | D19: 95 | E19: 95 | F19: 0 | G19: 90 | AA19: =AB19+AC19+AD19+AE19 -> 280 | AB19: =SUM(D19:Q19) -> 280 | AC19: =SUM(R19:V19) -> 0 | AD19: =SUM(W19:Z19) -> 0
A20: ='10-29 Marktäckning'!A20 -> 9 | B20: ='10-29 Marktäckning'!B20 -> 6 | C20: ='10-29 Marktäckning'!C20 -> 2 | D20: 95 | E20: 95 | F20: 100 | G20: 95 | AA20: =AB20+AC20+AD20+AE20 -> 385 | AB20: =SUM(D20:Q20) -> 385 | AC20: =SUM(R20:V20) -> 0 | AD20: =SUM(W20:Z20) -> 0
A21: ='10-29 Marktäckning'!A21 -> 10 | B21: ='10-29 Marktäckning'!B21 -> 1 | C21: ='10-29 Marktäckning'!C21 -> 2 | AA21: =AB21+AC21+AD21+AE21 -> 0 | AB21: =SUM(D21:Q21) -> 0 | AC21: =SUM(R21:V21) -> 0 | AD21: =SUM(W21:Z21) -> 0
A22: ='10-29 Marktäckning'!A22 -> 11 | B22: ='10-29 Marktäckning'!B22 -> 2 | C22: ='10-29 Marktäckning'!C22 -> 2 | D22: 85 | E22: 70 | F22: 100 | G22: 75 | AA22: =AB22+AC22+AD22+AE22 -> 330 | AB22: =SUM(D22:Q22) -> 330 | AC22: =SUM(R22:V22) -> 0 | AD22: =SUM(W22:Z22) -> 0
A23: ='10-29 Marktäckning'!A23 -> 12 | B23: ='10-29 Marktäckning'!B23 -> 4 | C23: ='10-29 Marktäckning'!C23 -> 2 | D23: 97 | E23: 95 | F23: 100 | G23: 95 | AA23: =AB23+AC23+AD23+AE23 -> 387 | AB23: =SUM(D23:Q23) -> 387 | AC23: =SUM(R23:V23) -> 0 | AD23: =SUM(W23:Z23) -> 0
A24: ='10-29 Marktäckning'!A24 -> 13 | B24: ='10-29 Marktäckning'!B24 -> 1 | C24: ='10-29 Marktäckning'!C24 -> 3 | AA24: =AB24+AC24+AD24+AE24 -> 0 | AB24: =SUM(D24:Q24) -> 0 | AC24: =SUM(R24:V24) -> 0 | AD24: =SUM(W24:Z24) -> 0
A25: ='10-29 Marktäckning'!A25 -> 14 | B25: ='10-29 Marktäckning'!B25 -> 2 | C25: ='10-29 Marktäckning'!C25 -> 3 | D25: 50 | E25: 70 | F25: 100 | G25: 80 | AA25: =AB25+AC25+AD25+AE25 -> 300 | AB25: =SUM(D25:Q25) -> 300 | AC25: =SUM(R25:V25) -> 0 | AD25: =SUM(W25:Z25) -> 0
A26: ='10-29 Marktäckning'!A26 -> 15 | B26: ='10-29 Marktäckning'!B26 -> 3 | C26: ='10-29 Marktäckning'!C26 -> 3 | D26: 0 | E26: 0 | F26: 100 | G26: 10 | AA26: =AB26+AC26+AD26+AE26 -> 110 | AB26: =SUM(D26:Q26) -> 110 | AC26: =SUM(R26:V26) -> 0 | AD26: =SUM(W26:Z26) -> 0
A27: ='10-29 Marktäckning'!A27 -> 16 | B27: ='10-29 Marktäckning'!B27 -> 6 | C27: ='10-29 Marktäckning'!C27 -> 3 | D27: 97 | E27: 95 | F27: 100 | G27: 95 | AA27: =AB27+AC27+AD27+AE27 -> 387 | AB27: =SUM(D27:Q27) -> 387 | AC27: =SUM(R27:V27) -> 0 | AD27: =SUM(W27:Z27) -> 0
A28: ='10-29 Marktäckning'!A28 -> 17 | B28: ='10-29 Marktäckning'!B28 -> 4 | C28: ='10-29 Marktäckning'!C28 -> 3 | D28: 97 | E28: 95 | F28: 100 | G28: 95 | AA28: =AB28+AC28+AD28+AE28 -> 387 | AB28: =SUM(D28:Q28) -> 387 | AC28: =SUM(R28:V28) -> 0 | AD28: =SUM(W28:Z28) -> 0
A29: ='10-29 Marktäckning'!A29 -> 18 | B29: ='10-29 Marktäckning'!B29 -> 5 | C29: ='10-29 Marktäckning'!C29 -> 3 | D29: 97 | E29: 95 | F29: 0 | G29: 93 | AA29: =AB29+AC29+AD29+AE29 -> 285 | AB29: =SUM(D29:Q29) -> 285 | AC29: =SUM(R29:V29) -> 0 | AD29: =SUM(W29:Z29) -> 0
A30: ='10-29 Marktäckning'!A30 -> 19 | B30: ='10-29 Marktäckning'!B30 -> 4 | C30: ='10-29 Marktäckning'!C30 -> 4 | D30: 97 | E30: 95 | F30: 100 | G30: 95 | AA30: =AB30+AC30+AD30+AE30 -> 387 | AB30: =SUM(D30:Q30) -> 387 | AC30: =SUM(R30:V30) -> 0 | AD30: =SUM(W30:Z30) -> 0
A31: ='10-29 Marktäckning'!A31 -> 20 | B31: ='10-29 Marktäckning'!B31 -> 6 | C31: ='10-29 Marktäckning'!C31 -> 4 | D31: 97 | E31: 97 | F31: 100 | G31: 97 | AA31: =AB31+AC31+AD31+AE31 -> 391 | AB31: =SUM(D31:Q31) -> 391 | AC31: =SUM(R31:V31) -> 0 | AD31: =SUM(W31:Z31) -> 0
A32: ='10-29 Marktäckning'!A32 -> 21 | B32: ='10-29 Marktäckning'!B32 -> 5 | C32: ='10-29 Marktäckning'!C32 -> 4 | D32: 97 | E32: 97 | F32: 0 | G32: 95 | AA32: =AB32+AC32+AD32+AE32 -> 289 | AB32: =SUM(D32:Q32) -> 289 | AC32: =SUM(R32:V32) -> 0 | AD32: =SUM(W32:Z32) -> 0
A33: ='10-29 Marktäckning'!A33 -> 22 | B33: ='10-29 Marktäckning'!B33 -> 2 | C33: ='10-29 Marktäckning'!C33 -> 4 | D33: 85 | E33: 75 | F33: 97 | G33: 90 | AA33: =AB33+AC33+AD33+AE33 -> 347 | AB33: =SUM(D33:Q33) -> 347 | AC33: =SUM(R33:V33) -> 0 | AD33: =SUM(W33:Z33) -> 0
A34: ='10-29 Marktäckning'!A34 -> 23 | B34: ='10-29 Marktäckning'!B34 -> 3 | C34: ='10-29 Marktäckning'!C34 -> 4 | D34: 0 | E34: 0 | F34: 100 | G34: 10 | AA34: =AB34+AC34+AD34+AE34 -> 110 | AB34: =SUM(D34:Q34) -> 110 | AC34: =SUM(R34:V34) -> 0 | AD34: =SUM(W34:Z34) -> 0
A35: ='10-29 Marktäckning'!A35 -> 24 | B35: ='10-29 Marktäckning'!B35 -> 1 | C35: ='10-29 Marktäckning'!C35 -> 4 | AA35: =AB35+AC35+AD35+AE35 -> 0 | AB35: =SUM(D35:Q35) -> 0 | AC35: =SUM(R35:V35) -> 0 | AD35: =SUM(W35:Z35) -> 0
A36: ='10-29 Marktäckning'!A36 -> 25 | B36: ='10-29 Marktäckning'!B36 -> 0 | C36: ='10-29 Marktäckning'!C36 -> 0 | AA36: =AB36+AC36+AD36+AE36 -> 0 | AB36: =SUM(D36:Q36) -> 0 | AC36: =SUM(R36:V36) -> 0 | AD36: =SUM(W36:Z36) -> 0
A37: ='10-29 Marktäckning'!A37 -> 26 | B37: ='10-29 Marktäckning'!B37 -> 0 | C37: ='10-29 Marktäckning'!C37 -> 0 | AA37: =AB37+AC37+AD37+AE37 -> 0 | AB37: =SUM(D37:Q37) -> 0 | AC37: =SUM(R37:V37) -> 0 | AD37: =SUM(W37:Z37) -> 0
A38: ='10-29 Marktäckning'!A38 -> 27 | B38: ='10-29 Marktäckning'!B38 -> 0 | C38: ='10-29 Marktäckning'!C38 -> 0 | AA38: =AB38+AC38+AD38+AE38 -> 0 | AB38: =SUM(D38:Q38) -> 0 | AC38: =SUM(R38:V38) -> 0 | AD38: =SUM(W38:Z38) -> 0
A39: ='10-29 Marktäckning'!A39 -> 28 | B39: ='10-29 Marktäckning'!B39 -> 0 | C39: ='10-29 Marktäckning'!C39 -> 0 | AA39: =AB39+AC39+AD39+AE39 -> 0 | AB39: =SUM(D39:Q39) -> 0 | AC39: =SUM(R39:V39) -> 0 | AD39: =SUM(W39:Z39) -> 0
A40: ='10-29 Marktäckning'!A40 -> 29 | B40: ='10-29 Marktäckning'!B40 -> 0 | C40: ='10-29 Marktäckning'!C40 -> 0 | AA40: =AB40+AC40+AD40+AE40 -> 0 | AB40: =SUM(D40:Q40) -> 0 | AC40: =SUM(R40:V40) -> 0 | AD40: =SUM(W40:Z40) -> 0
A41: ='10-29 Marktäckning'!A41 -> 30 | B41: ='10-29 Marktäckning'!B41 -> 0 | C41: ='10-29 Marktäckning'!C41 -> 0 | AA41: =AB41+AC41+AD41+AE41 -> 0 | AB41: =SUM(D41:Q41) -> 0 | AC41: =SUM(R41:V41) -> 0 | AD41: =SUM(W41:Z41) -> 0
A42: ='10-29 Marktäckning'!A42 -> 31 | B42: ='10-29 Marktäckning'!B42 -> 0 | C42: ='10-29 Marktäckning'!C42 -> 0 | AA42: =AB42+AC42+AD42+AE42 -> 0 | AB42: =SUM(D42:Q42) -> 0 | AC42: =SUM(R42:V42) -> 0 | AD42: =SUM(W42:Z42) -> 0
...

Sheet 04-07 marktäckning
A1: Ogräsgradering marktäckning
A2: Försöksserie: | D2: ='10-29 Marktäckning'!D2 -> Örtogräsbekämpning i höstraps
A3: Plan nr: | D3: ='10-29 Marktäckning'!D3 -> L5-8010P
A4: Försöks nr: | D4: ='10-29 Marktäckning'!D4 -> I-865-2020
A5: ADB nr: | D5: ='10-29 Marktäckning'!D5 -> 0561501
A7: Datum: | D7: 44293
D9: Ettåriga örtogräs marktäckning | R9: Övriga fleråriga örtogräs marktäckning | W9: Övriga gräsogräs % marktäckning | AA9: Marktäckning ogräs totalt % | AB9: Marktäckning samtliga ettåriga örtogräs % | AC9: Marktäckning övriga fleråriga örtogräs % | AD9: Marktäckning gräsogräs % | AE9: Marktäckning fräken %
D10: 1 | E10: 2 | F10: 3 | G10: 4 | H10: 5 | I10: 6 | J10: 7 | K10: 8 | L10: 9 | M10: 10 | N10: 11 | O10: 12 | P10: 13 | Q10: 14 | R10: 15 | S10: 16 | T10: 17 | U10: 18 | V10: 19 | W10: 20 | X10: 21 | Y10: 22 | Z10: 23
A11: Ruta nr | B11: Led | C11: Block | D11: ='10-29 Marktäckning'!D11 -> Blåklint | E11: ='10-29 Marktäckning'!E11 -> Kornvallmo | F11: ='10-29 Marktäckning'!F11 -> Våtarv | G11: ='10-29 Marktäckning'!G11 -> Åkerviol | H11: ='10-29 Marktäckning'!H11 -> Spillsäd | I11: Lomme | J11: Åkerveronika | K11: Näva | L11: I | M11: J | N11: K | O11: L | P11: M | Q11: N | R11: O | S11: P | T11: Q | U11: R | V11: S | W11: T | X11: U | Y11: V | Z11: X
A12: ='10-29 Marktäckning'!A12 -> 1 | B12: ='10-29 Marktäckning'!B12 -> 4 | C12: ='10-29 Marktäckning'!C12 -> 1 | D12: 0 | E12: 0 | F12: 0 | G12: 1 | H12: 0 | I12: 0 | J12: 1 | K12: 0 | AA12: =AB12+AC12+AD12+AE12 -> 2 | AB12: =SUM(D12:Q12) -> 2 | AC12: =SUM(R12:V12) -> 0 | AD12: =SUM(W12:Z12) -> 0
A13: ='10-29 Marktäckning'!A13 -> 2 | B13: ='10-29 Marktäckning'!B13 -> 6 | C13: ='10-29 Marktäckning'!C13 -> 1 | D13: 0 | E13: 0 | F13: 0 | G13: 3 | H13: 0 | I13: 0 | J13: 3 | K13: 0 | AA13: =AB13+AC13+AD13+AE13 -> 6 | AB13: =SUM(D13:Q13) -> 6 | AC13: =SUM(R13:V13) -> 0 | AD13: =SUM(W13:Z13) -> 0
A14: ='10-29 Marktäckning'!A14 -> 3 | B14: ='10-29 Marktäckning'!B14 -> 1 | C14: ='10-29 Marktäckning'!C14 -> 1 | D14: 3 | E14: 5 | F14: 5 | G14: 0 | H14: 10 | I14: 5 | J14: 1 | K14: 1 | AA14: =AB14+AC14+AD14+AE14 -> 30 | AB14: =SUM(D14:Q14) -> 30 | AC14: =SUM(R14:V14) -> 0 | AD14: =SUM(W14:Z14) -> 0
A15: ='10-29 Marktäckning'!A15 -> 4 | B15: ='10-29 Marktäckning'!B15 -> 5 | C15: ='10-29 Marktäckning'!C15 -> 1 | D15: 0 | E15: 0 | F15: 0 | G15: 3 | H15: 5 | I15: 0 | J15: 5 | K15: 0 | AA15: =AB15+AC15+AD15+AE15 -> 13 | AB15: =SUM(D15:Q15) -> 13 | AC15: =SUM(R15:V15) -> 0 | AD15: =SUM(W15:Z15) -> 0
A16: ='10-29 Marktäckning'!A16 -> 5 | B16: ='10-29 Marktäckning'!B16 -> 2 | C16: ='10-29 Marktäckning'!C16 -> 1 | D16: 1 | E16: 2 | F16: 3 | G16: 0 | H16: 0 | I16: 1 | J16: 0 | K16: 0 | AA16: =AB16+AC16+AD16+AE16 -> 7 | AB16: =SUM(D16:Q16) -> 7 | AC16: =SUM(R16:V16) -> 0 | AD16: =SUM(W16:Z16) -> 0
A17: ='10-29 Marktäckning'!A17 -> 6 | B17: ='10-29 Marktäckning'!B17 -> 3 | C17: ='10-29 Marktäckning'!C17 -> 1 | D17: 5 | E17: 7 | F17: 10 | G17: 0 | H17: 0 | I17: 5 | J17: 2 | K17: 2 | AA17: =AB17+AC17+AD17+AE17 -> 31 | AB17: =SUM(D17:Q17) -> 31 | AC17: =SUM(R17:V17) -> 0 | AD17: =SUM(W17:Z17) -> 0
A18: ='10-29 Marktäckning'!A18 -> 7 | B18: ='10-29 Marktäckning'!B18 -> 3 | C18: ='10-29 Marktäckning'!C18 -> 2 | D18: 7 | E18: 10 | F18: 5 | G18: 0 | H18: 0 | I18: 5 | J18: 3 | K18: 2 | AA18: =AB18+AC18+AD18+AE18 -> 32 | AB18: =SUM(D18:Q18) -> 32 | AC18: =SUM(R18:V18) -> 0 | AD18: =SUM(W18:Z18) -> 0
A19: ='10-29 Marktäckning'!A19 -> 8 | B19: ='10-29 Marktäckning'!B19 -> 5 | C19: ='10-29 Marktäckning'!C19 -> 2 | D19: 0 | E19: 0 | F19: 1 | G19: 1 | H19: 2 | I19: 0 | J19: 1 | K19: 0 | AA19: =AB19+AC19+AD19+AE19 -> 5 | AB19: =SUM(D19:Q19) -> 5 | AC19: =SUM(R19:V19) -> 0 | AD19: =SUM(W19:Z19) -> 0
A20: ='10-29 Marktäckning'!A20 -> 9 | B20: ='10-29 Marktäckning'!B20 -> 6 | C20: ='10-29 Marktäckning'!C20 -> 2 | D20: 0 | E20: 0 | F20: 2 | G20: 1 | H20: 0 | I20: 0 | J20: 1 | K20: 0 | AA20: =AB20+AC20+AD20+AE20 -> 4 | AB20: =SUM(D20:Q20) -> 4 | AC20: =SUM(R20:V20) -> 0 | AD20: =SUM(W20:Z20) -> 0
A21: ='10-29 Marktäckning'!A21 -> 10 | B21: ='10-29 Marktäckning'!B21 -> 1 | C21: ='10-29 Marktäckning'!C21 -> 2 | D21: 5 | E21: 7 | F21: 10 | G21: 0 | H21: 7 | I21: 5 | J21: 3 | K21: 2 | AA21: =AB21+AC21+AD21+AE21 -> 39 | AB21: =SUM(D21:Q21) -> 39 | AC21: =SUM(R21:V21) -> 0 | AD21: =SUM(W21:Z21) -> 0
A22: ='10-29 Marktäckning'!A22 -> 11 | B22: ='10-29 Marktäckning'!B22 -> 2 | C22: ='10-29 Marktäckning'!C22 -> 2 | D22: 1 | E22: 2 | F22: 3 | G22: 0 | H22: 0 | I22: 2 | J22: 0 | K22: 1 | AA22: =AB22+AC22+AD22+AE22 -> 9 | AB22: =SUM(D22:Q22) -> 9 | AC22: =SUM(R22:V22) -> 0 | AD22: =SUM(W22:Z22) -> 0
A23: ='10-29 Marktäckning'!A23 -> 12 | B23: ='10-29 Marktäckning'!B23 -> 4 | C23: ='10-29 Marktäckning'!C23 -> 2 | D23: 0 | E23: 0 | F23: 0 | G23: 1 | H23: 0 | I23: 0 | J23: 1 | K23: 0 | AA23: =AB23+AC23+AD23+AE23 -> 2 | AB23: =SUM(D23:Q23) -> 2 | AC23: =SUM(R23:V23) -> 0 | AD23: =SUM(W23:Z23) -> 0
... A35: ='10-29 Marktäckning'!A35 -> 24 | B35: ='10-29 Marktäckning'!B35 -> 1 | C35: ='10-29 Marktäckning'!C35 -> 4 | D35: 7 | E35: 10 | F35: 2 | G35: 1 | H35: 3 | I35: 3 | J35: 1 | K35: 1 | AA35: =AB35+AC35+AD35+AE35 -> 28 | AB35: =SUM(D35:Q35) -> 28 | AC35: =SUM(R35:V35) -> 0 | AD35: =SUM(W35:Z35) -> 0
A36: ='10-29 Marktäckning'!A36 -> 25 | B36: ='10-29 Marktäckning'!B36 -> 0 | C36: ='10-29 Marktäckning'!C36 -> 0 | AA36: =AB36+AC36+AD36+AE36 -> 0 | AB36: =SUM(D36:Q36) -> 0 | AC36: =SUM(R36:V36) -> 0 | AD36: =SUM(W36:Z36) -> 0
A37: ='10-29 Marktäckning'!A37 -> 26 | B37: ='10-29 Marktäckning'!B37 -> 0 | C37: ='10-29 Marktäckning'!C37 -> 0 | AA37: =AB37+AC37+AD37+AE37 -> 0 | AB37: =SUM(D37:Q37) -> 0 | AC37: =SUM(R37:V37) -> 0 | AD37: =SUM(W37:Z37) -> 0
A38: ='10-29 Marktäckning'!A38 -> 27 | B38: ='10-29 Marktäckning'!B38 -> 0 | C38: ='10-29 Marktäckning'!C38 -> 0 | AA38: =AB38+AC38+AD38+AE38 -> 0 | AB38: =SUM(D38:Q38) -> 0 | AC38: =SUM(R38:V38) -> 0 | AD38: =SUM(W38:Z38) -> 0
A39: ='10-29 Marktäckning'!A39 -> 28 | B39: ='10-29 Marktäckning'!B39 -> 0 | C39: ='10-29 Marktäckning'!C39 -> 0 | AA39: =AB39+AC39+AD39+AE39 -> 0 | AB39: =SUM(D39:Q39) -> 0 | AC39: =SUM(R39:V39) -> 0 | AD39: =SUM(W39:Z39) -> 0
A40: ='10-29 Marktäckning'!A40 -> 29 | B40: ='10-29 Marktäckning'!B40 -> 0 | C40: ='10-29 Marktäckning'!C40 -> 0 | AA40: =AB40+AC40+AD40+AE40 -> 0 | AB40: =SUM(D40:Q40) -> 0 | AC40: =SUM(R40:V40) -> 0 | AD40: =SUM(W40:Z40) -> 0
A41: ='10-29 Marktäckning'!A41 -> 30 | B41: ='10-29 Marktäckning'!B41 -> 0 | C41: ='10-29 Marktäckning'!C41 -> 0 | AA41: =AB41+AC41+AD41+AE41 -> 0 | AB41: =SUM(D41:Q41) -> 0 | AC41: =SUM(R41:V41) -> 0 | AD41: =SUM(W41:Z41) -> 0
A42: ='10-29 Marktäckning'!A42 -> 31 | B42: ='10-29 Marktäckning'!B42 -> 0 | C42: ='10-29 Marktäckning'!C42 -> 0 | AA42: =AB42+AC42+AD42+AE42 -> 0 | AB42: =SUM(D42:Q42) -> 0 | AC42: =SUM(R42:V42) -> 0 | AD42: =SUM(W42:Z42) -> 0
A43: ='10-29 Marktäckning'!A43 -> 32 | B43: ='10-29 Marktäckning'!B43 -> 0 | C43: ='10-29 Marktäckning'!C43 -> 0 | AA43: =AB43+AC43+AD43+AE43 -> 0 | AB43: =SUM(D43:Q43) -> 0 | AC43: =SUM(R43:V43) -> 0 | AD43: =SUM(W43:Z43) -> 0
A44: ='10-29 Marktäckning'!A44 -> 33 | B44: ='10-29 Marktäckning'!B44 -> 0 | C44: ='10-29 Marktäckning'!C44 -> 0 | AA44: =AB44+AC44+AD44+AE44 -> 0 | AB44: =SUM(D44:Q44) -> 0 | AC44: =SUM(R44:V44) -> 0 | AD44: =SUM(W44:Z44) -> 0
A45: ='10-29 Marktäckning'!A45 -> 34 | B45: ='10-29 Marktäckning'!B45 -> 0 | C45: ='10-29 Marktäckning'!C45 -> 0 | AA45: =AB45+AC45+AD45+AE45 -> 0 | AB45: =SUM(D45:Q45) -> 0 | AC45: =SUM(R45:V45) -> 0 | AD45: =SUM(W45:Z45) -> 0
A46: ='10-29 Marktäckning'!A46 -> 35 | B46: ='10-29 Marktäckning'!B46 -> 0 | C46: ='10-29 Marktäckning'!C46 -> 0 | AA46: =AB46+AC46+AD46+AE46 -> 0 | AB46: =SUM(D46:Q46) -> 0 | AC46: =SUM(R46:V46) -> 0 | AD46: =SUM(W46:Z46) -> 0
A47: ='10-29 Marktäckning'!A47 -> 36 | B47: ='10-29 Marktäckning'!B47 -> 0 | C47: ='10-29 Marktäckning'!C47 -> 0 | AA47: =AB47+AC47+AD47+AE47 -> 0 | AB47: =SUM(D47:Q47) -> 0 | AC47: =SUM(R47:V47) -> 0 | AD47: =SUM(W47:Z47) -> 0
... A107: ='10-29 Marktäckning'!A107 -> 100 | B107: ='10-29 Marktäckning'!B107 -> 0 | C107: ='10-29 Marktäckning'!C107 -> 0 | AA107: =AB107+AC107+AD107+AE107 -> 0 | AB107: =SUM(D107:Q107) -> 0 | AC107: =SUM(R107:V107) -> 0 | AD107: =SUM(W107:Z107) -> 0

Sheet 04-07 effekt
A1: Ogräsgradering effektgradering
A2: Försöksserie: | D2: ='10-29 Marktäckning'!D2 -> Örtogräsbekämpning i höstraps
A3: Plan nr: | D3: ='10-29 Effekt'!D3 -> L5-8010P
A4: Försöks nr: | D4: ='10-29 Effekt'!D4 -> I-865-2020
A5: ADB nr: | D5: ='10-29 Effekt'!D5 -> 0561501
A7: Datum: | D7: 44293
D9: Ettåriga örtogräs effektgradering | R9: Övriga fleråriga örtogräs effektgradering | W9: Övriga gräsogräs % effektgradering | AA9: Effektgradering ogräs totalt % | AB9: Effektgradering samtliga ettåriga örtogräs % | AC9: Effektgradering övriga fleråriga örtogräs % | AD9: Effektgradering gräsogräs % | AE9: Effektgradering fräken %
D10: 1 | E10: 2 | F10: 3 | G10: 4 | H10: 5 | I10: 6 | J10: 7 | K10: 8 | L10: 9 | M10: 10 | N10: 11 | O10: 12 | P10: 13 | Q10: 14 | R10: 15 | S10: 16 | T10: 17 | U10: 18 | V10: 19 | W10: 20 | X10: 21 | Y10: 22 | Z10: 23
A11: Ruta nr | B11: Led | C11: Block | D11: ='10-29 Effekt'!D11 -> Blåklint | E11: ='10-29 Effekt'!E11 -> Kornvallmo | F11: Lomme | G11: spillsäd | H11: total effekt | I11: F | J11: G | K11: H | L11: I | M11: J | N11: K | O11: L | P11: M | Q11: N | R11: O | S11: P | T11: Q | U11: R | V11: S | W11: T | X11: U | Y11: V | Z11: X
A12: ='10-29 Marktäckning'!A12 -> 1 | B12: ='10-29 Marktäckning'!B12 -> 4 | C12: ='10-29 Marktäckning'!C12 -> 1 | D12: 100 | E12: 100 | F12: 100 | G12: 100 | H12: 99 | AA12: =AB12+AC12+AD12+AE12 -> 499 | AB12: =SUM(D12:Q12) -> 499 | AC12: =SUM(R12:V12) -> 0 | AD12: =SUM(W12:Z12) -> 0
A13: ='10-29 Marktäckning'!A13 -> 2 | B13: ='10-29 Marktäckning'!B13 -> 6 | C13: ='10-29 Marktäckning'!C13 -> 1 | D13: 100 | E13: 100 | F13: 100 | G13: 100 | H13: 97 | AA13: =AB13+AC13+AD13+AE13 -> 497 | AB13: =SUM(D13:Q13) -> 497 | AC13: =SUM(R13:V13) -> 0 | AD13: =SUM(W13:Z13) -> 0
A14: ='10-29 Marktäckning'!A14 -> 3 | B14: ='10-29 Marktäckning'!B14 -> 1 | C14: ='10-29 Marktäckning'!C14 -> 1 | AA14: =AB14+AC14+AD14+AE14 -> 0 | AB14: =SUM(D14:Q14) -> 0 | AC14: =SUM(R14:V14) -> 0 | AD14: =SUM(W14:Z14) -> 0
A15: ='10-29 Marktäckning'!A15 -> 4 | B15: ='10-29 Marktäckning'!B15 -> 5 | C15: ='10-29 Marktäckning'!C15 -> 1 | D15: 100 | E15: 100 | F15: 100 | G15: 0 | H15: 90 | AA15: =AB15+AC15+AD15+AE15 -> 390 | AB15: =SUM(D15:Q15) -> 390 | AC15: =SUM(R15:V15) -> 0 | AD15: =SUM(W15:Z15) -> 0
A16: ='10-29 Marktäckning'!A16 -> 5 | B16: ='10-29 Marktäckning'!B16 -> 2 | C16: ='10-29 Marktäckning'!C16 -> 1 | D16: 90 | E16: 90 | F16: 90 | G16: 100 | H16: 90 | AA16: =AB16+AC16+AD16+AE16 -> 460 | AB16: =SUM(D16:Q16) -> 460 | AC16: =SUM(R16:V16) -> 0 | AD16: =SUM(W16:Z16) -> 0
A17: ='10-29 Marktäckning'!A17 -> 6 | B17: ='10-29 Marktäckning'!B17 -> 3 | C17: ='10-29 Marktäckning'!C17 -> 1 | D17: 0 | E17: 0 | F17: 0 | G17: 100 | H17: 40 | AA17: =AB17+AC17+AD17+AE17 -> 140 | AB17: =SUM(D17:Q17) -> 140 | AC17: =SUM(R17:V17) -> 0 | AD17: =SUM(W17:Z17) -> 0
A18: ='10-29 Marktäckning'!A18 -> 7 | B18: ='10-29 Marktäckning'!B18 -> 3 | C18: ='10-29 Marktäckning'!C18 -> 2 | D18: 0 | E18: 0 | F18: 0 | G18: 100 | H18: 40 | AA18: =AB18+AC18+AD18+AE18 -> 140 | AB18: =SUM(D18:Q18) -> 140 | AC18: =SUM(R18:V18) -> 0 | AD18: =SUM(W18:Z18) -> 0
A19: ='10-29 Marktäckning'!A19 -> 8 | B19: ='10-29 Marktäckning'!B19 -> 5 | C19: ='10-29 Marktäckning'!C19 -> 2 | D19: 100 | E19: 97 | F19: 100 | G19: 0 | H19: 95 | AA19: =AB19+AC19+AD19+AE19 -> 392 | AB19: =SUM(D19:Q19) -> 392 | AC19: =SUM(R19:V19) -> 0 | AD19: =SUM(W19:Z19) -> 0
A20: ='10-29 Marktäckning'!A20 -> 9 | B20: ='10-29 Marktäckning'!B20 -> 6 | C20: ='10-29 Marktäckning'!C20 -> 2 | D20: 100 | E20: 100 | F20: 100 | G20: 100 | H20: 97 | AA20: =AB20+AC20+AD20+AE20 -> 497 | AB20: =SUM(D20:Q20) -> 497 | AC20: =SUM(R20:V20) -> 0 | AD20: =SUM(W20:Z20) -> 0
A21: ='10-29 Marktäckning'!A21 -> 10 | B21: ='10-29 Marktäckning'!B21 -> 1 | C21: ='10-29 Marktäckning'!C21 -> 2 | AA21: =AB21+AC21+AD21+AE21 -> 0 | AB21: =SUM(D21:Q21) -> 0 | AC21: =SUM(R21:V21) -> 0 | AD21: =SUM(W21:Z21) -> 0
A22: ='10-29 Marktäckning'!A22 -> 11 | B22: ='10-29 Marktäckning'!B22 -> 2 | C22: ='10-29 Marktäckning'!C22 -> 2 | D22: 96 | E22: 90 | F22: 80 | G22: 100 | H22: 90 | AA22: =AB22+AC22+AD22+AE22 -> 456 | AB22: =SUM(D22:Q22) -> 456 | AC22: =SUM(R22:V22) -> 0 | AD22: =SUM(W22:Z22) -> 0
A23: ='10-29 Marktäckning'!A23 -> 12 | B23: ='10-29 Marktäckning'!B23 -> 4 | C23: ='10-29 Marktäckning'!C23 -> 2 | D23: 100 | E23: 100 | F23: 100 | G23: 100 | H23: 97 | AA23: =AB23+AC23+AD23+AE23 -> 497 | AB23: =SUM(D23:Q23) -> 497 | AC23: =SUM(R23:V23) -> 0 | AD23: =SUM(W23:Z23) -> 0
A24: ='10-29 Marktäckning'!A24 -> 13 | B24: ='10-29 Marktäckning'!B24 -> 1 | C24: ='10-29 Marktäckning'!C24 -> 3 | AA24: =AB24+AC24+AD24+AE24 -> 0 | AB24: =SUM(D24:Q24) -> 0 | AC24: =SUM(R24:V24) -> 0 | AD24: =SUM(W24:Z24) -> 0
A25: ='10-29 Marktäckning'!A25 -> 14 | B25: ='10-29 Marktäckning'!B25 -> 2 | C25: ='10-29 Marktäckning'!C25 -> 3 | D25: 90 | E25: 70 | F25: 95 | G25: 100 | H25: 87 | AA25: =AB25+AC25+AD25+AE25 -> 442 | AB25: =SUM(D25:Q25) -> 442 | AC25: =SUM(R25:V25) -> 0 | AD25: =SUM(W25:Z25) -> 0
A26: ='10-29 Marktäckning'!A26 -> 15 | B26: ='10-29 Marktäckning'!B26 -> 3 | C26: ='10-29 Marktäckning'!C26 -> 3 | D26: 0 | E26: 0 | F26: 0 | G26: 100 | H26: 40 | AA26: =AB26+AC26+AD26+AE26 -> 140 | AB26: =SUM(D26:Q26) -> 140 | AC26: =SUM(R26:V26) -> 0 | AD26: =SUM(W26:Z26) -> 0
A27: ='10-29 Marktäckning'!A27 -> 16 | B27: ='10-29 Marktäckning'!B27 -> 6 | C27: ='10-29 Marktäckning'!C27 -> 3 | D27: 100 | E27: 100 | F27: 100 | G27: 100 | H27: 97 | AA27: =AB27+AC27+AD27+AE27 -> 497 | AB27: =SUM(D27:Q27) -> 497 | AC27: =SUM(R27:V27) -> 0 | AD27: =SUM(W27:Z27) -> 0
A28: ='10-29 Marktäckning'!A28 -> 17 | B28: ='10-29 Marktäckning'!B28 -> 4 | C28: ='10-29 Marktäckning'!C28 -> 3 | D28: 100 | E28: 100 | F28: 100 | G28: 100 | H28: 99 | AA28: =AB28+AC28+AD28+AE28 -> 499 | AB28: =SUM(D28:Q28) -> 499 | AC28: =SUM(R28:V28) -> 0 | AD28: =SUM(W28:Z28) -> 0
A29: ='10-29 Marktäckning'!A29 -> 18 | B29: ='10-29 Marktäckning'!B29 -> 5 | C29: ='10-29 Marktäckning'!C29 -> 3 | D29: 100 | E29: 100 | F29: 100 | G29: 0 | H29: 93 | AA29: =AB29+AC29+AD29+AE29 -> 393 | AB29: =SUM(D29:Q29) -> 393 | AC29: =SUM(R29:V29) -> 0 | AD29: =SUM(W29:Z29) -> 0
A30: ='10-29 Marktäckning'!A30 -> 19 | B30: ='10-29 Marktäckning'!B30 -> 4 | C30: ='10-29 Marktäckning'!C30 -> 4 | D30: 100 | E30: 100 | F30: 100 | G30: 100 | H30: 99 | AA30: =AB30+AC30+AD30+AE30 -> 499 | AB30: =SUM(D30:Q30) -> 499 | AC30: =SUM(R30:V30) -> 0 | AD30: =SUM(W30:Z30) -> 0
A31: ='10-29 Marktäckning'!A31 -> 20 | B31: ='10-29 Marktäckning'!B31 -> 6 | C31: ='10-29 Marktäckning'!C31 -> 4 | D31: 100 | E31: 100 | F31: 100 | G31: 100 | H31: 97 | AA31: =AB31+AC31+AD31+AE31 -> 497 | AB31: =SUM(D31:Q31) -> 497 | AC31: =SUM(R31:V31) -> 0 | AD31: =SUM(W31:Z31) -> 0
A32: ='10-29 Marktäckning'!A32 -> 21 | B32: ='10-29 Marktäckning'!B32 -> 5 | C32: ='10-29 Marktäckning'!C32 -> 4 | D32: 100 | E32: 100 | F32: 100 | G32: 0 | H32: 93 | AA32: =AB32+AC32+AD32+AE32 -> 393 | AB32: =SUM(D32:Q32) -> 393 | AC32: =SUM(R32:V32) -> 0 | AD32: =SUM(W32:Z32) -> 0
A33: ='10-29 Marktäckning'!A33 -> 22 | B33: ='10-29 Marktäckning'!B33 -> 2 | C33: ='10-29 Marktäckning'!C33 -> 4 | D33: 90 | E33: 80 | F33: 90 | G33: 100 | H33: 87 | AA33: =AB33+AC33+AD33+AE33 -> 447 | AB33: =SUM(D33:Q33) -> 447 | AC33: =SUM(R33:V33) -> 0 | AD33: =SUM(W33:Z33) -> 0
A34: ='10-29 Marktäckning'!A34 -> 23 | B34: ='10-29 Marktäckning'!B34 -> 3 | C34: ='10-29 Marktäckning'!C34 -> 4 | D34: 0 | E34: 0 | F34: 0 | G34: 100 | H34: 20 | AA34: =AB34+AC34+AD34+AE34 -> 120 | AB34: =SUM(D34:Q34) -> 120 | AC34: =SUM(R34:V34) -> 0 | AD34: =SUM(W34:Z34) -> 0
A35: ='10-29 Marktäckning'!A35 -> 24 | B35: ='10-29 Marktäckning'!B35 -> 1 | C35: ='10-29 Marktäckning'!C35 -> 4 | AA35: =AB35+AC35+AD35+AE35 -> 0 | AB35: =SUM(D35:Q35) -> 0 | AC35: =SUM(R35:V35) -> 0 | AD35: =SUM(W35:Z35) -> 0
A36: ='10-29 Marktäckning'!A36 -> 25 | B36: ='10-29 Marktäckning'!B36 -> 0 | C36: ='10-29 Marktäckning'!C36 -> 0 | AA36: =AB36+AC36+AD36+AE36 -> 0 | AB36: =SUM(D36:Q36) -> 0 | AC36: =SUM(R36:V36) -> 0 | AD36: =SUM(W36:Z36) -> 0
A37: ='10-29 Marktäckning'!A37 -> 26 | B37: ='10-29 Marktäckning'!B37 -> 0 | C37: ='10-29 Marktäckning'!C37 -> 0 | AA37: =AB37+AC37+AD37+AE37 -> 0 | AB37: =SUM(D37:Q37) -> 0 | AC37: =SUM(R37:V37) -> 0 | AD37: =SUM(W37:Z37) -> 0
A38: ='10-29 Marktäckning'!A38 -> 27 | B38: ='10-29 Marktäckning'!B38 -> 0 | C38: ='10-29 Marktäckning'!C38 -> 0 | AA38: =AB38+AC38+AD38+AE38 -> 0 | AB38: =SUM(D38:Q38) -> 0 | AC38: =SUM(R38:V38) -> 0 | AD38: =SUM(W38:Z38) -> 0
A39: ='10-29 Marktäckning'!A39 -> 28 | B39: ='10-29 Marktäckning'!B39 -> 0 | C39: ='10-29 Marktäckning'!C39 -> 0 | AA39: =AB39+AC39+AD39+AE39 -> 0 | AB39: =SUM(D39:Q39) -> 0 | AC39: =SUM(R39:V39) -> 0 | AD39: =SUM(W39:Z39) -> 0
A40: ='10-29 Marktäckning'!A40 -> 29 | B40: ='10-29 Marktäckning'!B40 -> 0 | C40: ='10-29 Marktäckning'!C40 -> 0 | AA40: =AB40+AC40+AD40+AE40 -> 0 | AB40: =SUM(D40:Q40) -> 0 | AC40: =SUM(R40:V40) -> 0 | AD40: =SUM(W40:Z40) -> 0
A41: ='10-29 Marktäckning'!A41 -> 30 | B41: ='10-29 Marktäckning'!B41 -> 0 | C41: ='10-29 Marktäckning'!C41 -> 0 | AA41: =AB41+AC41+AD41+AE41 -> 0 | AB41: =SUM(D41:Q41) -> 0 | AC41: =SUM(R41:V41) -> 0 | AD41: =SUM(W41:Z41) -> 0
A42: ='10-29 Marktäckning'!A42 -> 31 | B42: ='10-29 Marktäckning'!B42 -> 0 | C42: ='10-29 Marktäckning'!C42 -> 0 | AA42: =AB42+AC42+AD42+AE42 -> 0 | AB42: =SUM(D42:Q42) -> 0 | AC42: =SUM(R42:V42) -> 0 | AD42: =SUM(W42:Z42) -> 0
...

Sheet marktäckning
A1: Ogräsgradering marktäckning
A2: Försöksserie: | D2: Örtogräsbekämpning i höstraps
A3: Plan nr: | D3: L5-8010P
A4: Försöks nr: | D4: I-865-2020
A5: ADB nr: | D5: 0561501
A7: Datum: | D7: 44133
D9: Ettåriga örtogräs marktäckning
D10: 44133 | E10: 44293
A11: Ruta nr | B11: Led | C11: Block | D11: Marktäckning | E11: Marktäckning
A12: 1 | B12: 4 | C12: 1 | D12: ='10-29 Marktäckning'!AB12 -> 16 | E12: ='04-07 marktäckning'!AA12 -> 2
A13: 2 | B13: 6 | C13: 1 | D13: ='10-29 Marktäckning'!AB13 -> 16 | E13: ='04-07 marktäckning'!AA13 -> 6
A14: 3 | B14: 1 | C14: 1 | D14: ='10-29 Marktäckning'!AB14 -> 80 | E14: ='04-07 marktäckning'!AA14 -> 30
A15: 4 | B15: 5 | C15: 1 | D15: ='10-29 Marktäckning'!AB15 -> 24 | E15: ='04-07 marktäckning'!AA15 -> 13
A16: 5 | B16: 2 | C16: 1 | D16: ='10-29 Marktäckning'!AB16 -> 38 | E16: ='04-07 marktäckning'!AA16 -> 7
A17: 6 | B17: 3 | C17: 1 | D17: ='10-29 Marktäckning'!AB17 -> 73 | E17: ='04-07 marktäckning'!AA17 -> 31
A18: 7 | B18: 3 | C18: 2 | D18: ='10-29 Marktäckning'!AB18 -> 73 | E18: ='04-07 marktäckning'!AA18 -> 32
A19: 8 | B19: 5 | C19: 2 | D19: ='10-29 Marktäckning'!AB19 -> 15 | E19: ='04-07 marktäckning'!AA19 -> 5
A20: 9 | B20: 6 | C20: 2 | D20: ='10-29 Marktäckning'!AB20 -> 9 | E20: ='04-07 marktäckning'!AA20 -> 4
A21: 10 | B21: 1 | C21: 2 | D21: ='10-29 Marktäckning'!AB21 -> 74 | E21: ='04-07 marktäckning'!AA21 -> 39
A22: 11 | B22: 2 | C22: 2 | D22: ='10-29 Marktäckning'!AB22 -> 41 | E22: ='04-07 marktäckning'!AA22 -> 9
A23: 12 | B23: 4 | C23: 2 | D23: ='10-29 Marktäckning'!AB23 -> 10 | E23: ='04-07 marktäckning'!AA23 -> 2
... A35: 24 | B35: 1 | C35: 4 | D35: ='10-29 Marktäckning'!AB35 -> 81 | E35: ='04-07 marktäckning'!AA35 -> 28
A36: 25
A37: 26
A38: 27
A39: 28
A40: 29
A41: 30
A42: 31
A43: 32
A44: 33
A45: 34
A46: 35
A47: 36
... A107: 100

Sheet Effekt
A1: Ogräsgradering marktäckning
A2: Försöksserie: | D2: Örtogräsbekämpning i höstraps
A3: Plan nr: | D3: L5-8010P
A4: Försöks nr: | D4: I-865-2020
A5: ADB nr: | D5: 0561501
A7: Datum: | D7: 44133
D9: Ettåriga örtogräs marktäckning
D10: 44133 | E10: 44293
A11: Ruta nr | B11: Led | C11: Block | D11: Total effekt | E11: Total effekt
A12: 1 | B12: 4 | C12: 1 | D12: ='10-29 Effekt'!G12 -> 95 | E12: ='04-07 effekt'!H12 -> 99
A13: 2 | B13: 6 | C13: 1 | D13: ='10-29 Effekt'!G13 -> 95 | E13: ='04-07 effekt'!H13 -> 97
A14: 3 | B14: 1 | C14: 1 | D14: ='10-29 Effekt'!G14 -> 0 | E14: ='04-07 effekt'!H14 -> 0
A15: 4 | B15: 5 | C15: 1 | D15: ='10-29 Effekt'!G15 -> 90 | E15: ='04-07 effekt'!H15 -> 90
A16: 5 | B16: 2 | C16: 1 | D16: ='10-29 Effekt'!G16 -> 80 | E16: ='04-07 effekt'!H16 -> 90
A17: 6 | B17: 3 | C17: 1 | D17: ='10-29 Effekt'!G17 -> 10 | E17: ='04-07 effekt'!H17 -> 40
A18: 7 | B18: 3 | C18: 2 | D18: ='10-29 Effekt'!G18 -> 10 | E18: ='04-07 effekt'!H18 -> 40
A19: 8 | B19: 5 | C19: 2 | D19: ='10-29 Effekt'!G19 -> 90 | E19: ='04-07 effekt'!H19 -> 95
A20: 9 | B20: 6 | C20: 2 | D20: ='10-29 Effekt'!G20 -> 95 | E20: ='04-07 effekt'!H20 -> 97
A21: 10 | B21: 1 | C21: 2 | D21: ='10-29 Effekt'!G21 -> 0 | E21: ='04-07 effekt'!H21 -> 0
A22: 11 | B22: 2 | C22: 2 | D22: ='10-29 Effekt'!G22 -> 75 | E22: ='04-07 effekt'!H22 -> 90
A23: 12 | B23: 4 | C23: 2 | D23: ='10-29 Effekt'!G23 -> 95 | E23: ='04-07 effekt'!H23 -> 97
... A35: 24 | B35: 1 | C35: 4 | D35: ='10-29 Effekt'!G35 -> 0 | E35: ='04-07 effekt'!H35 -> 0
A36: 25
A37: 26
A38: 27
A39: 28
A40: 29
A41: 30
A42: 31
A43: 32
A44: 33
A45: 34
A46: 35
A47: 36
... A107: 100

Sheet 3e marktäckning
A1: Ogräsgradering marktäckning
A2: Försöksserie: | D2: ='10-29 Marktäckning'!D2 -> Örtogräsbekämpning i höstraps
A3: Plan nr: | D3: ='10-29 Marktäckning'!D3 -> L5-8010P
A4: Försöks nr: | D4: ='10-29 Marktäckning'!D4 -> I-865-2020
A5: ADB nr: | D5: ='10-29 Marktäckning'!D5 -> 0561501
A7: Datum: | D7: 3
D9: Ettåriga örtogräs marktäckning | R9: Övriga fleråriga örtogräs marktäckning | W9: Övriga gräsogräs % marktäckning | AA9: Marktäckning ogräs totalt % | AB9: Marktäckning samtliga ettåriga örtogräs % | AC9: Marktäckning övriga fleråriga örtogräs % | AD9: Marktäckning gräsogräs % | AE9: Marktäckning fräken %
D10: 1 | E10: 2 | F10: 3 | G10: 4 | H10: 5 | I10: 6 | J10: 7 | K10: 8 | L10: 9 | M10: 10 | N10: 11 | O10: 12 | P10: 13 | Q10: 14 | R10: 15 | S10: 16 | T10: 17 | U10: 18 | V10: 19 | W10: 20 | X10: 21 | Y10: 22 | Z10: 23
A11: Ruta nr | B11: Led | C11: Block | D11: A | E11: B | F11: C | G11: D | H11: E | I11: F | J11: G | K11: H | L11: I | M11: J | N11: K | O11: L | P11: M | Q11: N | R11: O | S11: P | T11: Q | U11: R | V11: S | W11: T | X11: U | Y11: V | Z11: X
A12: ='10-29 Marktäckning'!A12 -> 1 | B12: ='10-29 Marktäckning'!B12 -> 4 | C12: ='10-29 Marktäckning'!C12 -> 1 | AA12: =AB12+AC12+AD12+AE12 -> 0 | AB12: =SUM(D12:Q12) -> 0 | AC12: =SUM(R12:V12) -> 0 | AD12: =SUM(W12:Z12) -> 0
A13: ='10-29 Marktäckning'!A13 -> 2 | B13: ='10-29 Marktäckning'!B13 -> 6 | C13: ='10-29 Marktäckning'!C13 -> 1 | AA13: =AB13+AC13+AD13+AE13 -> 0 | AB13: =SUM(D13:Q13) -> 0 | AC13: =SUM(R13:V13) -> 0 | AD13: =SUM(W13:Z13) -> 0
A14: ='10-29 Marktäckning'!A14 -> 3 | B14: ='10-29 Marktäckning'!B14 -> 1 | C14: ='10-29 Marktäckning'!C14 -> 1 | AA14: =AB14+AC14+AD14+AE14 -> 0 | AB14: =SUM(D14:Q14) -> 0 | AC14: =SUM(R14:V14) -> 0 | AD14: =SUM(W14:Z14) -> 0
A15: ='10-29 Marktäckning'!A15 -> 4 | B15: ='10-29 Marktäckning'!B15 -> 5 | C15: ='10-29 Marktäckning'!C15 -> 1 | AA15: =AB15+AC15+AD15+AE15 -> 0 | AB15: =SUM(D15:Q15) -> 0 | AC15: =SUM(R15:V15) -> 0 | AD15: =SUM(W15:Z15) -> 0
A16: ='10-29 Marktäckning'!A16 -> 5 | B16: ='10-29 Marktäckning'!B16 -> 2 | C16: ='10-29 Marktäckning'!C16 -> 1 | AA16: =AB16+AC16+AD16+AE16 -> 0 | AB16: =SUM(D16:Q16) -> 0 | AC16: =SUM(R16:V16) -> 0 | AD16: =SUM(W16:Z16) -> 0
A17: ='10-29 Marktäckning'!A17 -> 6 | B17: ='10-29 Marktäckning'!B17 -> 3 | C17: ='10-29 Marktäckning'!C17 -> 1 | AA17: =AB17+AC17+AD17+AE17 -> 0 | AB17: =SUM(D17:Q17) -> 0 | AC17: =SUM(R17:V17) -> 0 | AD17: =SUM(W17:Z17) -> 0
A18: ='10-29 Marktäckning'!A18 -> 7 | B18: ='10-29 Marktäckning'!B18 -> 3 | C18: ='10-29 Marktäckning'!C18 -> 2 | AA18: =AB18+AC18+AD18+AE18 -> 0 | AB18: =SUM(D18:Q18) -> 0 | AC18: =SUM(R18:V18) -> 0 | AD18: =SUM(W18:Z18) -> 0
A19: ='10-29 Marktäckning'!A19 -> 8 | B19: ='10-29 Marktäckning'!B19 -> 5 | C19: ='10-29 Marktäckning'!C19 -> 2 | AA19: =AB19+AC19+AD19+AE19 -> 0 | AB19: =SUM(D19:Q19) -> 0 | AC19: =SUM(R19:V19) -> 0 | AD19: =SUM(W19:Z19) -> 0
A20: ='10-29 Marktäckning'!A20 -> 9 | B20: ='10-29 Marktäckning'!B20 -> 6 | C20: ='10-29 Marktäckning'!C20 -> 2 | AA20: =AB20+AC20+AD20+AE20 -> 0 | AB20: =SUM(D20:Q20) -> 0 | AC20: =SUM(R20:V20) -> 0 | AD20: =SUM(W20:Z20) -> 0
A21: ='10-29 Marktäckning'!A21 -> 10 | B21: ='10-29 Marktäckning'!B21 -> 1 | C21: ='10-29 Marktäckning'!C21 -> 2 | AA21: =AB21+AC21+AD21+AE21 -> 0 | AB21: =SUM(D21:Q21) -> 0 | AC21: =SUM(R21:V21) -> 0 | AD21: =SUM(W21:Z21) -> 0
A22: ='10-29 Marktäckning'!A22 -> 11 | B22: ='10-29 Marktäckning'!B22 -> 2 | C22: ='10-29 Marktäckning'!C22 -> 2 | AA22: =AB22+AC22+AD22+AE22 -> 0 | AB22: =SUM(D22:Q22) -> 0 | AC22: =SUM(R22:V22) -> 0 | AD22: =SUM(W22:Z22) -> 0
A23: ='10-29 Marktäckning'!A23 -> 12 | B23: ='10-29 Marktäckning'!B23 -> 4 | C23: ='10-29 Marktäckning'!C23 -> 2 | AA23: =AB23+AC23+AD23+AE23 -> 0 | AB23: =SUM(D23:Q23) -> 0 | AC23: =SUM(R23:V23) -> 0 | AD23: =SUM(W23:Z23) -> 0
... A107: ='10-29 Marktäckning'!A107 -> 100 | B107: ='10-29 Marktäckning'!B107 -> 0 | C107: ='10-29 Marktäckning'!C107 -> 0 | AA107: =AB107+AC107+AD107+AE107 -> 0 | AB107: =SUM(D107:Q107) -> 0 | AC107: =SUM(R107:V107) -> 0 | AD107: =SUM(W107:Z107) -> 0

Sheet 3e effekt
A1: Ogräsgradering effektgradering
A2: Försöksserie: | D2: ='10-29 Marktäckning'!D2 -> Örtogräsbekämpning i höstraps
A3: Plan nr: | D3: B
A4: Försöks nr: | D4: C
A5: ADB nr: | D5: D
A7: Datum: | D7: 3
D9: Ettåriga örtogräs effektgradering | R9: Övriga fleråriga örtogräs effektgradering | W9: Övriga gräsogräs % effektgradering | AA9: Effektgradering ogräs totalt % | AB9: Effektgradering samtliga ettåriga örtogräs % | AC9: Effektgradering övriga fleråriga örtogräs % | AD9: Effektgradering gräsogräs % | AE9: Effektgradering fräken %
D10: 1 | E10: 2 | F10: 3 | G10: 4 | H10: 5 | I10: 6 | J10: 7 | K10: 8 | L10: 9 | M10: 10 | N10: 11 | O10: 12 | P10: 13 | Q10: 14 | R10: 15 | S10: 16 | T10: 17 | U10: 18 | V10: 19 | W10: 20 | X10: 21 | Y10: 22 | Z10: 23
A11: Ruta nr | B11: Led | C11: Block | D11: A | E11: B | F11: C | G11: D | H11: E | I11: F | J11: G | K11: H | L11: I | M11: J | N11: K | O11: L | P11: M | Q11: N | R11: O | S11: P | T11: Q | U11: R | V11: S | W11: T | X11: U | Y11: V | Z11: X
A12: ='10-29 Marktäckning'!A12 -> 1 | B12: ='10-29 Marktäckning'!B12 -> 4 | C12: ='10-29 Marktäckning'!C12 -> 1 | AA12: =AB12+AC12+AD12+AE12 -> 0 | AB12: =SUM(D12:Q12) -> 0 | AC12: =SUM(R12:V12) -> 0 | AD12: =SUM(W12:Z12) -> 0
A13: ='10-29 Marktäckning'!A13 -> 2 | B13: ='10-29 Marktäckning'!B13 -> 6 | C13: ='10-29 Marktäckning'!C13 -> 1 | AA13: =AB13+AC13+AD13+AE13 -> 0 | AB13: =SUM(D13:Q13) -> 0 | AC13: =SUM(R13:V13) -> 0 | AD13: =SUM(W13:Z13) -> 0
A14: ='10-29 Marktäckning'!A14 -> 3 | B14: ='10-29 Marktäckning'!B14 -> 1 | C14: ='10-29 Marktäckning'!C14 -> 1 | AA14: =AB14+AC14+AD14+AE14 -> 0 | AB14: =SUM(D14:Q14) -> 0 | AC14: =SUM(R14:V14) -> 0 | AD14: =SUM(W14:Z14) -> 0
A15: ='10-29 Marktäckning'!A15 -> 4 | B15: ='10-29 Marktäckning'!B15 -> 5 | C15: ='10-29 Marktäckning'!C15 -> 1 | AA15: =AB15+AC15+AD15+AE15 -> 0 | AB15: =SUM(D15:Q15) -> 0 | AC15: =SUM(R15:V15) -> 0 | AD15: =SUM(W15:Z15) -> 0
A16: ='10-29 Marktäckning'!A16 -> 5 | B16: ='10-29 Marktäckning'!B16 -> 2 | C16: ='10-29 Marktäckning'!C16 -> 1 | AA16: =AB16+AC16+AD16+AE16 -> 0 | AB16: =SUM(D16:Q16) -> 0 | AC16: =SUM(R16:V16) -> 0 | AD16: =SUM(W16:Z16) -> 0
A17: ='10-29 Marktäckning'!A17 -> 6 | B17: ='10-29 Marktäckning'!B17 -> 3 | C17: ='10-29 Marktäckning'!C17 -> 1 | AA17: =AB17+AC17+AD17+AE17 -> 0 | AB17: =SUM(D17:Q17) -> 0 | AC17: =SUM(R17:V17) -> 0 | AD17: =SUM(W17:Z17) -> 0
A18: ='10-29 Marktäckning'!A18 -> 7 | B18: ='10-29 Marktäckning'!B18 -> 3 | C18: ='10-29 Marktäckning'!C18 -> 2 | AA18: =AB18+AC18+AD18+AE18 -> 0 | AB18: =SUM(D18:Q18) -> 0 | AC18: =SUM(R18:V18) -> 0 | AD18: =SUM(W18:Z18) -> 0
A19: ='10-29 Marktäckning'!A19 -> 8 | B19: ='10-29 Marktäckning'!B19 -> 5 | C19: ='10-29 Marktäckning'!C19 -> 2 | AA19: =AB19+AC19+AD19+AE19 -> 0 | AB19: =SUM(D19:Q19) -> 0 | AC19: =SUM(R19:V19) -> 0 | AD19: =SUM(W19:Z19) -> 0
A20: ='10-29 Marktäckning'!A20 -> 9 | B20: ='10-29 Marktäckning'!B20 -> 6 | C20: ='10-29 Marktäckning'!C20 -> 2 | AA20: =AB20+AC20+AD20+AE20 -> 0 | AB20: =SUM(D20:Q20) -> 0 | AC20: =SUM(R20:V20) -> 0 | AD20: =SUM(W20:Z20) -> 0
A21: ='10-29 Marktäckning'!A21 -> 10 | B21: ='10-29 Marktäckning'!B21 -> 1 | C21: ='10-29 Marktäckning'!C21 -> 2 | AA21: =AB21+AC21+AD21+AE21 -> 0 | AB21: =SUM(D21:Q21) -> 0 | AC21: =SUM(R21:V21) -> 0 | AD21: =SUM(W21:Z21) -> 0
A22: ='10-29 Marktäckning'!A22 -> 11 | B22: ='10-29 Marktäckning'!B22 -> 2 | C22: ='10-29 Marktäckning'!C22 -> 2 | AA22: =AB22+AC22+AD22+AE22 -> 0 | AB22: =SUM(D22:Q22) -> 0 | AC22: =SUM(R22:V22) -> 0 | AD22: =SUM(W22:Z22) -> 0
A23: ='10-29 Marktäckning'!A23 -> 12 | B23: ='10-29 Marktäckning'!B23 -> 4 | C23: ='10-29 Marktäckning'!C23 -> 2 | AA23: =AB23+AC23+AD23+AE23 -> 0 | AB23: =SUM(D23:Q23) -> 0 | AC23: =SUM(R23:V23) -> 0 | AD23: =SUM(W23:Z23) -> 0
... A107: ='10-29 Marktäckning'!A107 -> 100 | B107: ='10-29 Marktäckning'!B107 -> 0 | C107: ='10-29 Marktäckning'!C107 -> 0 | AA107: =AB107+AC107+AD107+AE107 -> 0 | AB107: =SUM(D107:Q107) -> 0 | AC107: =SUM(R107:V107) -> 0 | AD107: =SUM(W107:Z107) -> 0

Sheet 4e marktäckning
A1: Ogräsgradering marktäckning
A2: Försöksserie: | D2: ='10-29 Marktäckning'!D2 -> Örtogräsbekämpning i höstraps
A3: Plan nr: | D3: ='10-29 Marktäckning'!D3 -> L5-8010P
A4: Försöks nr: | D4: ='10-29 Marktäckning'!D4 -> I-865-2020
A5: ADB nr: | D5: ='10-29 Marktäckning'!D5 -> 0561501
A7: Datum: | D7: 4
D9: Ettåriga örtogräs marktäckning | R9: Övriga fleråriga örtogräs marktäckning | W9: Övriga gräsogräs % marktäckning | AA9: Marktäckning ogräs totalt % | AB9: Marktäckning samtliga ettåriga örtogräs % | AC9: Marktäckning övriga fleråriga örtogräs % | AD9: Marktäckning gräsogräs % | AE9: Marktäckning fräken %
D10: 1 | E10: 2 | F10: 3 | G10: 4 | H10: 5 | I10: 6 | J10: 7 | K10: 8 | L10: 9 | M10: 10 | N10: 11 | O10: 12 | P10: 13 | Q10: 14 | R10: 15 | S10: 16 | T10: 17 | U10: 18 | V10: 19 | W10: 20 | X10: 21 | Y10: 22 | Z10: 23
A11: Ruta nr | B11: Led | C11: Block | D11: A | E11: B | F11: C | G11: D | H11: E | I11: F | J11: G | K11: H | L11: I | M11: J | N11: K | O11: L | P11: M | Q11: N | R11: O | S11: P | T11: Q | U11: R | V11: S | W11: T | X11: U | Y11: V | Z11: X
A12: ='10-29 Marktäckning'!A12 -> 1 | B12: ='10-29 Marktäckning'!B12 -> 4 | C12: ='10-29 Marktäckning'!C12 -> 1 | AA12: =AB12+AC12+AD12+AE12 -> 0 | AB12: =SUM(D12:Q12) -> 0 | AC12: =SUM(R12:V12) -> 0 | AD12: =SUM(W12:Z12) -> 0
A13: ='10-29 Marktäckning'!A13 -> 2 | B13: ='10-29 Marktäckning'!B13 -> 6 | C13: ='10-29 Marktäckning'!C13 -> 1 | AA13: =AB13+AC13+AD13+AE13 -> 0 | AB13: =SUM(D13:Q13) -> 0 | AC13: =SUM(R13:V13) -> 0 | AD13: =SUM(W13:Z13) -> 0
A14: ='10-29 Marktäckning'!A14 -> 3 | B14: ='10-29 Marktäckning'!B14 -> 1 | C14: ='10-29 Marktäckning'!C14 -> 1 | AA14: =AB14+AC14+AD14+AE14 -> 0 | AB14: =SUM(D14:Q14) -> 0 | AC14: =SUM(R14:V14) -> 0 | AD14: =SUM(W14:Z14) -> 0
A15: ='10-29 Marktäckning'!A15 -> 4 | B15: ='10-29 Marktäckning'!B15 -> 5 | C15: ='10-29 Marktäckning'!C15 -> 1 | AA15: =AB15+AC15+AD15+AE15 -> 0 | AB15: =SUM(D15:Q15) -> 0 | AC15: =SUM(R15:V15) -> 0 | AD15: =SUM(W15:Z15) -> 0
A16: ='10-29 Marktäckning'!A16 -> 5 | B16: ='10-29 Marktäckning'!B16 -> 2 | C16: ='10-29 Marktäckning'!C16 -> 1 | AA16: =AB16+AC16+AD16+AE16 -> 0 | AB16: =SUM(D16:Q16) -> 0 | AC16: =SUM(R16:V16) -> 0 | AD16: =SUM(W16:Z16) -> 0
A17: ='10-29 Marktäckning'!A17 -> 6 | B17: ='10-29 Marktäckning'!B17 -> 3 | C17: ='10-29 Marktäckning'!C17 -> 1 | AA17: =AB17+AC17+AD17+AE17 -> 0 | AB17: =SUM(D17:Q17) -> 0 | AC17: =SUM(R17:V17) -> 0 | AD17: =SUM(W17:Z17) -> 0
A18: ='10-29 Marktäckning'!A18 -> 7 | B18: ='10-29 Marktäckning'!B18 -> 3 | C18: ='10-29 Marktäckning'!C18 -> 2 | AA18: =AB18+AC18+AD18+AE18 -> 0 | AB18: =SUM(D18:Q18) -> 0 | AC18: =SUM(R18:V18) -> 0 | AD18: =SUM(W18:Z18) -> 0
A19: ='10-29 Marktäckning'!A19 -> 8 | B19: ='10-29 Marktäckning'!B19 -> 5 | C19: ='10-29 Marktäckning'!C19 -> 2 | AA19: =AB19+AC19+AD19+AE19 -> 0 | AB19: =SUM(D19:Q19) -> 0 | AC19: =SUM(R19:V19) -> 0 | AD19: =SUM(W19:Z19) -> 0
A20: ='10-29 Marktäckning'!A20 -> 9 | B20: ='10-29 Marktäckning'!B20 -> 6 | C20: ='10-29 Marktäckning'!C20 -> 2 | AA20: =AB20+AC20+AD20+AE20 -> 0 | AB20: =SUM(D20:Q20) -> 0 | AC20: =SUM(R20:V20) -> 0 | AD20: =SUM(W20:Z20) -> 0
A21: ='10-29 Marktäckning'!A21 -> 10 | B21: ='10-29 Marktäckning'!B21 -> 1 | C21: ='10-29 Marktäckning'!C21 -> 2 | AA21: =AB21+AC21+AD21+AE21 -> 0 | AB21: =SUM(D21:Q21) -> 0 | AC21: =SUM(R21:V21) -> 0 | AD21: =SUM(W21:Z21) -> 0
A22: ='10-29 Marktäckning'!A22 -> 11 | B22: ='10-29 Marktäckning'!B22 -> 2 | C22: ='10-29 Marktäckning'!C22 -> 2 | AA22: =AB22+AC22+AD22+AE22 -> 0 | AB22: =SUM(D22:Q22) -> 0 | AC22: =SUM(R22:V22) -> 0 | AD22: =SUM(W22:Z22) -> 0
A23: ='10-29 Marktäckning'!A23 -> 12 | B23: ='10-29 Marktäckning'!B23 -> 4 | C23: ='10-29 Marktäckning'!C23 -> 2 | AA23: =AB23+AC23+AD23+AE23 -> 0 | AB23: =SUM(D23:Q23) -> 0 | AC23: =SUM(R23:V23) -> 0 | AD23: =SUM(W23:Z23) -> 0
... A107: ='10-29 Marktäckning'!A107 -> 100 | B107: ='10-29 Marktäckning'!B107 -> 0 | C107: ='10-29 Marktäckning'!C107 -> 0 | AA107: =AB107+AC107+AD107+AE107 -> 0 | AB107: =SUM(D107:Q107) -> 0 | AC107: =SUM(R107:V107) -> 0 | AD107: =SUM(W107:Z107) -> 0

Sheet 4e effekt
A1: Ogräsgradering effektgradering
A2: Försöksserie: | D2: ='10-29 Marktäckning'!D2 -> Örtogräsbekämpning i höstraps
A3: Plan nr: | D3: B
A4: Försöks nr: | D4: C
A5: ADB nr: | D5: D
A7: Datum: | D7: 4
D9: Ettåriga örtogräs effektgradering | R9: Övriga fleråriga örtogräs effektgradering | W9: Övriga gräsogräs % effektgradering | AA9: Effektgradering ogräs totalt % | AB9: Effektgradering samtliga ettåriga örtogräs % | AC9: Effektgradering övriga fleråriga örtogräs % | AD9: Effektgradering gräsogräs % | AE9: Effektgradering fräken %
D10: 1 | E10: 2 | F10: 3 | G10: 4 | H10: 5 | I10: 6 | J10: 7 | K10: 8 | L10: 9 | M10: 10 | N10: 11 | O10: 12 | P10: 13 | Q10: 14 | R10: 15 | S10: 16 | T10: 17 | U10: 18 | V10: 19 | W10: 20 | X10: 21 | Y10: 22 | Z10: 23
A11: Ruta nr | B11: Led | C11: Block | D11: A | E11: B | F11: C | G11: D | H11: E | I11: F | J11: G | K11: H | L11: I | M11: J | N11: K | O11: L | P11: M | Q11: N | R11: O | S11: P | T11: Q | U11: R | V11: S | W11: T | X11: U | Y11: V | Z11: X
A12: ='10-29 Marktäckning'!A12 -> 1 | B12: ='10-29 Marktäckning'!B12 -> 4 | C12: ='10-29 Marktäckning'!C12 -> 1 | AA12: =AB12+AC12+AD12+AE12 -> 0 | AB12: =SUM(D12:Q12) -> 0 | AC12: =SUM(R12:V12) -> 0 | AD12: =SUM(W12:Z12) -> 0
A13: ='10-29 Marktäckning'!A13 -> 2 | B13: ='10-29 Marktäckning'!B13 -> 6 | C13: ='10-29 Marktäckning'!C13 -> 1 | AA13: =AB13+AC13+AD13+AE13 -> 0 | AB13: =SUM(D13:Q13) -> 0 | AC13: =SUM(R13:V13) -> 0 | AD13: =SUM(W13:Z13) -> 0
A14: ='10-29 Marktäckning'!A14 -> 3 | B14: ='10-29 Marktäckning'!B14 -> 1 | C14: ='10-29 Marktäckning'!C14 -> 1 | AA14: =AB14+AC14+AD14+AE14 -> 0 | AB14: =SUM(D14:Q14) -> 0 | AC14: =SUM(R14:V14) -> 0 | AD14: =SUM(W14:Z14) -> 0
A15: ='10-29 Marktäckning'!A15 -> 4 | B15: ='10-29 Marktäckning'!B15 -> 5 | C15: ='10-29 Marktäckning'!C15 -> 1 | AA15: =AB15+AC15+AD15+AE15 -> 0 | AB15: =SUM(D15:Q15) -> 0 | AC15: =SUM(R15:V15) -> 0 | AD15: =SUM(W15:Z15) -> 0
A16: ='10-29 Marktäckning'!A16 -> 5 | B16: ='10-29 Marktäckning'!B16 -> 2 | C16: ='10-29 Marktäckning'!C16 -> 1 | AA16: =AB16+AC16+AD16+AE16 -> 0 | AB16: =SUM(D16:Q16) -> 0 | AC16: =SUM(R16:V16) -> 0 | AD16: =SUM(W16:Z16) -> 0
A17: ='10-29 Marktäckning'!A17 -> 6 | B17: ='10-29 Marktäckning'!B17 -> 3 | C17: ='10-29 Marktäckning'!C17 -> 1 | AA17: =AB17+AC17+AD17+AE17 -> 0 | AB17: =SUM(D17:Q17) -> 0 | AC17: =SUM(R17:V17) -> 0 | AD17: =SUM(W17:Z17) -> 0
A18: ='10-29 Marktäckning'!A18 -> 7 | B18: ='10-29 Marktäckning'!B18 -> 3 | C18: ='10-29 Marktäckning'!C18 -> 2 | AA18: =AB18+AC18+AD18+AE18 -> 0 | AB18: =SUM(D18:Q18) -> 0 | AC18: =SUM(R18:V18) -> 0 | AD18: =SUM(W18:Z18) -> 0
A19: ='10-29 Marktäckning'!A19 -> 8 | B19: ='10-29 Marktäckning'!B19 -> 5 | C19: ='10-29 Marktäckning'!C19 -> 2 | AA19: =AB19+AC19+AD19+AE19 -> 0 | AB19: =SUM(D19:Q19) -> 0 | AC19: =SUM(R19:V19) -> 0 | AD19: =SUM(W19:Z19) -> 0
A20: ='10-29 Marktäckning'!A20 -> 9 | B20: ='10-29 Marktäckning'!B20 -> 6 | C20: ='10-29 Marktäckning'!C20 -> 2 | AA20: =AB20+AC20+AD20+AE20 -> 0 | AB20: =SUM(D20:Q20) -> 0 | AC20: =SUM(R20:V20) -> 0 | AD20: =SUM(W20:Z20) -> 0
A21: ='10-29 Marktäckning'!A21 -> 10 | B21: ='10-29 Marktäckning'!B21 -> 1 | C21: ='10-29 Marktäckning'!C21 -> 2 | AA21: =AB21+AC21+AD21+AE21 -> 0 | AB21: =SUM(D21:Q21) -> 0 | AC21: =SUM(R21:V21) -> 0 | AD21: =SUM(W21:Z21) -> 0
A22: ='10-29 Marktäckning'!A22 -> 11 | B22: ='10-29 Marktäckning'!B22 -> 2 | C22: ='10-29 Marktäckning'!C22 -> 2 | AA22: =AB22+AC22+AD22+AE22 -> 0 | AB22: =SUM(D22:Q22) -> 0 | AC22: =SUM(R22:V22) -> 0 | AD22: =SUM(W22:Z22) -> 0
A23: ='10-29 Marktäckning'!A23 -> 12 | B23: ='10-29 Marktäckning'!B23 -> 4 | C23: ='10-29 Marktäckning'!C23 -> 2 | AA23: =AB23+AC23+AD23+AE23 -> 0 | AB23: =SUM(D23:Q23) -> 0 | AC23: =SUM(R23:V23) -> 0 | AD23: =SUM(W23:Z23) -> 0
... A107: ='10-29 Marktäckning'!A107 -> 100 | B107: ='10-29 Marktäckning'!B107 -> 0 | C107: ='10-29 Marktäckning'!C107 -> 0 | AA107: =AB107+AC107+AD107+AE107 -> 0 | AB107: =SUM(D107:Q107) -> 0 | AC107: =SUM(R107:V107) -> 0 | AD107: =SUM(W107:Z107) -> 0

Sheet 5e marktäckning
A1: Ogräsgradering marktäckning
A2: Försöksserie: | D2: ='10-29 Marktäckning'!D2 -> Örtogräsbekämpning i höstraps
A3: Plan nr: | D3: ='10-29 Marktäckning'!D3 -> L5-8010P
A4: Försöks nr: | D4: ='10-29 Marktäckning'!D4 -> I-865-2020
A5: ADB nr: | D5: ='10-29 Marktäckning'!D5 -> 0561501
A7: Datum: | D7: 5
D9: Ettåriga örtogräs marktäckning | R9: Övriga fleråriga örtogräs marktäckning | W9: Övriga gräsogräs % marktäckning | AA9: Marktäckning ogräs totalt % | AB9: Marktäckning samtliga ettåriga örtogräs % | AC9: Marktäckning övriga fleråriga örtogräs % | AD9: Marktäckning gräsogräs % | AE9: Marktäckning fräken %
D10: 1 | E10: 2 | F10: 3 | G10: 4 | H10: 5 | I10: 6 | J10: 7 | K10: 8 | L10: 9 | M10: 10 | N10: 11 | O10: 12 | P10: 13 | Q10: 14 | R10: 15 | S10: 16 | T10: 17 | U10: 18 | V10: 19 | W10: 20 | X10: 21 | Y10: 22 | Z10: 23
A11: Ruta nr | B11: Led | C11: Block | D11: A | E11: B | F11: C | G11: D | H11: E | I11: F | J11: G | K11: H | L11: I | M11: J | N11: K | O11: L | P11: M | Q11: N | R11: O | S11: P | T11: Q | U11: R | V11: S | W11: T | X11: U | Y11: V | Z11: X
A12: ='10-29 Marktäckning'!A12 -> 1 | B12: ='10-29 Marktäckning'!B12 -> 4 | C12: ='10-29 Marktäckning'!C12 -> 1 | AA12: =AB12+AC12+AD12+AE12 -> 0 | AB12: =SUM(D12:Q12) -> 0 | AC12: =SUM(R12:V12) -> 0 | AD12: =SUM(W12:Z12) -> 0
A13: ='10-29 Marktäckning'!A13 -> 2 | B13: ='10-29 Marktäckning'!B13 -> 6 | C13: ='10-29 Marktäckning'!C13 -> 1 | AA13: =AB13+AC13+AD13+AE13 -> 0 | AB13: =SUM(D13:Q13) -> 0 | AC13: =SUM(R13:V13) -> 0 | AD13: =SUM(W13:Z13) -> 0
A14: ='10-29 Marktäckning'!A14 -> 3 | B14: ='10-29 Marktäckning'!B14 -> 1 | C14: ='10-29 Marktäckning'!C14 -> 1 | AA14: =AB14+AC14+AD14+AE14 -> 0 | AB14: =SUM(D14:Q14) -> 0 | AC14: =SUM(R14:V14) -> 0 | AD14: =SUM(W14:Z14) -> 0
A15: ='10-29 Marktäckning'!A15 -> 4 | B15: ='10-29 Marktäckning'!B15 -> 5 | C15: ='10-29 Marktäckning'!C15 -> 1 | AA15: =AB15+AC15+AD15+AE15 -> 0 | AB15: =SUM(D15:Q15) -> 0 | AC15: =SUM(R15:V15) -> 0 | AD15: =SUM(W15:Z15) -> 0
A16: ='10-29 Marktäckning'!A16 -> 5 | B16: ='10-29 Marktäckning'!B16 -> 2 | C16: ='10-29 Marktäckning'!C16 -> 1 | AA16: =AB16+AC16+AD16+AE16 -> 0 | AB16: =SUM(D16:Q16) -> 0 | AC16: =SUM(R16:V16) -> 0 | AD16: =SUM(W16:Z16) -> 0
A17: ='10-29 Marktäckning'!A17 -> 6 | B17: ='10-29 Marktäckning'!B17 -> 3 | C17: ='10-29 Marktäckning'!C17 -> 1 | AA17: =AB17+AC17+AD17+AE17 -> 0 | AB17: =SUM(D17:Q17) -> 0 | AC17: =SUM(R17:V17) -> 0 | AD17: =SUM(W17:Z17) -> 0
A18: ='10-29 Marktäckning'!A18 -> 7 | B18: ='10-29 Marktäckning'!B18 -> 3 | C18: ='10-29 Marktäckning'!C18 -> 2 | AA18: =AB18+AC18+AD18+AE18 -> 0 | AB18: =SUM(D18:Q18) -> 0 | AC18: =SUM(R18:V18) -> 0 | AD18: =SUM(W18:Z18) -> 0
A19: ='10-29 Marktäckning'!A19 -> 8 | B19: ='10-29 Marktäckning'!B19 -> 5 | C19: ='10-29 Marktäckning'!C19 -> 2 | AA19: =AB19+AC19+AD19+AE19 -> 0 | AB19: =SUM(D19:Q19) -> 0 | AC19: =SUM(R19:V19) -> 0 | AD19: =SUM(W19:Z19) -> 0
A20: ='10-29 Marktäckning'!A20 -> 9 | B20: ='10-29 Marktäckning'!B20 -> 6 | C20: ='10-29 Marktäckning'!C20 -> 2 | AA20: =AB20+AC20+AD20+AE20 -> 0 | AB20: =SUM(D20:Q20) -> 0 | AC20: =SUM(R20:V20) -> 0 | AD20: =SUM(W20:Z20) -> 0
A21: ='10-29 Marktäckning'!A21 -> 10 | B21: ='10-29 Marktäckning'!B21 -> 1 | C21: ='10-29 Marktäckning'!C21 -> 2 | AA21: =AB21+AC21+AD21+AE21 -> 0 | AB21: =SUM(D21:Q21) -> 0 | AC21: =SUM(R21:V21) -> 0 | AD21: =SUM(W21:Z21) -> 0
A22: ='10-29 Marktäckning'!A22 -> 11 | B22: ='10-29 Marktäckning'!B22 -> 2 | C22: ='10-29 Marktäckning'!C22 -> 2 | AA22: =AB22+AC22+AD22+AE22 -> 0 | AB22: =SUM(D22:Q22) -> 0 | AC22: =SUM(R22:V22) -> 0 | AD22: =SUM(W22:Z22) -> 0
A23: ='10-29 Marktäckning'!A23 -> 12 | B23: ='10-29 Marktäckning'!B23 -> 4 | C23: ='10-29 Marktäckning'!C23 -> 2 | AA23: =AB23+AC23+AD23+AE23 -> 0 | AB23: =SUM(D23:Q23) -> 0 | AC23: =SUM(R23:V23) -> 0 | AD23: =SUM(W23:Z23) -> 0
... A107: ='10-29 Marktäckning'!A107 -> 100 | B107: ='10-29 Marktäckning'!B107 -> 0 | C107: ='10-29 Marktäckning'!C107 -> 0 | AA107: =AB107+AC107+AD107+AE107 -> 0 | AB107: =SUM(D107:Q107) -> 0 | AC107: =SUM(R107:V107) -> 0 | AD107: =SUM(W107:Z107) -> 0

Sheet 5e effekt
A1: Ogräsgradering effektgradering
A2: Försöksserie: | D2: ='10-29 Marktäckning'!D2 -> Örtogräsbekämpning i höstraps
A3: Plan nr: | D3: B
A4: Försöks nr: | D4: C
A5: ADB nr: | D5: D
A7: Datum: | D7: 4
D9: Ettåriga örtogräs effektgradering | R9: Övriga fleråriga örtogräs effektgradering | W9: Övriga gräsogräs % effektgradering | AA9: Effektgradering ogräs totalt % | AB9: Effektgradering samtliga ettåriga örtogräs % | AC9: Effektgradering övriga fleråriga örtogräs % | AD9: Effektgradering gräsogräs % | AE9: Effektgradering fräken %
D10: 1 | E10: 2 | F10: 3 | G10: 4 | H10: 5 | I10: 6 | J10: 7 | K10: 8 | L10: 9 | M10: 10 | N10: 11 | O10: 12 | P10: 13 | Q10: 14 | R10: 15 | S10: 16 | T10: 17 | U10: 18 | V10: 19 | W10: 20 | X10: 21 | Y10: 22 | Z10: 23
A11: Ruta nr | B11: Led | C11: Block | D11: A | E11: B | F11: C | G11: D | H11: E | I11: F | J11: G | K11: H | L11: I | M11: J | N11: K | O11: L | P11: M | Q11: N | R11: O | S11: P | T11: Q | U11: R | V11: S | W11: T | X11: U | Y11: V | Z11: X
A12: ='10-29 Marktäckning'!A12 -> 1 | B12: ='10-29 Marktäckning'!B12 -> 4 | C12: ='10-29 Marktäckning'!C12 -> 1 | AA12: =AB12+AC12+AD12+AE12 -> 0 | AB12: =SUM(D12:Q12) -> 0 | AC12: =SUM(R12:V12) -> 0 | AD12: =SUM(W12:Z12) -> 0
A13: ='10-29 Marktäckning'!A13 -> 2 | B13: ='10-29 Marktäckning'!B13 -> 6 | C13: ='10-29 Marktäckning'!C13 -> 1 | AA13: =AB13+AC13+AD13+AE13 -> 0 | AB13: =SUM(D13:Q13) -> 0 | AC13: =SUM(R13:V13) -> 0 | AD13: =SUM(W13:Z13) -> 0
A14: ='10-29 Marktäckning'!A14 -> 3 | B14: ='10-29 Marktäckning'!B14 -> 1 | C14: ='10-29 Marktäckning'!C14 -> 1 | AA14: =AB14+AC14+AD14+AE14 -> 0 | AB14: =SUM(D14:Q14) -> 0 | AC14: =SUM(R14:V14) -> 0 | AD14: =SUM(W14:Z14) -> 0
A15: ='10-29 Marktäckning'!A15 -> 4 | B15: ='10-29 Marktäckning'!B15 -> 5 | C15: ='10-29 Marktäckning'!C15 -> 1 | AA15: =AB15+AC15+AD15+AE15 -> 0 | AB15: =SUM(D15:Q15) -> 0 | AC15: =SUM(R15:V15) -> 0 | AD15: =SUM(W15:Z15) -> 0
A16: ='10-29 Marktäckning'!A16 -> 5 | B16: ='10-29 Marktäckning'!B16 -> 2 | C16: ='10-29 Marktäckning'!C16 -> 1 | AA16: =AB16+AC16+AD16+AE16 -> 0 | AB16: =SUM(D16:Q16) -> 0 | AC16: =SUM(R16:V16) -> 0 | AD16: =SUM(W16:Z16) -> 0
A17: ='10-29 Marktäckning'!A17 -> 6 | B17: ='10-29 Marktäckning'!B17 -> 3 | C17: ='10-29 Marktäckning'!C17 -> 1 | AA17: =AB17+AC17+AD17+AE17 -> 0 | AB17: =SUM(D17:Q17) -> 0 | AC17: =SUM(R17:V17) -> 0 | AD17: =SUM(W17:Z17) -> 0
A18: ='10-29 Marktäckning'!A18 -> 7 | B18: ='10-29 Marktäckning'!B18 -> 3 | C18: ='10-29 Marktäckning'!C18 -> 2 | AA18: =AB18+AC18+AD18+AE18 -> 0 | AB18: =SUM(D18:Q18) -> 0 | AC18: =SUM(R18:V18) -> 0 | AD18: =SUM(W18:Z18) -> 0
A19: ='10-29 Marktäckning'!A19 -> 8 | B19: ='10-29 Marktäckning'!B19 -> 5 | C19: ='10-29 Marktäckning'!C19 -> 2 | AA19: =AB19+AC19+AD19+AE19 -> 0 | AB19: =SUM(D19:Q19) -> 0 | AC19: =SUM(R19:V19) -> 0 | AD19: =SUM(W19:Z19) -> 0
A20: ='10-29 Marktäckning'!A20 -> 9 | B20: ='10-29 Marktäckning'!B20 -> 6 | C20: ='10-29 Marktäckning'!C20 -> 2 | AA20: =AB20+AC20+AD20+AE20 -> 0 | AB20: =SUM(D20:Q20) -> 0 | AC20: =SUM(R20:V20) -> 0 | AD20: =SUM(W20:Z20) -> 0
A21: ='10-29 Marktäckning'!A21 -> 10 | B21: ='10-29 Marktäckning'!B21 -> 1 | C21: ='10-29 Marktäckning'!C21 -> 2 | AA21: =AB21+AC21+AD21+AE21 -> 0 | AB21: =SUM(D21:Q21) -> 0 | AC21: =SUM(R21:V21) -> 0 | AD21: =SUM(W21:Z21) -> 0
A22: ='10-29 Marktäckning'!A22 -> 11 | B22: ='10-29 Marktäckning'!B22 -> 2 | C22: ='10-29 Marktäckning'!C22 -> 2 | AA22: =AB22+AC22+AD22+AE22 -> 0 | AB22: =SUM(D22:Q22) -> 0 | AC22: =SUM(R22:V22) -> 0 | AD22: =SUM(W22:Z22) -> 0
A23: ='10-29 Marktäckning'!A23 -> 12 | B23: ='10-29 Marktäckning'!B23 -> 4 | C23: ='10-29 Marktäckning'!C23 -> 2 | AA23: =AB23+AC23+AD23+AE23 -> 0 | AB23: =SUM(D23:Q23) -> 0 | AC23: =SUM(R23:V23) -> 0 | AD23: =SUM(W23:Z23) -> 0
