Workbook

Sheet Rutvis
A1: Manuella registreringar: | E1: ADB nr.: | F1: =IFERROR('[1]Etiketter ledvis, 4 block'!$B$2,"") -> 0764121 | H1: Plan nr: | I1: =IFERROR('[1]Etiketter ledvis, 4 block'!$B$1,"") -> OS7-27
A2: Datum | D2: 20201103 | E2: 20210325 | F2: 20210325 | G2: 20210325 | H2: 20210325 | I2: 20210325 | J2: 20210325 | K2: 20210325 | L2: 20210325
A3: Kod | C3: --> | D3: Planttäthet | E3: ='[1]Åtgärder + karta'!B16 -> plantbestånd, döda plantor % | F3: Tillväxtpunktens höjd (mm), medel | G3: Tillväxtpunktens höjd (mm), planta 1 | H3: Tillväxtpunktens höjd (mm), planta 2 | I3: Tillväxtpunktens höjd (mm), planta 3 | J3: Tillväxtpunktens höjd (mm), planta 4 | K3: Tillväxtpunktens höjd (mm), planta 5 | L3: Noteringar
A4: Ruta | B4: Led | C4: Block
A5: 1 | B5: =[1]Rutfördelning!B4 -> 25 | C5: =[1]Rutfördelning!C4 -> 1 | D5: 90 | E5: 0 | F5: 51 | G5: 50 | H5: 60 | I5: 50 | J5: 45 | K5: 50
A6: 2 | B6: =[1]Rutfördelning!B5 -> 42 | C6: =[1]Rutfördelning!C5 -> 1 | D6: 85 | E6: 0 | F6: 59 | G6: 70 | H6: 50 | I6: 60 | J6: 65 | K6: 50
A7: 3 | B7: =[1]Rutfördelning!B6 -> 10 | C7: =[1]Rutfördelning!C6 -> 1 | D7: 85 | E7: 0 | F7: 57 | G7: 60 | H7: 50 | I7: 60 | J7: 50 | K7: 65
A8: 4 | B8: =[1]Rutfördelning!B7 -> 45 | C8: =[1]Rutfördelning!C7 -> 1 | D8: 85 | E8: 0 | F8: 64 | G8: 50 | H8: 65 | I8: 70 | J8: 70 | K8: 65
A9: 5 | B9: =[1]Rutfördelning!B8 -> 15 | C9: =[1]Rutfördelning!C8 -> 1 | D9: 95 | E9: 0 | F9: 79 | G9: 65 | H9: 100 | I9: 90 | J9: 80 | K9: 60
A10: 6 | B10: =[1]Rutfördelning!B9 -> 9 | C10: =[1]Rutfördelning!C9 -> 1 | D10: 90 | E10: 0 | F10: 62 | G10: 50 | H10: 60 | I10: 60 | J10: 70 | K10: 70
A11: 7 | B11: =[1]Rutfördelning!B10 -> 18 | C11: =[1]Rutfördelning!C10 -> 1 | D11: 90 | E11: 0 | F11: 68 | G11: 60 | H11: 60 | I11: 80 | J11: 70 | K11: 70
A12: 8 | B12: =[1]Rutfördelning!B11 -> 6 | C12: =[1]Rutfördelning!C11 -> 1 | D12: 85 | E12: 0 | F12: 69 | G12: 55 | H12: 70 | I12: 80 | J12: 70 | K12: 70
A13: 9 | B13: =[1]Rutfördelning!B12 -> 40 | C13: =[1]Rutfördelning!C12 -> 1 | D13: 90 | E13: 0 | F13: 84 | G13: 80 | H13: 90 | I13: 70 | J13: 80 | K13: 100
A14: 10 | B14: =[1]Rutfördelning!B13 -> 8 | C14: =[1]Rutfördelning!C13 -> 1 | D14: 90 | E14: 0 | F14: 76 | G14: 60 | H14: 80 | I14: 100 | J14: 70 | K14: 70
A15: 11 | B15: =[1]Rutfördelning!B14 -> 20 | C15: =[1]Rutfördelning!C14 -> 1 | D15: 90 | E15: 0 | F15: 72 | G15: 60 | H15: 70 | I15: 80 | J15: 80 | K15: 70
A16: 12 | B16: =[1]Rutfördelning!B15 -> 4 | C16: =[1]Rutfördelning!C15 -> 1 | D16: 90 | E16: 0 | F16: 68 | G16: 60 | H16: 60 | I16: 70 | J16: 80 | K16: 70
... A18: 14 | B18: =[1]Rutfördelning!B17 -> 23 | C18: =[1]Rutfördelning!C17 -> 1 | D18: 95 | E18: 0 | F18: 72 | G18: 70 | H18: 60 | I18: 80 | J18: 70 | K18: 80
A19: 15 | B19: =[1]Rutfördelning!B18 -> 35 | C19: =[1]Rutfördelning!C18 -> 1 | D19: 60 | E19: 0 | F19: 68 | G19: 80 | H19: 60 | I19: 70 | J19: 60 | K19: 70 | L19: rutan nedkortas, 3-4 m
A20: 16 | B20: =[1]Rutfördelning!B19 -> 16 | C20: =[1]Rutfördelning!C19 -> 1 | D20: 85 | E20: 0 | F20: 63 | G20: 50 | H20: 65 | I20: 60 | J20: 70 | K20: 70
A21: 17 | B21: =[1]Rutfördelning!B20 -> 3 | C21: =[1]Rutfördelning!C20 -> 1 | D21: 90 | E21: 0 | F21: 62 | G21: 70 | H21: 60 | I21: 50 | J21: 70 | K21: 60
A22: 18 | B22: =[1]Rutfördelning!B21 -> 14 | C22: =[1]Rutfördelning!C21 -> 1 | D22: 95 | E22: 0 | F22: 72 | G22: 70 | H22: 70 | I22: 60 | J22: 80 | K22: 80
A23: 19 | B23: =[1]Rutfördelning!B22 -> 26 | C23: =[1]Rutfördelning!C22 -> 1 | D23: 90 | E23: 0 | F23: 70 | G23: 60 | H23: 70 | I23: 70 | J23: 80 | K23: 70
A24: 20 | B24: =[1]Rutfördelning!B23 -> 17 | C24: =[1]Rutfördelning!C23 -> 1 | D24: 87 | E24: 0 | F24: 56 | G24: 60 | H24: 60 | I24: 50 | J24: 60 | K24: 50
A25: 21 | B25: =[1]Rutfördelning!B24 -> 29 | C25: =[1]Rutfördelning!C24 -> 1 | D25: 90 | E25: 0 | F25: 76 | G25: 60 | H25: 80 | I25: 70 | J25: 80 | K25: 90
A26: 22 | B26: =[1]Rutfördelning!B25 -> 38 | C26: =[1]Rutfördelning!C25 -> 1 | D26: 95 | E26: 0 | F26: 94 | G26: 80 | H26: 70 | I26: 130 | J26: 100 | K26: 90
A27: 23 | B27: =[1]Rutfördelning!B26 -> 21 | C27: =[1]Rutfördelning!C26 -> 1 | D27: 87 | E27: 0 | F27: 74 | G27: 60 | H27: 70 | I27: 90 | J27: 80 | K27: 70
A28: 24 | B28: =[1]Rutfördelning!B27 -> 7 | C28: =[1]Rutfördelning!C27 -> 1 | D28: 90 | E28: 0 | F28: 62 | G28: 60 | H28: 50 | I28: 60 | J28: 80 | K28: 60
A29: 25 | B29: =[1]Rutfördelning!B28 -> 31 | C29: =[1]Rutfördelning!C28 -> 1 | D29: 93 | E29: 0 | F29: 56 | G29: 60 | H29: 60 | I29: 60 | J29: 50 | K29: 50
A30: 26 | B30: =[1]Rutfördelning!B29 -> 44 | C30: =[1]Rutfördelning!C29 -> 1 | D30: 95 | E30: 0 | F30: 78 | G30: 60 | H30: 60 | I30: 100 | J30: 90 | K30: 80
A31: 27 | B31: =[1]Rutfördelning!B30 -> 36 | C31: =[1]Rutfördelning!C30 -> 1 | D31: 95 | E31: 0 | F31: 66 | G31: 70 | H31: 60 | I31: 80 | J31: 60 | K31: 60
... A63: 59 | B63: =[1]Rutfördelning!B62 -> 31 | C63: =[1]Rutfördelning!C62 -> 2 | D63: 90 | E63: 0 | F63: 60 | G63: 50 | H63: 60 | I63: 70 | J63: 60 | K63: 60
A64: 60 | B64: =[1]Rutfördelning!B63 -> 11 | C64: =[1]Rutfördelning!C63 -> 2 | D64: 60 | E64: 0 | F64: 66 | G64: 60 | H64: 50 | I64: 70 | J64: 70 | K64: 80 | L64: 4 m OK, ev. kasseras
A65: 61 | B65: =[1]Rutfördelning!B64 -> 36 | C65: =[1]Rutfördelning!C64 -> 2 | D65: 93 | E65: 0 | F65: 64 | G65: 70 | H65: 60 | I65: 70 | J65: 60 | K65: 60
A66: 62 | B66: =[1]Rutfördelning!B65 -> 6 | C66: =[1]Rutfördelning!C65 -> 2 | D66: 87 | E66: 0 | F66: 70 | G66: 90 | H66: 50 | I66: 60 | J66: 80 | K66: 70
A67: 63 | B67: =[1]Rutfördelning!B66 -> 25 | C67: =[1]Rutfördelning!C66 -> 2 | D67: 90 | E67: 0 | F67: 64 | G67: 60 | H67: 70 | I67: 70 | J67: 60 | K67: 60
A68: 64 | B68: =[1]Rutfördelning!B67 -> 17 | C68: =[1]Rutfördelning!C67 -> 2 | D68: 90 | E68: 0 | F68: 72 | G68: 100 | H68: 60 | I68: 80 | J68: 70 | K68: 50
A69: 65 | B69: =[1]Rutfördelning!B68 -> 22 | C69: =[1]Rutfördelning!C68 -> 2 | D69: 80 | E69: 0 | F69: 70 | G69: 80 | H69: 70 | I69: 70 | J69: 60 | K69: 70
A70: 66 | B70: =[1]Rutfördelning!B69 -> 13 | C70: =[1]Rutfördelning!C69 -> 2 | D70: 75 | E70: 0 | F70: 56 | G70: 50 | H70: 70 | I70: 40 | J70: 60 | K70: 60 | L70: nedkortas 2 m
A71: 67 | B71: =[1]Rutfördelning!B70 -> 27 | C71: =[1]Rutfördelning!C70 -> 2 | D71: 87 | E71: 0 | F71: 66 | G71: 70 | H71: 60 | I71: 70 | J71: 60 | K71: 70
A72: 68 | B72: =[1]Rutfördelning!B71 -> 19 | C72: =[1]Rutfördelning!C71 -> 2 | D72: 90 | E72: 0 | F72: 68 | G72: 70 | H72: 70 | I72: 60 | J72: 80 | K72: 60
A73: 69 | B73: =[1]Rutfördelning!B72 -> 34 | C73: =[1]Rutfördelning!C72 -> 2 | D73: 93 | E73: 0 | F73: 74 | G73: 70 | H73: 70 | I73: 70 | J73: 70 | K73: 90
A74: 70 | B74: =[1]Rutfördelning!B73 -> 16 | C74: =[1]Rutfördelning!C73 -> 2 | D74: 80 | E74: 0 | F74: 60 | G74: 60 | H74: 50 | I74: 60 | J74: 70 | K74: 60
A75: 71 | B75: =[1]Rutfördelning!B74 -> 15 | C75: =[1]Rutfördelning!C74 -> 2 | D75: 85 | E75: 0 | F75: 78 | G75: 70 | H75: 60 | I75: 90 | J75: 90 | K75: 80
A76: 72 | B76: =[1]Rutfördelning!B75 -> 39 | C76: =[1]Rutfördelning!C75 -> 2 | D76: 87 | E76: 0 | F76: 70 | G76: 60 | H76: 80 | I76: 60 | J76: 80 | K76: 70
A77: 73 | B77: =[1]Rutfördelning!B76 -> 30 | C77: =[1]Rutfördelning!C76 -> 2 | D77: 93 | E77: 0 | F77: 64 | G77: 50 | H77: 80 | I77: 60 | J77: 60 | K77: 70
A78: 74 | B78: =[1]Rutfördelning!B77 -> 1 | C78: =[1]Rutfördelning!C77 -> 2 | D78: 90 | E78: 0 | F78: 64 | G78: 60 | H78: 60 | I78: 70 | J78: 60 | K78: 70
A79: 75 | B79: =[1]Rutfördelning!B78 -> 3 | C79: =[1]Rutfördelning!C78 -> 2 | D79: 95 | E79: 0 | F79: 64 | G79: 60 | H79: 70 | I79: 60 | J79: 60 | K79: 70
A80: 76 | B80: =[1]Rutfördelning!B79 -> 4 | C80: =[1]Rutfördelning!C79 -> 2 | D80: 85 | E80: 0 | F80: 60 | G80: 50 | H80: 60 | I80: 80 | J80: 60 | K80: 50
A81: 77 | B81: =[1]Rutfördelning!B80 -> 7 | C81: =[1]Rutfördelning!C80 -> 2 | D81: 87 | E81: 0 | F81: 72 | G81: 80 | H81: 70 | I81: 80 | J81: 70 | K81: 60
A82: 78 | B82: =[1]Rutfördelning!B81 -> 23 | C82: =[1]Rutfördelning!C81 -> 2 | D82: 87 | E82: 0 | F82: 70 | G82: 80 | H82: 70 | I82: 60 | J82: 70 | K82: 70
... A102: 98 | B102: =[1]Rutfördelning!B101 -> 38 | C102: =[1]Rutfördelning!C101 -> 3 | D102: 93 | E102: 0 | F102: 74 | G102: 70 | H102: 80 | I102: 70 | J102: 70 | K102: 80
A103: 99 | B103: =[1]Rutfördelning!B102 -> 13 | C103: =[1]Rutfördelning!C102 -> 3 | D103: 85 | E103: 0 | F103: 46 | G103: 50 | H103: 50 | I103: 40 | J103: 40 | K103: 50 | L103: tunt men jämnt, OK
A104: 100 | B104: =[1]Rutfördelning!B103 -> 23 | C104: =[1]Rutfördelning!C103 -> 3 | D104: 93 | E104: 0 | F104: 66 | G104: 70 | H104: 60 | I104: 70 | J104: 60 | K104: 70
A105: 101 | B105: =[1]Rutfördelning!B104 -> 25 | C105: =[1]Rutfördelning!C104 -> 3 | D105: 90 | E105: 0 | F105: 56 | G105: 50 | H105: 70 | I105: 50 | J105: 60 | K105: 50
A106: 102 | B106: =[1]Rutfördelning!B105 -> 5 | C106: =[1]Rutfördelning!C105 -> 3 | D106: 93 | E106: 0 | F106: 62 | G106: 70 | H106: 70 | I106: 60 | J106: 50 | K106: 60
A107: 103 | B107: =[1]Rutfördelning!B106 -> 9 | C107: =[1]Rutfördelning!C106 -> 3 | D107: 80 | E107: 0 | F107: 66 | G107: 50 | H107: 60 | I107: 70 | J107: 80 | K107: 70 | L107: nedkortas 2 m
A108: 104 | B108: =[1]Rutfördelning!B107 -> 28 | C108: =[1]Rutfördelning!C107 -> 3 | D108: 87 | E108: 0 | F108: 60 | G108: 50 | H108: 70 | I108: 70 | J108: 50 | K108: 60
A109: 105 | B109: =[1]Rutfördelning!B108 -> 3 | C109: =[1]Rutfördelning!C108 -> 3 | D109: 85 | E109: 0 | F109: 48 | G109: 60 | H109: 50 | I109: 40 | J109: 40 | K109: 50
A110: 106 | B110: =[1]Rutfördelning!B109 -> 36 | C110: =[1]Rutfördelning!C109 -> 3 | D110: 93 | E110: 0 | F110: 68 | G110: 70 | H110: 70 | I110: 70 | J110: 60 | K110: 70
A111: 107 | B111: =[1]Rutfördelning!B110 -> 33 | C111: =[1]Rutfördelning!C110 -> 3 | D111: 93 | E111: 0 | F111: 74 | G111: 80 | H111: 70 | I111: 80 | J111: 80 | K111: 60
A112: 108 | B112: =[1]Rutfördelning!B111 -> 18 | C112: =[1]Rutfördelning!C111 -> 3 | D112: 90 | E112: 0 | F112: 76 | G112: 80 | H112: 60 | I112: 70 | J112: 80 | K112: 90
A113: 109 | B113: =[1]Rutfördelning!B112 -> 1 | C113: =[1]Rutfördelning!C112 -> 3 | D113: 70 | E113: 0 | F113: 56 | G113: 50 | H113: 50 | I113: 70 | J113: 60 | K113: 50 | L113: 3 m nedkortas
A114: 110 | B114: =[1]Rutfördelning!B113 -> 45 | C114: =[1]Rutfördelning!C113 -> 3 | D114: 87 | E114: 0 | F114: 70 | G114: 80 | H114: 70 | I114: 70 | J114: 70 | K114: 60
A115: 111 | B115: =[1]Rutfördelning!B114 -> 8 | C115: =[1]Rutfördelning!C114 -> 3 | D115: 85 | E115: 0 | F115: 64 | G115: 60 | H115: 70 | I115: 70 | J115: 60 | K115: 60
A116: 112 | B116: =[1]Rutfördelning!B115 -> 26 | C116: =[1]Rutfördelning!C115 -> 3 | D116: 93 | E116: 0 | F116: 58 | G116: 60 | H116: 60 | I116: 60 | J116: 50 | K116: 60
A117: 113 | B117: =[1]Rutfördelning!B116 -> 19 | C117: =[1]Rutfördelning!C116 -> 3 | D117: 65 | E117: 0 | F117: 54 | G117: 50 | H117: 60 | I117: 60 | J117: 50 | K117: 50 | L117: kasseras ev, nedkortas
A118: 114 | B118: =[1]Rutfördelning!B117 -> 31 | C118: =[1]Rutfördelning!C117 -> 3 | D118: 93 | E118: 0 | F118: 64 | G118: 60 | H118: 70 | I118: 60 | J118: 60 | K118: 70
A119: 115 | B119: =[1]Rutfördelning!B118 -> 10 | C119: =[1]Rutfördelning!C118 -> 3 | D119: 90 | E119: 0 | F119: 58 | G119: 60 | H119: 70 | I119: 50 | J119: 60 | K119: 50
A120: 116 | B120: =[1]Rutfördelning!B119 -> 16 | C120: =[1]Rutfördelning!C119 -> 3 | D120: 80 | E120: 0 | F120: 50 | G120: 50 | H120: 40 | I120: 50 | J120: 50 | K120: 60 | L120: tunt, ev nedkortas 3 m
A121: 117 | B121: =[1]Rutfördelning!B120 -> 30 | C121: =[1]Rutfördelning!C120 -> 3 | D121: 90 | E121: 0 | F121: 56 | G121: 50 | H121: 70 | I121: 60 | J121: 50 | K121: 50
A122: 118 | B122: =[1]Rutfördelning!B121 -> 44 | C122: =[1]Rutfördelning!C121 -> 3 | D122: 95 | E122: 0 | F122: 96 | G122: 70 | H122: 90 | I122: 110 | J122: 90 | K122: 120
A123: 119 | B123: =[1]Rutfördelning!B122 -> 41 | C123: =[1]Rutfördelning!C122 -> 3 | D123: 95 | E123: 0 | F123: 70 | G123: 60 | H123: 70 | I123: 70 | J123: 80 | K123: 70
A124: 120 | B124: =[1]Rutfördelning!B123 -> 12 | C124: =[1]Rutfördelning!C123 -> 3 | D124: 90 | E124: 0 | F124: 64 | G124: 60 | H124: 60 | I124: 90 | J124: 60 | K124: 50
A125: 121 | B125: =[1]Rutfördelning!B124 -> 6 | C125: =[1]Rutfördelning!C124 -> 3 | D125: 85 | E125: 0 | F125: 58 | G125: 50 | H125: 50 | I125: 70 | J125: 50 | K125: 70
A126: 122 | B126: =[1]Rutfördelning!B125 -> 34 | C126: =[1]Rutfördelning!C125 -> 3 | D126: 95 | E126: 0 | F126: 78 | G126: 70 | H126: 80 | I126: 90 | J126: 70 | K126: 80
A127: 123 | B127: =[1]Rutfördelning!B126 -> 42 | C127: =[1]Rutfördelning!C126 -> 3 | D127: 85 | E127: 0 | F127: 58 | G127: 50 | H127: 60 | I127: 50 | J127: 70 | K127: 60
A128: 124 | B128: =[1]Rutfördelning!B127 -> 7 | C128: =[1]Rutfördelning!C127 -> 3 | D128: 87 | E128: 0 | F128: 58 | G128: 60 | H128: 50 | I128: 60 | J128: 50 | K128: 70
A129: 125 | B129: =[1]Rutfördelning!B128 -> 43 | C129: =[1]Rutfördelning!C128 -> 3 | D129: 90 | E129: 0 | F129: 66 | G129: 70 | H129: 70 | I129: 60 | J129: 70 | K129: 60
A130: 126 | B130: =[1]Rutfördelning!B129 -> 2 | C130: =[1]Rutfördelning!C129 -> 3 | D130: 85 | E130: 0 | F130: 53 | G130: 60 | H130: 50 | I130: 50 | J130: 45 | K130: 60
A131: 127 | B131: =[1]Rutfördelning!B130 -> 17 | C131: =[1]Rutfördelning!C130 -> 3 | D131: 85 | E131: 0 | F131: 50 | G131: 40 | H131: 60 | I131: 50 | J131: 50 | K131: 50 | L131: tunt men OK, jämnt
A132: 128 | B132: =[1]Rutfördelning!B131 -> 40 | C132: =[1]Rutfördelning!C131 -> 3 | D132: 87 | E132: 0 | F132: 80 | G132: 80 | H132: 90 | I132: 70 | J132: 80 | K132: 80
A133: 129 | B133: =[1]Rutfördelning!B132 -> 20 | C133: =[1]Rutfördelning!C132 -> 3 | D133: 75 | E133: 0 | F133: 66 | G133: 60 | H133: 70 | I133: 60 | J133: 70 | K133: 70
A134: 130 | B134: =[1]Rutfördelning!B133 -> 22 | C134: =[1]Rutfördelning!C133 -> 3 | D134: 85 | E134: 0 | F134: 66 | G134: 60 | H134: 70 | I134: 60 | J134: 80 | K134: 60
A135: 131 | B135: =[1]Rutfördelning!B134 -> 35 | C135: =[1]Rutfördelning!C134 -> 3 | D135: 65 | E135: 0 | F135: 70 | G135: 60 | H135: 70 | I135: 70 | J135: 80 | K135: 70 | L135: ojämn ruta
A136: 132 | B136: =[1]Rutfördelning!B135 -> 39 | C136: =[1]Rutfördelning!C135 -> 3 | D136: 87 | E136: 0 | F136: 72 | G136: 60 | H136: 60 | I136: 60 | J136: 100 | K136: 80
A137: 133 | B137: =[1]Rutfördelning!B136 -> 29 | C137: =[1]Rutfördelning!C136 -> 3 | D137: 93 | E137: 0 | F137: 76 | G137: 70 | H137: 80 | I137: 70 | J137: 70 | K137: 90
A138: 134 | B138: =[1]Rutfördelning!B137 -> 24 | C138: =[1]Rutfördelning!C137 -> 3 | D138: 95 | E138: 0 | F138: 70 | G138: 70 | H138: 60 | I138: 80 | J138: 80 | K138: 60
A139: 135 | B139: =[1]Rutfördelning!B138 -> 15 | C139: =[1]Rutfördelning!C138 -> 3 | D139: 93 | E139: 0 | F139: 80 | G139: 70 | H139: 80 | I139: 80 | J139: 90 | K139: 80
A140: 136 | B140: =[1]Rutfördelning!B139 -> 22 | C140: =[1]Rutfördelning!C139 -> 4 | D140: 85 | E140: 0 | F140: 49 | G140: 50 | H140: 50 | I140: 40 | J140: 65 | K140: 40
A141: 137 | B141: =[1]Rutfördelning!B140 -> 8 | C141: =[1]Rutfördelning!C140 -> 4 | D141: 90 | E141: 0 | F141: 50 | G141: 50 | H141: 40 | I141: 50 | J141: 50 | K141: 60
A142: 138 | B142: =[1]Rutfördelning!B141 -> 16 | C142: =[1]Rutfördelning!C141 -> 4 | D142: 85 | E142: 0 | F142: 39 | G142: 40 | H142: 35 | I142: 40 | J142: 40 | K142: 40
A143: 139 | B143: =[1]Rutfördelning!B142 -> 32 | C143: =[1]Rutfördelning!C142 -> 4 | D143: 85 | E143: 0 | F143: 39 | G143: 35 | H143: 40 | I143: 40 | J143: 40 | K143: 40
A144: 140 | B144: =[1]Rutfördelning!B143 -> 9 | C144: =[1]Rutfördelning!C143 -> 4 | D144: 80 | E144: 0 | F144: 57 | G144: 60 | H144: 65 | I144: 50 | J144: 50 | K144: 60
A145: 141 | B145: =[1]Rutfördelning!B144 -> 7 | C145: =[1]Rutfördelning!C144 -> 4 | D145: 87 | E145: 0 | F145: 47 | G145: 50 | H145: 40 | I145: 50 | J145: 50 | K145: 45
A146: 142 | B146: =[1]Rutfördelning!B145 -> 45 | C146: =[1]Rutfördelning!C145 -> 4 | D146: 85 | E146: 0 | F146: 54 | G146: 55 | H146: 60 | I146: 50 | J146: 60 | K146: 45
A147: 143 | B147: =[1]Rutfördelning!B146 -> 5 | C147: =[1]Rutfördelning!C146 -> 4 | D147: 87 | E147: 0 | F147: 50 | G147: 50 | H147: 50 | I147: 60 | J147: 45 | K147: 45
... A150: 146 | B150: =[1]Rutfördelning!B149 -> 28 | C150: =[1]Rutfördelning!C149 -> 4 | D150: 87 | E150: 0 | F150: 48 | G150: 45 | H150: 40 | I150: 50 | J150: 45 | K150: 60
A151: 147 | B151: =[1]Rutfördelning!B150 -> 17 | C151: =[1]Rutfördelning!C150 -> 4 | D151: 60 | E151: 0 | F151: 34 | G151: 30 | H151: 40 | I151: 30 | J151: 35 | K151: 35 | L151: ev kasseras
A152: 148 | B152: =[1]Rutfördelning!B151 -> 30 | C152: =[1]Rutfördelning!C151 -> 4 | D152: 85 | E152: 0 | F152: 45 | G152: 50 | H152: 50 | I152: 35 | J152: 40 | K152: 50
A153: 149 | B153: =[1]Rutfördelning!B152 -> 42 | C153: =[1]Rutfördelning!C152 -> 4 | D153: 85 | E153: 0 | F153: 44 | G153: 45 | H153: 40 | I153: 40 | J153: 50 | K153: 45
...

Sheet Sammanställning
A1: Manuella registreringar: | E1: ADB nr.: | F1: 0764121 | H1: Plan nr: | I1: OS7-27 | L1: Försöks nr.: | M1: I-859-2020 | P1: ADB nr.: | Q1: 0764121 | S1: Plan nr: | T1: OS7-27 | W1: Försöks nr.: | X1: I-859-2020 | AA1: ADB nr.: | AB1: 0764121 | AD1: Plan nr: | AE1: OS7-27 | AH1: Försöks nr.: | AI1: I-859-2020 | AL1: ADB nr.: | AM1: 0764121 | AO1: Plan nr: | AP1: OS7-27 | AS1: Försöks nr.: | AT1: I-859-2020 | AW1: ADB nr.: | AX1: 0764121 | AZ1: Plan nr: | BA1: OS7-27 | BD1: Försöks nr.: | BE1: I-859-2020 | BH1: ADB nr.: | BI1: 0764121 | BK1: Plan nr: | BL1: OS7-27 | BO1: Försöks nr.: | BP1: I-859-2020 | BS1: ADB nr.: | BT1: 0764121 | BV1: Plan nr: | BW1: OS7-27 | BZ1: Försöks nr.: | CA1: I-859-2020 | CD1: ADB nr.: | CE1: 0764121 | CG1: Plan nr: | CH1: OS7-27 | CK1: Försöks nr.: | CL1: I-859-2020 | CO1: ADB nr.: | CP1: 0764121 | CR1: Plan nr: | CS1: OS7-27 | CV1: Försöks nr.: | CW1: I-859-2020 | CZ1: ADB nr.: | DA1: 0764121 | DC1: Plan nr: | DD1: OS7-27 | DG1: Försöks nr.: | DH1: I-859-2020
A2: Datum | C2: 20201103 | D2: 20210325 | E2: 20210325
A3: Led | B3: Django | C3: Planttäthet | D3: plantbestånd, döda plantor % | E3: Tillväxtpunktens höjd (mm), medel
A4: 1 | B4: Sortblandning | C4: 86.25 | D4: 0 | E4: 59.25
A5: 2 | B5: PR44D06 | C5: 85.5 | D5: 0 | E5: 49.5
A6: 3 | B6: DK Exstorm | C6: 88.75 | D6: 0 | E6: 55
A7: 4 | B7: DK Explicit | C7: 88 | D7: 0 | E7: 57.75
A8: 5 | B8: Mercedes | C8: 90 | D8: 0 | E8: 58.5
A9: 6 | B9: V316OL | C9: 84.25 | D9: 0 | E9: 60.5
A10: 7 | B10: DK Exception | C10: 87.75 | D10: 0 | E10: 59.75
A11: 8 | B11: Atora | C11: 88.75 | D11: 0 | E11: 65
A12: 9 | B12: Dariot | C12: 85.75 | D12: 0 | E12: 63.75
A13: 10 | B13: DK Severnyi | C13: 88.75 | D13: 0 | E13: 53.75
A14: 11 | B14: SY Florian | C14: 78.75 | D14: 0 | E14: 63.75
A15: 12 | B15: DK Expansion | C15: 87.25 | D15: 0 | E15: 62.25
... A48: 45 | B48: Dazzler | C48: 86 | D48: 0 | E48: 63.25
