Workbook

Sheet Rutvis
A1: Manuella registreringar: | E1: ADB nr.: | F1: =IFERROR('[1]Etiketter ledvis, 4 block'!$B$2,"") -> 0764121 | H1: Plan nr: | I1: =IFERROR('[1]Etiketter ledvis, 4 block'!$B$1,"") -> OS7-27
A2: Datum | D2: 20201103 | E2: 20210325 | F2: 20210325 | G2: 20210325 | H2: 20210325 | I2: 20210325 | J2: 20210325 | K2: 20210325 | L2: 20210325
A3: Kod | C3: --> | D3: Planttäthet | E3: ='[1]Åtgärder + karta'!B16 -> plantbestånd, döda plantor % | F3: Tillväxtpunktens höjd (mm), medel | G3: Tillväxtpunktens höjd (mm), planta 1 | H3: Tillväxtpunktens höjd (mm), planta 2 | I3: Tillväxtpunktens höjd (mm), planta 3 | J3: Tillväxtpunktens höjd (mm), planta 4 | K3: Tillväxtpunktens höjd (mm), planta 5 | L3: Noteringar
A4: Ruta | B4: Led | C4: Block
A5: 1 | B5: =[1]Rutfördelning!B4 -> 25 | C5: =[1]Rutfördelning!C4 -> 1 | D5: 90 | E5: 0 | F5: 51 | G5: 50 | H5: 60 | I5: 50 | J5: 45 | K5: 50
A6: 2 | B6: =[1]Rutfördelning!B5 -> 42 | C6: =[1]Rutfördelning!C5 -> 1 | D6: 85 | E6: 0 | F6: 59 | G6: 70 | H6: 50 | I6: 60 | J6: 65 | K6: 50
A7: 3 | B7: =[1]Rutfördelning!B6 -> 10 | C7: =[1]Rutfördelning!C6 -> 1 | D7: 85 | E7: 0 | F7: 57 | G7: 60 | H7: 50 | I7: 60 | J7: 50 | K7: 65
A8: 4 | B8: =[1]Rutfördelning!B7 -> 45 | C8: =[1]Rutfördelning!C7 -> 1 | D8: 85 | E8: 0 | F8: 64 | G8: 50 | H8: 65 | I8: 70 | J8: 70 | K8: 65
A9: 5 | B9: =[1]Rutfördelning!B8 -> 15 | C9: =[1]Rutfördelning!C8 -> 1 | D9: 95 | E9: 0 | F9: 79 | G9: 65 | H9: 100 | I9: 90 | J9: 80 | K9: 60
A10: 6 | B10: =[1]Rutfördelning!B9 -> 9 | C10: =[1]Rutfördelning!C9 -> 1 | D10: 90 | E10: 0 | F10: 62 | G10: 50 | H10: 60 | I10: 60 | J10: 70 | K10: 70
A11: 7 | B11: =[1]Rutfördelning!B10 -> 18 | C11: =[1]Rutfördelning!C10 -> 1 | D11: 90 | E11: 0 | F11: 68 | G11: 60 | H11: 60 | I11: 80 | J11: 70 | K11: 70
A12: 8 | B12: =[1]Rutfördelning!B11 -> 6 | C12: =[1]Rutfördelning!C11 -> 1 | D12: 85 | E12: 0 | F12: 69 | G12: 55 | H12: 70 | I12: 80 | J12: 70 | K12: 70
A13: 9 | B13: =[1]Rutfördelning!B12 -> 40 | C13: =[1]Rutfördelning!C12 -> 1 | D13: 90 | E13: 0 | F13: 84 | G13: 80 | H13: 90 | I13: 70 | J13: 80 | K13: 100
A14: 10 | B14: =[1]Rutfördelning!B13 -> 8 | C14: =[1]Rutfördelning!C13 -> 1 | D14: 90 | E14: 0 | F14: 76 | G14: 60 | H14: 80 | I14: 100 | J14: 70 | K14: 70
A15: 11 | B15: =[1]Rutfördelning!B14 -> 20 | C15: =[1]Rutfördelning!C14 -> 1 | D15: 90 | E15: 0 | F15: 72 | G15: 60 | H15: 70 | I15: 80 | J15: 80 | K15: 70
A16: 12 | B16: =[1]Rutfördelning!B15 -> 4 | C16: =[1]Rutfördelning!C15 -> 1 | D16: 90 | E16: 0 | F16: 68 | G16: 60 | H16: 60 | I16: 70 | J16: 80 | K16: 70
... A18: 14 | B18: =[1]Rutfördelning!B17 -> 23 | C18: =[1]Rutfördelning!C17 -> 1 | D18: 95 | E18: 0 | F18: 72 | G18: 70 | H18: 60 | I18: 80 | J18: 70 | K18: 80
A19: 15 | B19: =[1]Rutfördelning!B18 -> 35 | C19: =[1]Rutfördelning!C18 -> 1 | D19: 60 | E19: 0 | F19: 68 | G19: 80 | H19: 60 | I19: 70 | J19: 60 | K19: 70 | L19: rutan nedkortas, 3-4 m
A20: 16 | B20: =[1]Rutfördelning!B19 -> 16 | C20: =[1]Rutfördelning!C19 -> 1 | D20: 85 | E20: 0 | F20: 63 | G20: 50 | H20: 65 | I20: 60 | J20: 70 | K20: 70
A21: 17 | B21: =[1]Rutfördelning!B20 -> 3 | C21: =[1]Rutfördelning!C20 -> 1 | D21: 90 | E21: 0 | F21: 62 | G21: 70 | H21: 60 | I21: 50 | J21: 70 | K21: 60
A22: 18 | B22: =[1]Rutfördelning!B21 -> 14 | C22: =[1]Rutfördelning!C21 -> 1 | D22: 95 | E22: 0 | F22: 72 | G22: 70 | H22: 70 | I22: 60 | J22: 80 | K22: 80
A23: 19 | B23: =[1]Rutfördelning!B22 -> 26 | C23: =[1]Rutfördelning!C22 -> 1 | D23: 90 | E23: 0 | F23: 70 | G23: 60 | H23: 70 | I23: 70 | J23: 80 | K23: 70
A24: 20 | B24: =[1]Rutfördelning!B23 -> 17 | C24: =[1]Rutfördelning!C23 -> 1 | D24: 87 | E24: 0 | F24: 56 | G24: 60 | H24: 60 | I24: 50 | J24: 60 | K24: 50
A25: 21 | B25: =[1]Rutfördelning!B24 -> 29 | C25: =[1]Rutfördelning!C24 -> 1 | D25: 90 | E25: 0 | F25: 76 | G25: 60 | H25: 80 | I25: 70 | J25: 80 | K25: 90
A26: 22 | B26: =[1]Rutfördelning!B25 -> 38 | C26: =[1]Rutfördelning!C25 -> 1 | D26: 95 | E26: 0 | F26: 94 | G26: 80 | H26: 70 | I26: 130 | J26: 100 | K26: 90
A27: 23 | B27: =[1]Rutfördelning!B26 -> 21 | C27: =[1]Rutfördelning!C26 -> 1 | D27: 87 | E27: 0 | F27: 74 | G27: 60 | H27: 70 | I27: 90 | J27: 80 | K27: 70
A28: 24 | B28: =[1]Rutfördelning!B27 -> 7 | C28: =[1]Rutfördelning!C27 -> 1 | D28: 90 | E28: 0 | F28: 62 | G28: 60 | H28: 50 | I28: 60 | J28: 80 | K28: 60
A29: 25 | B29: =[1]Rutfördelning!B28 -> 31 | C29: =[1]Rutfördelning!C28 -> 1 | D29: 93 | E29: 0 | F29: 56 | G29: 60 | H29: 60 | I29: 60 | J29: 50 | K29: 50
A30: 26 | B30: =[1]Rutfördelning!B29 -> 44 | C30: =[1]Rutfördelning!C29 -> 1 | D30: 95 | E30: 0 | F30: 78 | G30: 60 | H30: 60 | I30: 100 | J30: 90 | K30: 80
A31: 27 | B31: =[1]Rutfördelning!B30 -> 36 | C31: =[1]Rutfördelning!C30 -> 1 | D31: 95 | E31: 0 | F31: 66 | G31: 70 | H31: 60 | I31: 80 | J31: 60 | K31: 60
... A63: 59 | B63: =[1]Rutfördelning!B62 -> 31 | C63: =[1]Rutfördelning!C62 -> 2 | D63: 90 | E63: 0 | F63: 60 | G63: 50 | H63: 60 | I63: 70 | J63: 60 | K63: 60
A64: 60 | B64: =[1]Rutfördelning!B63 -> 11 | C64: =[1]Rutfördelning!C63 -> 2 | D64: 60 | E64: 0 | F64: 66 | G64: 60 | H64: 50 | I64: 70 | J64: 70 | K64: 80 | L64: 4 m OK, ev. kasseras
A65: 61 | B65: =[1]Rutfördelning!B64 -> 36 | C65: =[1]Rutfördelning!C64 -> 2 | D65: 93 | E65: 0 | F65: 64 | G65: 70 | H65: 60 | I65: 70 | J65: 60 | K65: 60
A66: 62 | B66: =[1]Rutfördelning!B65 -> 6 | C66: =[1]Rutfördelning!C65 -> 2 | D66: 87 | E66: 0 | F66: 70 | G66: 90 | H66: 50 | I66: 60 | J66: 80 | K66: 70
A67: 63 | B67: =[1]Rutfördelning!B66 -> 25 | C67: =[1]Rutfördelning!C66 -> 2 | D67: 90 | E67: 0 | F67: 64 | G67: 60 | H67: 70 | I67: 70 | J67: 60 | K67: 60
A68: 64 | B68: =[1]Rutfördelning!B67 -> 17 | C68: =[1]Rutfördelning!C67 -> 2 | D68: 90 | E68: 0 | F68: 72 | G68: 100 | H68: 60 | I68: 80 | J68: 70 | K68: 50
A69: 65 | B69: =[1]Rutfördelning!B68 -> 22 | C69: =[1]Rutfördelning!C68 -> 2 | D69: 80 | E69: 0 | F69: 70 | G69: 80 | H69: 70 | I69: 70 | J69: 60 | K69: 70
A70: 66 | B70: =[1]Rutfördelning!B69 -> 13 | C70: =[1]Rutfördelning!C69 -> 2 | D70: 75 | E70: 0 | F70: 56 | G70: 50 | H70: 70 | I70: 40 | J70: 60 | K70: 60 | L70: nedkortas 2 m
A71: 67 | B71: =[1]Rutfördelning!B70 -> 27 | C71: =[1]Rutfördelning!C70 -> 2 | D71: 87 | E71: 0 | F71: 66 | G71: 70 | H71: 60 | I71: 70 | J71: 60 | K71: 70
A72: 68 | B72: =[1]Rutfördelning!B71 -> 19 | C72: =[1]Rutfördelning!C71 -> 2 | D72: 90 | E72: 0 | F72: 68 | G72: 70 | H72: 70 | I72: 60 | J72: 80 | K72: 60
...

Sheet Sammanställning
A1: Manuella registreringar: | E1: ADB nr.: | F1: 0764121 | H1: Plan nr: | I1: OS7-27 | L1: Försöks nr.: | M1: I-859-2020 | P1: ADB nr.: | Q1: 0764121 | S1: Plan nr: | T1: OS7-27 | W1: Försöks nr.: | X1: I-859-2020 | AA1: ADB nr.: | AB1: 0764121 | AD1: Plan nr: | AE1: OS7-27 | AH1: Försöks nr.: | AI1: I-859-2020 | AL1: ADB nr.: | AM1: 0764121 | AO1: Plan nr: | AP1: OS7-27 | AS1: Försöks nr.: | AT1: I-859-2020 | AW1: ADB nr.: | AX1: 0764121 | AZ1: Plan nr: | BA1: OS7-27 | BD1: Försöks nr.: | BE1: I-859-2020 | BH1: ADB nr.: | BI1: 0764121 | BK1: Plan nr: | BL1: OS7-27 | BO1: Försöks nr.: | BP1: I-859-2020 | BS1: ADB nr.: | BT1: 0764121 | BV1: Plan nr: | BW1: OS7-27 | BZ1: Försöks nr.: | CA1: I-859-2020 | CD1: ADB nr.: | CE1: 0764121 | CG1: Plan nr: | CH1: OS7-27 | CK1: Försöks nr.: | CL1: I-859-2020 | CO1: ADB nr.: | CP1: 0764121 | CR1: Plan nr: | CS1: OS7-27 | CV1: Försöks nr.: | CW1: I-859-2020 | CZ1: ADB nr.: | DA1: 0764121 | DC1: Plan nr: | DD1: OS7-27 | DG1: Försöks nr.: | DH1: I-859-2020
A2: Datum | C2: 20201103 | D2: 20210325 | E2: 20210325
A3: Led | B3: Django | C3: Planttäthet | D3: plantbestånd, döda plantor % | E3: Tillväxtpunktens höjd (mm), medel
A4: 1 | B4: Sortblandning | C4: 86.25 | D4: 0 | E4: 59.25
A5: 2 | B5: PR44D06 | C5: 85.5 | D5: 0 | E5: 49.5
A6: 3 | B6: DK Exstorm | C6: 88.75 | D6: 0 | E6: 55
A7: 4 | B7: DK Explicit | C7: 88 | D7: 0 | E7: 57.75
A8: 5 | B8: Mercedes | C8: 90 | D8: 0 | E8: 58.5
A9: 6 | B9: V316OL | C9: 84.25 | D9: 0 | E9: 60.5
A10: 7 | B10: DK Exception | C10: 87.75 | D10: 0 | E10: 59.75
A11: 8 | B11: Atora | C11: 88.75 | D11: 0 | E11: 65
A12: 9 | B12: Dariot | C12: 85.75 | D12: 0 | E12: 63.75
A13: 10 | B13: DK Severnyi | C13: 88.75 | D13: 0 | E13: 53.75
A14: 11 | B14: SY Florian | C14: 78.75 | D14: 0 | E14: 63.75
A15: 12 | B15: DK Expansion | C15: 87.25 | D15: 0 | E15: 62.25
... A48: 45 | B48: Dazzler | C48: 86 | D48: 0 | E48: 63.25
