Workbook

Sheet 11-09 Marktäckning
A1: Ogräsgradering marktäckning
A2: Försöksserie: | D2: Örtogräsbekämpning i höstraps, plöjt, höstbehandling
A3: Plan nr: | D3: L5-8010P
A4: Försöks nr: | D4: I-811-2019
A5: ADB nr: | D5: 0561501
D6: P15, P21
A7: Datum: | D7: 20191109
A8: Utveckling, raps | D8: DC 16 (15-18)
D10: Ettåriga örtogräs marktäckning | R10: Övriga fleråriga örtogräs marktäckning | W10: Övriga gräsogräs % marktäckning | AA10: Marktäckning ogräs totalt % | AB10: Marktäckning samtliga ettåriga örtogräs % | AC10: Marktäckning övriga fleråriga örtogräs % | AD10: Marktäckning gräsogräs % | AE10: Marktäckning fräken %
D11: 1 | E11: 2 | F11: 3 | G11: 4 | H11: 5 | I11: 6 | J11: 7 | K11: 8 | L11: 9 | M11: 10 | N11: 11 | O11: 12 | P11: 13 | Q11: 14 | R11: 15 | S11: 16 | T11: 17 | U11: 18 | V11: 19 | W11: 20 | X11: 21 | Y11: 22 | Z11: 23
A12: Ruta nr | B12: Led | C12: Block | D12: Blåklint | E12: Kornvallmo | F12: Åkerveronika | G12: Åkerviol | H12: Mjuknäva | I12: F | J12: G | K12: H | L12: I | M12: J | N12: K | O12: Spillsäd | P12: M | Q12: N | R12: O | S12: P | T12: Q | U12: R | V12: S | W12: T | X12: U | Y12: V | Z12: X
A13: 1 | B13: 1 | C13: 1 | D13: 40 | E13: 5 | F13: 3 | G13: 3 | H13: 1 | O13: 0 | AA13: =AB13+AC13+AD13+AE13 -> 52 | AB13: =SUM(D13:I13) -> 52 | AC13: =SUM(R13:V13) -> 0 | AD13: =SUM(W13:Z13)+O13 -> 0
A14: 2 | B14: 5 | C14: 1 | D14: 30 | E14: 0 | F14: 0 | G14: 2 | H14: 0 | O14: 0 | AA14: =AB14+AC14+AD14+AE14 -> 32 | AB14: =SUM(D14:I14) -> 32 | AC14: =SUM(R14:V14) -> 0 | AD14: =SUM(W14:Z14)+O14 -> 0
A15: 3 | B15: 2 | C15: 1 | D15: 7 | E15: 3 | F15: 0 | G15: 0 | H15: 1 | O15: 0 | AA15: =AB15+AC15+AD15+AE15 -> 11 | AB15: =SUM(D15:I15) -> 11 | AC15: =SUM(R15:V15) -> 0 | AD15: =SUM(W15:Z15)+O15 -> 0
A16: 4 | B16: 3 | C16: 1 | D16: 15 | E16: 2 | F16: 0 | G16: 2 | H16: 1 | O16: 1 | AA16: =AB16+AC16+AD16+AE16 -> 21 | AB16: =SUM(D16:I16) -> 20 | AC16: =SUM(R16:V16) -> 0 | AD16: =SUM(W16:Z16)+O16 -> 1
A17: 5 | B17: 6 | C17: 1 | D17: 50 | E17: 2 | F17: 0 | G17: 2 | H17: 1 | O17: 0 | AA17: =AB17+AC17+AD17+AE17 -> 55 | AB17: =SUM(D17:I17) -> 55 | AC17: =SUM(R17:V17) -> 0 | AD17: =SUM(W17:Z17)+O17 -> 0
A18: 6 | B18: 4 | C18: 1 | D18: 15 | E18: 0 | F18: 1 | G18: 2 | H18: 0 | O18: 0 | AA18: =AB18+AC18+AD18+AE18 -> 18 | AB18: =SUM(D18:I18) -> 18 | AC18: =SUM(R18:V18) -> 0 | AD18: =SUM(W18:Z18)+O18 -> 0
A19: 7 | B19: 1 | C19: 2 | D19: 25 | E19: 15 | F19: 3 | G19: 3 | H19: 1 | O19: 1 | AA19: =AB19+AC19+AD19+AE19 -> 48 | AB19: =SUM(D19:I19) -> 47 | AC19: =SUM(R19:V19) -> 0 | AD19: =SUM(W19:Z19)+O19 -> 1
A20: 8 | B20: 3 | C20: 2 | D20: 25 | E20: 2 | F20: 0 | G20: 3 | H20: 0 | O20: 1 | AA20: =AB20+AC20+AD20+AE20 -> 31 | AB20: =SUM(D20:I20) -> 30 | AC20: =SUM(R20:V20) -> 0 | AD20: =SUM(W20:Z20)+O20 -> 1
A21: 9 | B21: 5 | C21: 2 | D21: 20 | E21: 0 | F21: 0 | G21: 3 | H21: 0 | O21: 0 | AA21: =AB21+AC21+AD21+AE21 -> 23 | AB21: =SUM(D21:I21) -> 23 | AC21: =SUM(R21:V21) -> 0 | AD21: =SUM(W21:Z21)+O21 -> 0
A22: 10 | B22: 6 | C22: 2 | D22: 50 | E22: 2 | F22: 0 | G22: 3 | H22: 1 | O22: 0 | AA22: =AB22+AC22+AD22+AE22 -> 56 | AB22: =SUM(D22:I22) -> 56 | AC22: =SUM(R22:V22) -> 0 | AD22: =SUM(W22:Z22)+O22 -> 0
A23: 11 | B23: 2 | C23: 2 | D23: 10 | E23: 5 | F23: 0 | G23: 5 | H23: 0 | O23: 0 | AA23: =AB23+AC23+AD23+AE23 -> 20 | AB23: =SUM(D23:I23) -> 20 | AC23: =SUM(R23:V23) -> 0 | AD23: =SUM(W23:Z23)+O23 -> 0
A24: 12 | B24: 4 | C24: 2 | D24: 25 | E24: 0 | F24: 0 | G24: 2 | H24: 0 | O24: 0 | AA24: =AB24+AC24+AD24+AE24 -> 27 | AB24: =SUM(D24:I24) -> 27 | AC24: =SUM(R24:V24) -> 0 | AD24: =SUM(W24:Z24)+O24 -> 0
... A36: 24 | B36: 5 | C36: 4 | D36: 20 | E36: 0 | F36: 0 | G36: 1 | H36: 1 | O36: 2 | AA36: =AB36+AC36+AD36+AE36 -> 24 | AB36: =SUM(D36:I36) -> 22 | AC36: =SUM(R36:V36) -> 0 | AD36: =SUM(W36:Z36)+O36 -> 2

Sheet Protokoll
A1: Ogräsgradering
A2: Plan nr. | B2: OS5-8010P
A3: Försöks nr. | B3: I-631-2016
A4: ADB nr. | B4: 05B408
B6: Antal/m2 | C6: P16 | D6: Höstraps | E6: Penningört | F6: Vallmo | G6: Baldersbrå | H6: Näva | I6: Etternässla | J6: Fårtunga | K6: Veronika | L6: Våtarv | M6: Svinmålla | N6: Åkerspergel | O6: Rödplister | P6: Vitgröe | Q6: Kvickrot | R6: Spillsäd
A7: Block I | B7: 0.25
A8: Block II | B8: 0.25
A9: Block III | B9: 0.25
A10: Block IV | B10: 0.25
A11: Utveckling, BBCH
B12: min
B13: max
A14: Höjd (cm)
A15: Diameter (cm)

Sheet 11-09 Effekt
A1: Ogräsgradering effektgradering
A2: Försöksserie: | D2: ='11-09 Marktäckning'!D2 -> Örtogräsbekämpning i höstraps, plöjt, höstbehandling
A3: Plan nr: | D3: ='11-09 Marktäckning'!D3 -> L5-8010P
A4: Försöks nr: | D4: ='11-09 Marktäckning'!D5 -> 0561501
A5: ADB nr: | D5: ='11-09 Marktäckning'!D4 -> I-811-2019
D6: ='11-09 Marktäckning'!D6 -> P15, P21
A7: Datum: | D7: ='11-09 Marktäckning'!D7 -> 20191109
A8: Utveckling, raps | D8: ='11-09 Marktäckning'!D8 -> DC 16 (15-18)
D10: Ettåriga örtogräs effektgradering | R10: Övriga fleråriga örtogräs effektgradering | W10: Övriga gräsogräs % effektgradering | AA10: Effektgradering ogräs totalt % | AB10: Effektgradering samtliga ettåriga örtogräs % | AC10: Effektgradering övriga fleråriga örtogräs % | AD10: Effektgradering gräsogräs % | AE10: Effektgradering fräken %
D11: 1 | E11: 2 | F11: 3 | G11: 4 | H11: 5 | I11: 6 | J11: 7 | K11: 8 | L11: 9 | M11: 10 | N11: 11 | O11: 12 | P11: 13 | Q11: 14 | R11: 15 | S11: 16 | T11: 17 | U11: 18 | V11: 19 | W11: 20 | X11: 21 | Y11: 22 | Z11: 23
A12: Ruta nr | B12: Led | C12: Block | D12: Blåklint | E12: Kornvallmo | F12: Åkerveronika | G12: Åkerviol | H12: Mjuknäva | I12: F | J12: G | K12: H | L12: I | M12: J | N12: Total effekt | O12: Spillsäd | P12: M | Q12: N | R12: O | S12: P | T12: Q | U12: R | V12: S | W12: T | X12: U | Y12: V | Z12: X
A13: ='11-09 Marktäckning'!A13 -> 1 | B13: ='11-09 Marktäckning'!B13 -> 1 | C13: ='11-09 Marktäckning'!C13 -> 1 | AA13: =AB13+AC13+AD13+AE13 -> 0 | AB13: =SUM(D13:Q13) -> 0 | AC13: =SUM(R13:V13) -> 0 | AD13: =SUM(W13:Z13) -> 0
A14: ='11-09 Marktäckning'!A14 -> 2 | B14: ='11-09 Marktäckning'!B14 -> 5 | C14: ='11-09 Marktäckning'!C14 -> 1 | D14: 80 | E14: 100 | N14: 85 | AA14: =AB14+AC14+AD14+AE14 -> 265 | AB14: =SUM(D14:Q14) -> 265 | AC14: =SUM(R14:V14) -> 0 | AD14: =SUM(W14:Z14) -> 0
A15: ='11-09 Marktäckning'!A15 -> 3 | B15: ='11-09 Marktäckning'!B15 -> 2 | C15: ='11-09 Marktäckning'!C15 -> 1 | D15: 80 | E15: 80 | N15: 80 | AA15: =AB15+AC15+AD15+AE15 -> 240 | AB15: =SUM(D15:Q15) -> 240 | AC15: =SUM(R15:V15) -> 0 | AD15: =SUM(W15:Z15) -> 0
A16: ='11-09 Marktäckning'!A16 -> 4 | B16: ='11-09 Marktäckning'!B16 -> 3 | C16: ='11-09 Marktäckning'!C16 -> 1 | D16: 70 | E16: 90 | N16: 85 | AA16: =AB16+AC16+AD16+AE16 -> 245 | AB16: =SUM(D16:Q16) -> 245 | AC16: =SUM(R16:V16) -> 0 | AD16: =SUM(W16:Z16) -> 0
A17: ='11-09 Marktäckning'!A17 -> 5 | B17: ='11-09 Marktäckning'!B17 -> 6 | C17: ='11-09 Marktäckning'!C17 -> 1 | D17: 80 | E17: 80 | N17: 80 | AA17: =AB17+AC17+AD17+AE17 -> 240 | AB17: =SUM(D17:Q17) -> 240 | AC17: =SUM(R17:V17) -> 0 | AD17: =SUM(W17:Z17) -> 0
A18: ='11-09 Marktäckning'!A18 -> 6 | B18: ='11-09 Marktäckning'!B18 -> 4 | C18: ='11-09 Marktäckning'!C18 -> 1 | D18: 80 | E18: 100 | N18: 85 | AA18: =AB18+AC18+AD18+AE18 -> 265 | AB18: =SUM(D18:Q18) -> 265 | AC18: =SUM(R18:V18) -> 0 | AD18: =SUM(W18:Z18) -> 0
A19: ='11-09 Marktäckning'!A19 -> 7 | B19: ='11-09 Marktäckning'!B19 -> 1 | C19: ='11-09 Marktäckning'!C19 -> 2 | AA19: =AB19+AC19+AD19+AE19 -> 0 | AB19: =SUM(D19:Q19) -> 0 | AC19: =SUM(R19:V19) -> 0 | AD19: =SUM(W19:Z19) -> 0
A20: ='11-09 Marktäckning'!A20 -> 8 | B20: ='11-09 Marktäckning'!B20 -> 3 | C20: ='11-09 Marktäckning'!C20 -> 2 | D20: 70 | E20: 90 | N20: 80 | AA20: =AB20+AC20+AD20+AE20 -> 240 | AB20: =SUM(D20:Q20) -> 240 | AC20: =SUM(R20:V20) -> 0 | AD20: =SUM(W20:Z20) -> 0
A21: ='11-09 Marktäckning'!A21 -> 9 | B21: ='11-09 Marktäckning'!B21 -> 5 | C21: ='11-09 Marktäckning'!C21 -> 2 | D21: 85 | E21: 100 | N21: 90 | AA21: =AB21+AC21+AD21+AE21 -> 275 | AB21: =SUM(D21:Q21) -> 275 | AC21: =SUM(R21:V21) -> 0 | AD21: =SUM(W21:Z21) -> 0
A22: ='11-09 Marktäckning'!A22 -> 10 | B22: ='11-09 Marktäckning'!B22 -> 6 | C22: ='11-09 Marktäckning'!C22 -> 2 | D22: 75 | E22: 80 | N22: 75 | AA22: =AB22+AC22+AD22+AE22 -> 230 | AB22: =SUM(D22:Q22) -> 230 | AC22: =SUM(R22:V22) -> 0 | AD22: =SUM(W22:Z22) -> 0
A23: ='11-09 Marktäckning'!A23 -> 11 | B23: ='11-09 Marktäckning'!B23 -> 2 | C23: ='11-09 Marktäckning'!C23 -> 2 | D23: 90 | E23: 80 | N23: 85 | AA23: =AB23+AC23+AD23+AE23 -> 255 | AB23: =SUM(D23:Q23) -> 255 | AC23: =SUM(R23:V23) -> 0 | AD23: =SUM(W23:Z23) -> 0
A24: ='11-09 Marktäckning'!A24 -> 12 | B24: ='11-09 Marktäckning'!B24 -> 4 | C24: ='11-09 Marktäckning'!C24 -> 2 | D24: 80 | E24: 100 | N24: 85 | AA24: =AB24+AC24+AD24+AE24 -> 265 | AB24: =SUM(D24:Q24) -> 265 | AC24: =SUM(R24:V24) -> 0 | AD24: =SUM(W24:Z24) -> 0
A25: ='11-09 Marktäckning'!A25 -> 13 | B25: ='11-09 Marktäckning'!B25 -> 4 | C25: ='11-09 Marktäckning'!C25 -> 3 | D25: 80 | E25: 100 | N25: 85 | AA25: =AB25+AC25+AD25+AE25 -> 265 | AB25: =SUM(D25:Q25) -> 265 | AC25: =SUM(R25:V25) -> 0 | AD25: =SUM(W25:Z25) -> 0
A26: ='11-09 Marktäckning'!A26 -> 14 | B26: ='11-09 Marktäckning'!B26 -> 2 | C26: ='11-09 Marktäckning'!C26 -> 3 | D26: 85 | E26: 80 | N26: 80 | AA26: =AB26+AC26+AD26+AE26 -> 245 | AB26: =SUM(D26:Q26) -> 245 | AC26: =SUM(R26:V26) -> 0 | AD26: =SUM(W26:Z26) -> 0
A27: ='11-09 Marktäckning'!A27 -> 15 | B27: ='11-09 Marktäckning'!B27 -> 3 | C27: ='11-09 Marktäckning'!C27 -> 3 | D27: 70 | E27: 80 | N27: 80 | AA27: =AB27+AC27+AD27+AE27 -> 230 | AB27: =SUM(D27:Q27) -> 230 | AC27: =SUM(R27:V27) -> 0 | AD27: =SUM(W27:Z27) -> 0
A28: ='11-09 Marktäckning'!A28 -> 16 | B28: ='11-09 Marktäckning'!B28 -> 5 | C28: ='11-09 Marktäckning'!C28 -> 3 | D28: 85 | E28: 100 | N28: 85 | AA28: =AB28+AC28+AD28+AE28 -> 270 | AB28: =SUM(D28:Q28) -> 270 | AC28: =SUM(R28:V28) -> 0 | AD28: =SUM(W28:Z28) -> 0
A29: ='11-09 Marktäckning'!A29 -> 17 | B29: ='11-09 Marktäckning'!B29 -> 1 | C29: ='11-09 Marktäckning'!C29 -> 3 | AA29: =AB29+AC29+AD29+AE29 -> 0 | AB29: =SUM(D29:Q29) -> 0 | AC29: =SUM(R29:V29) -> 0 | AD29: =SUM(W29:Z29) -> 0
A30: ='11-09 Marktäckning'!A30 -> 18 | B30: ='11-09 Marktäckning'!B30 -> 6 | C30: ='11-09 Marktäckning'!C30 -> 3 | D30: 80 | E30: 80 | N30: 80 | AA30: =AB30+AC30+AD30+AE30 -> 240 | AB30: =SUM(D30:Q30) -> 240 | AC30: =SUM(R30:V30) -> 0 | AD30: =SUM(W30:Z30) -> 0
A31: ='11-09 Marktäckning'!A31 -> 19 | B31: ='11-09 Marktäckning'!B31 -> 2 | C31: ='11-09 Marktäckning'!C31 -> 4 | D31: 90 | E31: 80 | N31: 85 | AA31: =AB31+AC31+AD31+AE31 -> 255 | AB31: =SUM(D31:Q31) -> 255 | AC31: =SUM(R31:V31) -> 0 | AD31: =SUM(W31:Z31) -> 0
A32: ='11-09 Marktäckning'!A32 -> 20 | B32: ='11-09 Marktäckning'!B32 -> 6 | C32: ='11-09 Marktäckning'!C32 -> 4 | D32: 80 | E32: 80 | N32: 80 | AA32: =AB32+AC32+AD32+AE32 -> 240 | AB32: =SUM(D32:Q32) -> 240 | AC32: =SUM(R32:V32) -> 0 | AD32: =SUM(W32:Z32) -> 0
A33: ='11-09 Marktäckning'!A33 -> 21 | B33: ='11-09 Marktäckning'!B33 -> 1 | C33: ='11-09 Marktäckning'!C33 -> 4 | AA33: =AB33+AC33+AD33+AE33 -> 0 | AB33: =SUM(D33:Q33) -> 0 | AC33: =SUM(R33:V33) -> 0 | AD33: =SUM(W33:Z33) -> 0
A34: ='11-09 Marktäckning'!A34 -> 22 | B34: ='11-09 Marktäckning'!B34 -> 4 | C34: ='11-09 Marktäckning'!C34 -> 4 | D34: 85 | E34: 100 | N34: 85 | AA34: =AB34+AC34+AD34+AE34 -> 270 | AB34: =SUM(D34:Q34) -> 270 | AC34: =SUM(R34:V34) -> 0 | AD34: =SUM(W34:Z34) -> 0
A35: ='11-09 Marktäckning'!A35 -> 23 | B35: ='11-09 Marktäckning'!B35 -> 3 | C35: ='11-09 Marktäckning'!C35 -> 4 | D35: 75 | E35: 85 | N35: 80 | AA35: =AB35+AC35+AD35+AE35 -> 240 | AB35: =SUM(D35:Q35) -> 240 | AC35: =SUM(R35:V35) -> 0 | AD35: =SUM(W35:Z35) -> 0
A36: ='11-09 Marktäckning'!A36 -> 24 | B36: ='11-09 Marktäckning'!B36 -> 5 | C36: ='11-09 Marktäckning'!C36 -> 4 | D36: 85 | E36: 100 | N36: 85 | AA36: =AB36+AC36+AD36+AE36 -> 270 | AB36: =SUM(D36:Q36) -> 270 | AC36: =SUM(R36:V36) -> 0 | AD36: =SUM(W36:Z36) -> 0

Sheet 03-26 marktäckning
A1: Ogräsgradering marktäckning
A2: Försöksserie: | D2: ='11-09 Marktäckning'!D2 -> Örtogräsbekämpning i höstraps, plöjt, höstbehandling
A3: Plan nr: | D3: ='11-09 Marktäckning'!D3 -> L5-8010P
A4: Försöks nr: | D4: ='11-09 Marktäckning'!D5 -> 0561501
A5: ADB nr: | D5: ='11-09 Marktäckning'!D4 -> I-811-2019
A6: Utveckling | D6: DC 52
A7: Datum: | D7: 43916
D9: Ettåriga örtogräs marktäckning | R9: Övriga fleråriga örtogräs marktäckning | W9: Övriga gräsogräs % marktäckning | AA9: Marktäckning ogräs totalt % | AB9: Marktäckning samtliga ettåriga örtogräs % | AC9: Marktäckning övriga fleråriga örtogräs % | AD9: Marktäckning gräsogräs % | AE9: Marktäckning fräken %
D10: 1 | E10: 2 | F10: 3 | G10: 4 | H10: 5 | I10: 6 | J10: 7 | K10: 8 | L10: 9 | M10: 10 | N10: 11 | O10: 12 | P10: 13 | Q10: 14 | R10: 15 | S10: 16 | T10: 17 | U10: 18 | V10: 19 | W10: 20 | X10: 21 | Y10: 22 | Z10: 23
A11: Ruta nr | B11: Led | C11: Block | D11: ='11-09 Marktäckning'!D12 -> Blåklint | E11: ='11-09 Marktäckning'!E12 -> Kornvallmo | F11: ='11-09 Marktäckning'!F12 -> Åkerveronika | G11: ='11-09 Marktäckning'!G12 -> Åkerviol | H11: ='11-09 Marktäckning'!H12 -> Mjuknäva | I11: Baldersbrå | J11: Lomme | K11: Riddarsporre | L11: I | M11: J | P11: M | Q11: N | R11: O | S11: P | T11: Q | U11: R | V11: S | W11: Spillsäd | X11: U | Y11: V | Z11: X
A12: ='11-09 Marktäckning'!A13 -> 1 | B12: ='11-09 Marktäckning'!B13 -> 1 | C12: ='11-09 Marktäckning'!C13 -> 1 | D12: 50 | E12: 15 | F12: 15 | G12: 3 | H12: 2 | I12: 1 | J12: 5 | K12: 1 | W12: 0 | AA12: =AB12+AC12+AD12+AE12 -> 92 | AB12: =SUM(D12:N12) -> 92 | AC12: =SUM(R12:V12) -> 0 | AD12: =SUM(W12:Z12) -> 0
A13: ='11-09 Marktäckning'!A14 -> 2 | B13: ='11-09 Marktäckning'!B14 -> 5 | C13: ='11-09 Marktäckning'!C14 -> 1 | D13: 0 | E13: 0 | F13: 2 | G13: 3 | H13: 0 | I13: 0 | J13: 1 | K13: 0 | W13: 0 | AA13: =AB13+AC13+AD13+AE13 -> 6 | AB13: =SUM(D13:N13) -> 6 | AC13: =SUM(R13:V13) -> 0 | AD13: =SUM(W13:Z13) -> 0
A14: ='11-09 Marktäckning'!A15 -> 3 | B14: ='11-09 Marktäckning'!B15 -> 2 | C14: ='11-09 Marktäckning'!C15 -> 1 | D14: 0 | E14: 0 | F14: 1 | G14: 10 | H14: 0 | I14: 0 | J14: 0 | K14: 1 | W14: 0 | AA14: =AB14+AC14+AD14+AE14 -> 12 | AB14: =SUM(D14:N14) -> 12 | AC14: =SUM(R14:V14) -> 0 | AD14: =SUM(W14:Z14) -> 0
A15: ='11-09 Marktäckning'!A16 -> 4 | B15: ='11-09 Marktäckning'!B16 -> 3 | C15: ='11-09 Marktäckning'!C16 -> 1 | D15: 20 | E15: 3 | F15: 1 | G15: 5 | H15: 0 | I15: 0 | J15: 3 | K15: 2 | W15: 0 | AA15: =AB15+AC15+AD15+AE15 -> 34 | AB15: =SUM(D15:N15) -> 34 | AC15: =SUM(R15:V15) -> 0 | AD15: =SUM(W15:Z15) -> 0
A16: ='11-09 Marktäckning'!A17 -> 5 | B16: ='11-09 Marktäckning'!B17 -> 6 | C16: ='11-09 Marktäckning'!C17 -> 1 | D16: 0 | E16: 0 | F16: 3 | G16: 2 | H16: 0 | I16: 0 | J16: 3 | K16: 0 | W16: 0 | AA16: =AB16+AC16+AD16+AE16 -> 8 | AB16: =SUM(D16:N16) -> 8 | AC16: =SUM(R16:V16) -> 0 | AD16: =SUM(W16:Z16) -> 0
A17: ='11-09 Marktäckning'!A18 -> 6 | B17: ='11-09 Marktäckning'!B18 -> 4 | C17: ='11-09 Marktäckning'!C18 -> 1 | D17: 0 | E17: 0 | F17: 5 | G17: 5 | H17: 0 | I17: 0 | J17: 2 | K17: 0 | W17: 0 | AA17: =AB17+AC17+AD17+AE17 -> 12 | AB17: =SUM(D17:N17) -> 12 | AC17: =SUM(R17:V17) -> 0 | AD17: =SUM(W17:Z17) -> 0
A18: ='11-09 Marktäckning'!A19 -> 7 | B18: ='11-09 Marktäckning'!B19 -> 1 | C18: ='11-09 Marktäckning'!C19 -> 2 | D18: 40 | E18: 10 | F18: 10 | G18: 5 | H18: 2 | I18: 0 | J18: 5 | K18: 2 | W18: 0 | AA18: =AB18+AC18+AD18+AE18 -> 74 | AB18: =SUM(D18:N18) -> 74 | AC18: =SUM(R18:V18) -> 0 | AD18: =SUM(W18:Z18) -> 0
A19: ='11-09 Marktäckning'!A20 -> 8 | B19: ='11-09 Marktäckning'!B20 -> 3 | C19: ='11-09 Marktäckning'!C20 -> 2 | D19: 20 | E19: 5 | F19: 0 | G19: 7 | H19: 0 | I19: 0 | J19: 2 | K19: 2 | W19: 0 | AA19: =AB19+AC19+AD19+AE19 -> 36 | AB19: =SUM(D19:N19) -> 36 | AC19: =SUM(R19:V19) -> 0 | AD19: =SUM(W19:Z19) -> 0
A20: ='11-09 Marktäckning'!A21 -> 9 | B20: ='11-09 Marktäckning'!B21 -> 5 | C20: ='11-09 Marktäckning'!C21 -> 2 | D20: 0 | E20: 0 | F20: 1 | G20: 5 | H20: 0 | I20: 0 | J20: 1 | K20: 0 | W20: 0 | AA20: =AB20+AC20+AD20+AE20 -> 7 | AB20: =SUM(D20:N20) -> 7 | AC20: =SUM(R20:V20) -> 0 | AD20: =SUM(W20:Z20) -> 0
A21: ='11-09 Marktäckning'!A22 -> 10 | B21: ='11-09 Marktäckning'!B22 -> 6 | C21: ='11-09 Marktäckning'!C22 -> 2 | D21: 0 | E21: 0 | F21: 1 | G21: 5 | H21: 0 | I21: 0 | J21: 10 | K21: 0 | W21: 0 | AA21: =AB21+AC21+AD21+AE21 -> 16 | AB21: =SUM(D21:N21) -> 16 | AC21: =SUM(R21:V21) -> 0 | AD21: =SUM(W21:Z21) -> 0
A22: ='11-09 Marktäckning'!A23 -> 11 | B22: ='11-09 Marktäckning'!B23 -> 2 | C22: ='11-09 Marktäckning'!C23 -> 2 | D22: 0 | E22: 0 | F22: 1 | G22: 7 | H22: 0 | I22: 0 | J22: 0 | K22: 0 | W22: 0 | AA22: =AB22+AC22+AD22+AE22 -> 8 | AB22: =SUM(D22:N22) -> 8 | AC22: =SUM(R22:V22) -> 0 | AD22: =SUM(W22:Z22) -> 0
A23: ='11-09 Marktäckning'!A24 -> 12 | B23: ='11-09 Marktäckning'!B24 -> 4 | C23: ='11-09 Marktäckning'!C24 -> 2 | D23: 0 | E23: 0 | F23: 3 | G23: 2 | H23: 0 | I23: 0 | J23: 3 | K23: 0 | W23: 0 | AA23: =AB23+AC23+AD23+AE23 -> 8 | AB23: =SUM(D23:N23) -> 8 | AC23: =SUM(R23:V23) -> 0 | AD23: =SUM(W23:Z23) -> 0
... A35: ='11-09 Marktäckning'!A36 -> 24 | B35: ='11-09 Marktäckning'!B36 -> 5 | C35: ='11-09 Marktäckning'!C36 -> 4 | D35: 0 | E35: 0 | F35: 1 | G35: 5 | H35: 0 | I35: 0 | J35: 5 | K35: 0 | W35: 0 | AA35: =AB35+AC35+AD35+AE35 -> 11 | AB35: =SUM(D35:N35) -> 11 | AC35: =SUM(R35:V35) -> 0 | AD35: =SUM(W35:Z35) -> 0

Sheet 03-26 effekt
A1: Ogräsgradering effektgradering
A2: Försöksserie: | D2: Örtogräsbekämpning i höstraps, plöjt, höstbehandling
A3: Plan nr: | D3: L5-8010P
A4: Försöks nr: | D4: I-811-2019
A5: ADB nr: | D5: 0561501
A6: Utveckling | D6: DC 52
A7: Datum: | D7: 43916
D9: Ettåriga örtogräs effektgradering | R9: Övriga fleråriga örtogräs effektgradering | W9: Övriga gräsogräs % effektgradering | AA9: Effektgradering ogräs totalt % | AB9: Effektgradering samtliga ettåriga örtogräs % | AC9: Effektgradering övriga fleråriga örtogräs % | AD9: Effektgradering gräsogräs % | AE9: Effektgradering fräken %
D10: 1 | E10: 2 | F10: 3 | G10: 4 | H10: 5 | I10: 6 | J10: 7 | K10: 8 | L10: 9 | M10: 10 | N10: 11 | O10: 12 | P10: 13 | Q10: 14 | R10: 15 | S10: 16 | T10: 17 | U10: 18 | V10: 19 | W10: 20 | X10: 21 | Y10: 22 | Z10: 23
A11: Ruta nr | B11: Led | C11: Block | D11: ='11-09 Effekt'!D12 -> Blåklint | E11: ='11-09 Effekt'!E12 -> Kornvallmo | F11: ='11-09 Effekt'!F12 -> Åkerveronika | G11: ='11-09 Effekt'!G12 -> Åkerviol | H11: ='11-09 Effekt'!H12 -> Mjuknäva | I11: ='11-09 Effekt'!I12 -> F | J11: G | K11: H | L11: I | M11: J | N11: Total effekt | O11: L | P11: M | Q11: ='11-09 Effekt'!O12 -> Spillsäd | R11: O | S11: P | T11: Q | U11: R | V11: S | W11: T | X11: U | Y11: V | Z11: X
A12: ='11-09 Marktäckning'!A13 -> 1 | B12: ='11-09 Marktäckning'!B13 -> 1 | C12: ='11-09 Marktäckning'!C13 -> 1 | AA12: =AB12+AC12+AD12+AE12 -> 0 | AB12: =SUM(D12:Q12) -> 0 | AC12: =SUM(R12:V12) -> 0 | AD12: =SUM(W12:Z12) -> 0
A13: ='11-09 Marktäckning'!A14 -> 2 | B13: ='11-09 Marktäckning'!B14 -> 5 | C13: ='11-09 Marktäckning'!C14 -> 1 | D13: 100 | E13: 100 | N13: 95 | AA13: =AB13+AC13+AD13+AE13 -> 295 | AB13: =SUM(D13:Q13) -> 295 | AC13: =SUM(R13:V13) -> 0 | AD13: =SUM(W13:Z13) -> 0
A14: ='11-09 Marktäckning'!A15 -> 3 | B14: ='11-09 Marktäckning'!B15 -> 2 | C14: ='11-09 Marktäckning'!C15 -> 1 | D14: 100 | E14: 100 | N14: 90 | AA14: =AB14+AC14+AD14+AE14 -> 290 | AB14: =SUM(D14:Q14) -> 290 | AC14: =SUM(R14:V14) -> 0 | AD14: =SUM(W14:Z14) -> 0
A15: ='11-09 Marktäckning'!A16 -> 4 | B15: ='11-09 Marktäckning'!B16 -> 3 | C15: ='11-09 Marktäckning'!C16 -> 1 | D15: 35 | E15: 50 | N15: 50 | AA15: =AB15+AC15+AD15+AE15 -> 135 | AB15: =SUM(D15:Q15) -> 135 | AC15: =SUM(R15:V15) -> 0 | AD15: =SUM(W15:Z15) -> 0
A16: ='11-09 Marktäckning'!A17 -> 5 | B16: ='11-09 Marktäckning'!B17 -> 6 | C16: ='11-09 Marktäckning'!C17 -> 1 | D16: 100 | E16: 100 | N16: 85 | AA16: =AB16+AC16+AD16+AE16 -> 285 | AB16: =SUM(D16:Q16) -> 285 | AC16: =SUM(R16:V16) -> 0 | AD16: =SUM(W16:Z16) -> 0
A17: ='11-09 Marktäckning'!A18 -> 6 | B17: ='11-09 Marktäckning'!B18 -> 4 | C17: ='11-09 Marktäckning'!C18 -> 1 | D17: 100 | E17: 100 | N17: 93 | AA17: =AB17+AC17+AD17+AE17 -> 293 | AB17: =SUM(D17:Q17) -> 293 | AC17: =SUM(R17:V17) -> 0 | AD17: =SUM(W17:Z17) -> 0
A18: ='11-09 Marktäckning'!A19 -> 7 | B18: ='11-09 Marktäckning'!B19 -> 1 | C18: ='11-09 Marktäckning'!C19 -> 2 | AA18: =AB18+AC18+AD18+AE18 -> 0 | AB18: =SUM(D18:Q18) -> 0 | AC18: =SUM(R18:V18) -> 0 | AD18: =SUM(W18:Z18) -> 0
A19: ='11-09 Marktäckning'!A20 -> 8 | B19: ='11-09 Marktäckning'!B20 -> 3 | C19: ='11-09 Marktäckning'!C20 -> 2 | D19: 35 | E19: 50 | N19: 40 | AA19: =AB19+AC19+AD19+AE19 -> 125 | AB19: =SUM(D19:Q19) -> 125 | AC19: =SUM(R19:V19) -> 0 | AD19: =SUM(W19:Z19) -> 0
A20: ='11-09 Marktäckning'!A21 -> 9 | B20: ='11-09 Marktäckning'!B21 -> 5 | C20: ='11-09 Marktäckning'!C21 -> 2 | D20: 100 | E20: 100 | N20: 97 | AA20: =AB20+AC20+AD20+AE20 -> 297 | AB20: =SUM(D20:Q20) -> 297 | AC20: =SUM(R20:V20) -> 0 | AD20: =SUM(W20:Z20) -> 0
A21: ='11-09 Marktäckning'!A22 -> 10 | B21: ='11-09 Marktäckning'!B22 -> 6 | C21: ='11-09 Marktäckning'!C22 -> 2 | D21: 100 | E21: 100 | N21: 85 | AA21: =AB21+AC21+AD21+AE21 -> 285 | AB21: =SUM(D21:Q21) -> 285 | AC21: =SUM(R21:V21) -> 0 | AD21: =SUM(W21:Z21) -> 0
A22: ='11-09 Marktäckning'!A23 -> 11 | B22: ='11-09 Marktäckning'!B23 -> 2 | C22: ='11-09 Marktäckning'!C23 -> 2 | D22: 100 | E22: 100 | N22: 93 | AA22: =AB22+AC22+AD22+AE22 -> 293 | AB22: =SUM(D22:Q22) -> 293 | AC22: =SUM(R22:V22) -> 0 | AD22: =SUM(W22:Z22) -> 0
A23: ='11-09 Marktäckning'!A24 -> 12 | B23: ='11-09 Marktäckning'!B24 -> 4 | C23: ='11-09 Marktäckning'!C24 -> 2 | D23: 100 | E23: 100 | N23: 95 | AA23: =AB23+AC23+AD23+AE23 -> 295 | AB23: =SUM(D23:Q23) -> 295 | AC23: =SUM(R23:V23) -> 0 | AD23: =SUM(W23:Z23) -> 0
A24: ='11-09 Marktäckning'!A25 -> 13 | B24: ='11-09 Marktäckning'!B25 -> 4 | C24: ='11-09 Marktäckning'!C25 -> 3 | D24: 100 | E24: 100 | N24: 93 | AA24: =AB24+AC24+AD24+AE24 -> 293 | AB24: =SUM(D24:Q24) -> 293 | AC24: =SUM(R24:V24) -> 0 | AD24: =SUM(W24:Z24) -> 0
A25: ='11-09 Marktäckning'!A26 -> 14 | B25: ='11-09 Marktäckning'!B26 -> 2 | C25: ='11-09 Marktäckning'!C26 -> 3 | D25: 100 | E25: 100 | N25: 95 | AA25: =AB25+AC25+AD25+AE25 -> 295 | AB25: =SUM(D25:Q25) -> 295 | AC25: =SUM(R25:V25) -> 0 | AD25: =SUM(W25:Z25) -> 0
A26: ='11-09 Marktäckning'!A27 -> 15 | B26: ='11-09 Marktäckning'!B27 -> 3 | C26: ='11-09 Marktäckning'!C27 -> 3 | D26: 40 | E26: 50 | N26: 50 | AA26: =AB26+AC26+AD26+AE26 -> 140 | AB26: =SUM(D26:Q26) -> 140 | AC26: =SUM(R26:V26) -> 0 | AD26: =SUM(W26:Z26) -> 0
A27: ='11-09 Marktäckning'!A28 -> 16 | B27: ='11-09 Marktäckning'!B28 -> 5 | C27: ='11-09 Marktäckning'!C28 -> 3 | D27: 100 | E27: 100 | N27: 97 | AA27: =AB27+AC27+AD27+AE27 -> 297 | AB27: =SUM(D27:Q27) -> 297 | AC27: =SUM(R27:V27) -> 0 | AD27: =SUM(W27:Z27) -> 0
A28: ='11-09 Marktäckning'!A29 -> 17 | B28: ='11-09 Marktäckning'!B29 -> 1 | C28: ='11-09 Marktäckning'!C29 -> 3 | AA28: =AB28+AC28+AD28+AE28 -> 0 | AB28: =SUM(D28:Q28) -> 0 | AC28: =SUM(R28:V28) -> 0 | AD28: =SUM(W28:Z28) -> 0
A29: ='11-09 Marktäckning'!A30 -> 18 | B29: ='11-09 Marktäckning'!B30 -> 6 | C29: ='11-09 Marktäckning'!C30 -> 3 | D29: 100 | E29: 100 | N29: 95 | AA29: =AB29+AC29+AD29+AE29 -> 295 | AB29: =SUM(D29:Q29) -> 295 | AC29: =SUM(R29:V29) -> 0 | AD29: =SUM(W29:Z29) -> 0
A30: ='11-09 Marktäckning'!A31 -> 19 | B30: ='11-09 Marktäckning'!B31 -> 2 | C30: ='11-09 Marktäckning'!C31 -> 4 | D30: 100 | E30: 100 | N30: 93 | AA30: =AB30+AC30+AD30+AE30 -> 293 | AB30: =SUM(D30:Q30) -> 293 | AC30: =SUM(R30:V30) -> 0 | AD30: =SUM(W30:Z30) -> 0
A31: ='11-09 Marktäckning'!A32 -> 20 | B31: ='11-09 Marktäckning'!B32 -> 6 | C31: ='11-09 Marktäckning'!C32 -> 4 | D31: 100 | E31: 100 | N31: 85 | AA31: =AB31+AC31+AD31+AE31 -> 285 | AB31: =SUM(D31:Q31) -> 285 | AC31: =SUM(R31:V31) -> 0 | AD31: =SUM(W31:Z31) -> 0
A32: ='11-09 Marktäckning'!A33 -> 21 | B32: ='11-09 Marktäckning'!B33 -> 1 | C32: ='11-09 Marktäckning'!C33 -> 4 | AA32: =AB32+AC32+AD32+AE32 -> 0 | AB32: =SUM(D32:Q32) -> 0 | AC32: =SUM(R32:V32) -> 0 | AD32: =SUM(W32:Z32) -> 0
A33: ='11-09 Marktäckning'!A34 -> 22 | B33: ='11-09 Marktäckning'!B34 -> 4 | C33: ='11-09 Marktäckning'!C34 -> 4 | D33: 100 | E33: 100 | N33: 93 | AA33: =AB33+AC33+AD33+AE33 -> 293 | AB33: =SUM(D33:Q33) -> 293 | AC33: =SUM(R33:V33) -> 0 | AD33: =SUM(W33:Z33) -> 0
A34: ='11-09 Marktäckning'!A35 -> 23 | B34: ='11-09 Marktäckning'!B35 -> 3 | C34: ='11-09 Marktäckning'!C35 -> 4 | D34: 40 | E34: 50 | N34: 60 | AA34: =AB34+AC34+AD34+AE34 -> 150 | AB34: =SUM(D34:Q34) -> 150 | AC34: =SUM(R34:V34) -> 0 | AD34: =SUM(W34:Z34) -> 0
A35: ='11-09 Marktäckning'!A36 -> 24 | B35: ='11-09 Marktäckning'!B36 -> 5 | C35: ='11-09 Marktäckning'!C36 -> 4 | D35: 100 | E35: 100 | N35: 97 | AA35: =AB35+AC35+AD35+AE35 -> 297 | AB35: =SUM(D35:Q35) -> 297 | AC35: =SUM(R35:V35) -> 0 | AD35: =SUM(W35:Z35) -> 0

Sheet 04-21 marktäckning
A1: Ogräsgradering marktäckning
A2: Försöksserie: | D2: ='11-09 Marktäckning'!D2 -> Örtogräsbekämpning i höstraps, plöjt, höstbehandling
A3: Plan nr: | D3: ='11-09 Marktäckning'!D3 -> L5-8010P
A4: Försöks nr: | D4: ='11-09 Marktäckning'!D5 -> 0561501
A5: ADB nr: | D5: ='11-09 Marktäckning'!D4 -> I-811-2019
D6: DC 59
A7: Datum: | D7: 43942
D9: Ettåriga örtogräs marktäckning | R9: Övriga fleråriga örtogräs marktäckning | W9: Övriga gräsogräs % marktäckning | AA9: Marktäckning ogräs totalt % | AB9: Marktäckning samtliga ettåriga örtogräs % | AC9: Marktäckning övriga fleråriga örtogräs % | AD9: Marktäckning gräsogräs % | AE9: Marktäckning fräken %
D10: 1 | E10: 2 | F10: 3 | G10: 4 | H10: 5 | I10: 6 | J10: 7 | K10: 8 | L10: 9 | M10: 10 | N10: 11 | O10: 12 | P10: 13 | Q10: 14 | R10: 15 | S10: 16 | T10: 17 | U10: 18 | V10: 19 | W10: 20 | X10: 21 | Y10: 22 | Z10: 23
A11: Ruta nr | B11: Led | C11: Block | D11: ='03-26 marktäckning'!D11 -> Blåklint | E11: ='03-26 marktäckning'!E11 -> Kornvallmo | F11: ='03-26 marktäckning'!F11 -> Åkerveronika | G11: ='03-26 marktäckning'!G11 -> Åkerviol | H11: ='03-26 marktäckning'!H11 -> Mjuknäva | I11: ='03-26 marktäckning'!I11 -> Baldersbrå | J11: ='03-26 marktäckning'!J11 -> Lomme | K11: ='03-26 marktäckning'!K11 -> Riddarsporre | L11: Plister | M11: ='03-26 marktäckning'!M11 -> J | N11: ='03-26 marktäckning'!N11 -> 0 | O11: ='03-26 marktäckning'!O11 -> 0 | P11: ='03-26 marktäckning'!P11 -> M | Q11: ='03-26 marktäckning'!Q11 -> N | R11: O | S11: P | T11: Q | U11: R | V11: S | W11: Spillsäd | X11: U | Y11: V | Z11: X
A12: ='11-09 Marktäckning'!A13 -> 1 | B12: ='11-09 Marktäckning'!B13 -> 1 | C12: ='11-09 Marktäckning'!C13 -> 1 | D12: 50 | E12: 10 | F12: 3 | G12: 3 | H12: 2 | I12: 0 | J12: 3 | K12: 2 | L12: 1 | AA12: =AB12+AC12+AD12+AE12 -> 74 | AB12: =SUM(D12:Q12) -> 74 | AC12: =SUM(R12:V12) -> 0 | AD12: =SUM(W12:Z12) -> 0
A13: ='11-09 Marktäckning'!A14 -> 2 | B13: ='11-09 Marktäckning'!B14 -> 5 | C13: ='11-09 Marktäckning'!C14 -> 1 | D13: 0 | E13: 0 | F13: 1 | G13: 5 | H13: 0 | I13: 0 | J13: 0.5 | K13: 0 | L13: 0 | W13: 0 | AA13: =AB13+AC13+AD13+AE13 -> 6.5 | AB13: =SUM(D13:Q13) -> 6.5 | AC13: =SUM(R13:V13) -> 0 | AD13: =SUM(W13:Z13) -> 0
A14: ='11-09 Marktäckning'!A15 -> 3 | B14: ='11-09 Marktäckning'!B15 -> 2 | C14: ='11-09 Marktäckning'!C15 -> 1 | D14: 0 | E14: 0 | F14: 1 | G14: 10 | H14: 0 | I14: 0 | J14: 0 | K14: 0 | L14: 0 | W14: 0 | AA14: =AB14+AC14+AD14+AE14 -> 11 | AB14: =SUM(D14:Q14) -> 11 | AC14: =SUM(R14:V14) -> 0 | AD14: =SUM(W14:Z14) -> 0
A15: ='11-09 Marktäckning'!A16 -> 4 | B15: ='11-09 Marktäckning'!B16 -> 3 | C15: ='11-09 Marktäckning'!C16 -> 1 | D15: 30 | E15: 5 | F15: 0 | G15: 3 | H15: 0 | I15: 0 | J15: 3 | K15: 2 | L15: 0 | W15: 0 | AA15: =AB15+AC15+AD15+AE15 -> 43 | AB15: =SUM(D15:Q15) -> 43 | AC15: =SUM(R15:V15) -> 0 | AD15: =SUM(W15:Z15) -> 0
A16: ='11-09 Marktäckning'!A17 -> 5 | B16: ='11-09 Marktäckning'!B17 -> 6 | C16: ='11-09 Marktäckning'!C17 -> 1 | D16: 0 | E16: 0 | F16: 2 | G16: 2 | H16: 0 | I16: 0 | J16: 3 | K16: 0 | L16: 0 | W16: 0 | AA16: =AB16+AC16+AD16+AE16 -> 7 | AB16: =SUM(D16:Q16) -> 7 | AC16: =SUM(R16:V16) -> 0 | AD16: =SUM(W16:Z16) -> 0
A17: ='11-09 Marktäckning'!A18 -> 6 | B17: ='11-09 Marktäckning'!B18 -> 4 | C17: ='11-09 Marktäckning'!C18 -> 1 | D17: 0 | E17: 0 | F17: 5 | G17: 5 | H17: 0 | I17: 0 | J17: 1 | K17: 0 | L17: 0 | W17: 0 | AA17: =AB17+AC17+AD17+AE17 -> 11 | AB17: =SUM(D17:Q17) -> 11 | AC17: =SUM(R17:V17) -> 0 | AD17: =SUM(W17:Z17) -> 0
A18: ='11-09 Marktäckning'!A19 -> 7 | B18: ='11-09 Marktäckning'!B19 -> 1 | C18: ='11-09 Marktäckning'!C19 -> 2 | D18: 40 | E18: 10 | F18: 10 | G18: 1 | H18: 2 | I18: 0 | J18: 3 | K18: 1 | L18: 1 | W18: 0 | AA18: =AB18+AC18+AD18+AE18 -> 68 | AB18: =SUM(D18:Q18) -> 68 | AC18: =SUM(R18:V18) -> 0 | AD18: =SUM(W18:Z18) -> 0
A19: ='11-09 Marktäckning'!A20 -> 8 | B19: ='11-09 Marktäckning'!B20 -> 3 | C19: ='11-09 Marktäckning'!C20 -> 2 | D19: 25 | E19: 5 | F19: 1 | G19: 2 | H19: 0 | I19: 0 | J19: 3 | K19: 1 | L19: 0.1 | W19: 0 | AA19: =AB19+AC19+AD19+AE19 -> 37.1 | AB19: =SUM(D19:Q19) -> 37.1 | AC19: =SUM(R19:V19) -> 0 | AD19: =SUM(W19:Z19) -> 0
A20: ='11-09 Marktäckning'!A21 -> 9 | B20: ='11-09 Marktäckning'!B21 -> 5 | C20: ='11-09 Marktäckning'!C21 -> 2 | D20: 0 | E20: 0 | F20: 0.5 | G20: 5 | H20: 0 | I20: 0 | J20: 0.5 | K20: 0 | L20: 0 | W20: 0 | AA20: =AB20+AC20+AD20+AE20 -> 6 | AB20: =SUM(D20:Q20) -> 6 | AC20: =SUM(R20:V20) -> 0 | AD20: =SUM(W20:Z20) -> 0
A21: ='11-09 Marktäckning'!A22 -> 10 | B21: ='11-09 Marktäckning'!B22 -> 6 | C21: ='11-09 Marktäckning'!C22 -> 2 | D21: 0 | E21: 0 | F21: 1 | G21: 3 | H21: 0 | I21: 0 | J21: 5 | K21: 0 | L21: 0 | W21: 0 | AA21: =AB21+AC21+AD21+AE21 -> 9 | AB21: =SUM(D21:Q21) -> 9 | AC21: =SUM(R21:V21) -> 0 | AD21: =SUM(W21:Z21) -> 0
A22: ='11-09 Marktäckning'!A23 -> 11 | B22: ='11-09 Marktäckning'!B23 -> 2 | C22: ='11-09 Marktäckning'!C23 -> 2 | D22: 0 | E22: 0 | F22: 1 | G22: 10 | H22: 0 | I22: 0 | J22: 0 | K22: 0 | L22: 0 | W22: 0 | AA22: =AB22+AC22+AD22+AE22 -> 11 | AB22: =SUM(D22:Q22) -> 11 | AC22: =SUM(R22:V22) -> 0 | AD22: =SUM(W22:Z22) -> 0
A23: ='11-09 Marktäckning'!A24 -> 12 | B23: ='11-09 Marktäckning'!B24 -> 4 | C23: ='11-09 Marktäckning'!C24 -> 2 | D23: 0 | E23: 0 | F23: 1 | G23: 7 | H23: 0 | I23: 0 | J23: 0 | K23: 0 | L23: 0 | W23: 0 | AA23: =AB23+AC23+AD23+AE23 -> 8 | AB23: =SUM(D23:Q23) -> 8 | AC23: =SUM(R23:V23) -> 0 | AD23: =SUM(W23:Z23) -> 0
A24: ='11-09 Marktäckning'!A25 -> 13 | B24: ='11-09 Marktäckning'!B25 -> 4 | C24: ='11-09 Marktäckning'!C25 -> 3 | D24: 0 | E24: 0 | F24: 5 | G24: 7 | H24: 0 | I24: 0 | J24: 0 | K24: 0 | L24: 0 | W24: 0 | AA24: =AB24+AC24+AD24+AE24 -> 12 | AB24: =SUM(D24:Q24) -> 12 | AC24: =SUM(R24:V24) -> 0 | AD24: =SUM(W24:Z24) -> 0
... A35: ='11-09 Marktäckning'!A36 -> 24 | B35: ='11-09 Marktäckning'!B36 -> 5 | C35: ='11-09 Marktäckning'!C36 -> 4 | D35: 0 | E35: 0 | F35: 1 | G35: 3 | H35: 0 | I35: 0 | J35: 1 | K35: 0 | L35: 0 | W35: 0 | AA35: =AB35+AC35+AD35+AE35 -> 5 | AB35: =SUM(D35:Q35) -> 5 | AC35: =SUM(R35:V35) -> 0 | AD35: =SUM(W35:Z35) -> 0

Sheet 04-21 effekt
A1: Ogräsgradering effektgradering
A2: Försöksserie: | D2: Örtogräsbekämpning i höstraps, plöjt, höstbehandling
A3: Plan nr: | D3: L5-8010P
A4: Försöks nr: | D4: I-811-2019
A5: ADB nr: | D5: 0561501
D6: DC 59
A7: Datum: | D7: 43942
D9: Ettåriga örtogräs effektgradering | R9: Övriga fleråriga örtogräs effektgradering | W9: Övriga gräsogräs % effektgradering | AA9: Effektgradering ogräs totalt % | AB9: Effektgradering samtliga ettåriga örtogräs % | AC9: Effektgradering övriga fleråriga örtogräs % | AD9: Effektgradering gräsogräs % | AE9: Effektgradering fräken %
D10: 1 | E10: 2 | F10: 3 | G10: 4 | H10: 5 | I10: 6 | J10: 7 | K10: 8 | L10: 9 | M10: 10 | N10: 11 | O10: 12 | P10: 13 | Q10: 14 | R10: 15 | S10: 16 | T10: 17 | U10: 18 | V10: 19 | W10: 20 | X10: 21 | Y10: 22 | Z10: 23
A11: Ruta nr | B11: Led | C11: Block | D11: ='03-26 effekt'!D11 -> Blåklint | E11: ='03-26 effekt'!E11 -> Kornvallmo | F11: ='03-26 effekt'!F11 -> Åkerveronika | G11: ='03-26 effekt'!G11 -> Åkerviol | H11: ='03-26 effekt'!H11 -> Mjuknäva | I11: ='03-26 effekt'!I11 -> F | J11: ='03-26 effekt'!J11 -> G | K11: ='03-26 effekt'!K11 -> H | ... Q11: ='03-26 effekt'!Q11 -> Spillsäd | R11: O | S11: P | T11: Q | U11: R | V11: S | W11: T | X11: U | Y11: V | Z11: X
A12: ='11-09 Marktäckning'!A13 -> 1 | B12: ='11-09 Marktäckning'!B13 -> 1 | C12: ='11-09 Marktäckning'!C13 -> 1 | AA12: =AB12+AC12+AD12+AE12 -> 0 | AB12: =SUM(D12:Q12) -> 0 | AC12: =SUM(R12:V12) -> 0 | AD12: =SUM(W12:Z12) -> 0
A13: ='11-09 Marktäckning'!A14 -> 2 | B13: ='11-09 Marktäckning'!B14 -> 5 | C13: ='11-09 Marktäckning'!C14 -> 1 | D13: 100 | E13: 100 | H13: 100 | N13: 97 | AA13: =AB13+AC13+AD13+AE13 -> 397 | AB13: =SUM(D13:Q13) -> 397 | AC13: =SUM(R13:V13) -> 0 | AD13: =SUM(W13:Z13) -> 0
A14: ='11-09 Marktäckning'!A15 -> 3 | B14: ='11-09 Marktäckning'!B15 -> 2 | C14: ='11-09 Marktäckning'!C15 -> 1 | D14: 100 | E14: 100 | H14: 100 | N14: 93 | AA14: =AB14+AC14+AD14+AE14 -> 393 | AB14: =SUM(D14:Q14) -> 393 | AC14: =SUM(R14:V14) -> 0 | AD14: =SUM(W14:Z14) -> 0
A15: ='11-09 Marktäckning'!A16 -> 4 | B15: ='11-09 Marktäckning'!B16 -> 3 | C15: ='11-09 Marktäckning'!C16 -> 1 | D15: 50 | E15: 50 | H15: 100 | N15: 65 | AA15: =AB15+AC15+AD15+AE15 -> 265 | AB15: =SUM(D15:Q15) -> 265 | AC15: =SUM(R15:V15) -> 0 | AD15: =SUM(W15:Z15) -> 0
A16: ='11-09 Marktäckning'!A17 -> 5 | B16: ='11-09 Marktäckning'!B17 -> 6 | C16: ='11-09 Marktäckning'!C17 -> 1 | D16: 100 | E16: 100 | H16: 100 | N16: 95 | AA16: =AB16+AC16+AD16+AE16 -> 395 | AB16: =SUM(D16:Q16) -> 395 | AC16: =SUM(R16:V16) -> 0 | AD16: =SUM(W16:Z16) -> 0
A17: ='11-09 Marktäckning'!A18 -> 6 | B17: ='11-09 Marktäckning'!B18 -> 4 | C17: ='11-09 Marktäckning'!C18 -> 1 | D17: 100 | E17: 100 | H17: 100 | N17: 93 | AA17: =AB17+AC17+AD17+AE17 -> 393 | AB17: =SUM(D17:Q17) -> 393 | AC17: =SUM(R17:V17) -> 0 | AD17: =SUM(W17:Z17) -> 0
A18: ='11-09 Marktäckning'!A19 -> 7 | B18: ='11-09 Marktäckning'!B19 -> 1 | C18: ='11-09 Marktäckning'!C19 -> 2 | AA18: =AB18+AC18+AD18+AE18 -> 0 | AB18: =SUM(D18:Q18) -> 0 | AC18: =SUM(R18:V18) -> 0 | AD18: =SUM(W18:Z18) -> 0
A19: ='11-09 Marktäckning'!A20 -> 8 | B19: ='11-09 Marktäckning'!B20 -> 3 | C19: ='11-09 Marktäckning'!C20 -> 2 | D19: 50 | E19: 50 | H19: 100 | N19: 65 | AA19: =AB19+AC19+AD19+AE19 -> 265 | AB19: =SUM(D19:Q19) -> 265 | AC19: =SUM(R19:V19) -> 0 | AD19: =SUM(W19:Z19) -> 0
A20: ='11-09 Marktäckning'!A21 -> 9 | B20: ='11-09 Marktäckning'!B21 -> 5 | C20: ='11-09 Marktäckning'!C21 -> 2 | D20: 100 | E20: 100 | H20: 100 | N20: 95 | AA20: =AB20+AC20+AD20+AE20 -> 395 | AB20: =SUM(D20:Q20) -> 395 | AC20: =SUM(R20:V20) -> 0 | AD20: =SUM(W20:Z20) -> 0
A21: ='11-09 Marktäckning'!A22 -> 10 | B21: ='11-09 Marktäckning'!B22 -> 6 | C21: ='11-09 Marktäckning'!C22 -> 2 | D21: 100 | E21: 100 | H21: 100 | N21: 95 | AA21: =AB21+AC21+AD21+AE21 -> 395 | AB21: =SUM(D21:Q21) -> 395 | AC21: =SUM(R21:V21) -> 0 | AD21: =SUM(W21:Z21) -> 0
A22: ='11-09 Marktäckning'!A23 -> 11 | B22: ='11-09 Marktäckning'!B23 -> 2 | C22: ='11-09 Marktäckning'!C23 -> 2 | D22: 100 | E22: 100 | H22: 100 | N22: 93 | AA22: =AB22+AC22+AD22+AE22 -> 393 | AB22: =SUM(D22:Q22) -> 393 | AC22: =SUM(R22:V22) -> 0 | AD22: =SUM(W22:Z22) -> 0
A23: ='11-09 Marktäckning'!A24 -> 12 | B23: ='11-09 Marktäckning'!B24 -> 4 | C23: ='11-09 Marktäckning'!C24 -> 2 | D23: 100 | E23: 100 | H23: 100 | N23: 97 | AA23: =AB23+AC23+AD23+AE23 -> 397 | AB23: =SUM(D23:Q23) -> 397 | AC23: =SUM(R23:V23) -> 0 | AD23: =SUM(W23:Z23) -> 0
A24: ='11-09 Marktäckning'!A25 -> 13 | B24: ='11-09 Marktäckning'!B25 -> 4 | C24: ='11-09 Marktäckning'!C25 -> 3 | D24: 100 | E24: 100 | H24: 100 | N24: 95 | AA24: =AB24+AC24+AD24+AE24 -> 395 | AB24: =SUM(D24:Q24) -> 395 | AC24: =SUM(R24:V24) -> 0 | AD24: =SUM(W24:Z24) -> 0
A25: ='11-09 Marktäckning'!A26 -> 14 | B25: ='11-09 Marktäckning'!B26 -> 2 | C25: ='11-09 Marktäckning'!C26 -> 3 | D25: 100 | E25: 100 | H25: 100 | N25: 95 | AA25: =AB25+AC25+AD25+AE25 -> 395 | AB25: =SUM(D25:Q25) -> 395 | AC25: =SUM(R25:V25) -> 0 | AD25: =SUM(W25:Z25) -> 0
A26: ='11-09 Marktäckning'!A27 -> 15 | B26: ='11-09 Marktäckning'!B27 -> 3 | C26: ='11-09 Marktäckning'!C27 -> 3 | D26: 50 | E26: 50 | H26: 100 | N26: 65 | AA26: =AB26+AC26+AD26+AE26 -> 265 | AB26: =SUM(D26:Q26) -> 265 | AC26: =SUM(R26:V26) -> 0 | AD26: =SUM(W26:Z26) -> 0
A27: ='11-09 Marktäckning'!A28 -> 16 | B27: ='11-09 Marktäckning'!B28 -> 5 | C27: ='11-09 Marktäckning'!C28 -> 3 | D27: 100 | E27: 100 | H27: 100 | N27: 97 | AA27: =AB27+AC27+AD27+AE27 -> 397 | AB27: =SUM(D27:Q27) -> 397 | AC27: =SUM(R27:V27) -> 0 | AD27: =SUM(W27:Z27) -> 0
A28: ='11-09 Marktäckning'!A29 -> 17 | B28: ='11-09 Marktäckning'!B29 -> 1 | C28: ='11-09 Marktäckning'!C29 -> 3 | AA28: =AB28+AC28+AD28+AE28 -> 0 | AB28: =SUM(D28:Q28) -> 0 | AC28: =SUM(R28:V28) -> 0 | AD28: =SUM(W28:Z28) -> 0
A29: ='11-09 Marktäckning'!A30 -> 18 | B29: ='11-09 Marktäckning'!B30 -> 6 | C29: ='11-09 Marktäckning'!C30 -> 3 | D29: 100 | E29: 100 | H29: 100 | N29: 95 | AA29: =AB29+AC29+AD29+AE29 -> 395 | AB29: =SUM(D29:Q29) -> 395 | AC29: =SUM(R29:V29) -> 0 | AD29: =SUM(W29:Z29) -> 0
A30: ='11-09 Marktäckning'!A31 -> 19 | B30: ='11-09 Marktäckning'!B31 -> 2 | C30: ='11-09 Marktäckning'!C31 -> 4 | D30: 100 | E30: 99 | H30: 97 | N30: 95 | AA30: =AB30+AC30+AD30+AE30 -> 391 | AB30: =SUM(D30:Q30) -> 391 | AC30: =SUM(R30:V30) -> 0 | AD30: =SUM(W30:Z30) -> 0
A31: ='11-09 Marktäckning'!A32 -> 20 | B31: ='11-09 Marktäckning'!B32 -> 6 | C31: ='11-09 Marktäckning'!C32 -> 4 | D31: 100 | E31: 100 | H31: 97 | N31: 95 | AA31: =AB31+AC31+AD31+AE31 -> 392 | AB31: =SUM(D31:Q31) -> 392 | AC31: =SUM(R31:V31) -> 0 | AD31: =SUM(W31:Z31) -> 0
A32: ='11-09 Marktäckning'!A33 -> 21 | B32: ='11-09 Marktäckning'!B33 -> 1 | C32: ='11-09 Marktäckning'!C33 -> 4 | AA32: =AB32+AC32+AD32+AE32 -> 0 | AB32: =SUM(D32:Q32) -> 0 | AC32: =SUM(R32:V32) -> 0 | AD32: =SUM(W32:Z32) -> 0
A33: ='11-09 Marktäckning'!A34 -> 22 | B33: ='11-09 Marktäckning'!B34 -> 4 | C33: ='11-09 Marktäckning'!C34 -> 4 | D33: 100 | E33: 100 | H33: 100 | N33: 95 | AA33: =AB33+AC33+AD33+AE33 -> 395 | AB33: =SUM(D33:Q33) -> 395 | AC33: =SUM(R33:V33) -> 0 | AD33: =SUM(W33:Z33) -> 0
A34: ='11-09 Marktäckning'!A35 -> 23 | B34: ='11-09 Marktäckning'!B35 -> 3 | C34: ='11-09 Marktäckning'!C35 -> 4 | D34: 50 | E34: 55 | H34: 100 | N34: 70 | AA34: =AB34+AC34+AD34+AE34 -> 275 | AB34: =SUM(D34:Q34) -> 275 | AC34: =SUM(R34:V34) -> 0 | AD34: =SUM(W34:Z34) -> 0
A35: ='11-09 Marktäckning'!A36 -> 24 | B35: ='11-09 Marktäckning'!B36 -> 5 | C35: ='11-09 Marktäckning'!C36 -> 4 | D35: 100 | E35: 100 | H35: 100 | N35: 97 | AA35: =AB35+AC35+AD35+AE35 -> 397 | AB35: =SUM(D35:Q35) -> 397 | AC35: =SUM(R35:V35) -> 0 | AD35: =SUM(W35:Z35) -> 0

Sheet 4e marktäckning
A1: Ogräsgradering marktäckning
A2: Försöksserie: | D2: ='11-09 Marktäckning'!D2 -> Örtogräsbekämpning i höstraps, plöjt, höstbehandling
A3: Plan nr: | D3: ='11-09 Marktäckning'!D3 -> L5-8010P
A4: Försöks nr: | D4: ='11-09 Marktäckning'!D5 -> 0561501
A5: ADB nr: | D5: ='11-09 Marktäckning'!D4 -> I-811-2019
A7: Datum: | D7: 4
D9: Ettåriga örtogräs marktäckning | R9: Övriga fleråriga örtogräs marktäckning | W9: Övriga gräsogräs % marktäckning | AA9: Marktäckning ogräs totalt % | AB9: Marktäckning samtliga ettåriga örtogräs % | AC9: Marktäckning övriga fleråriga örtogräs % | AD9: Marktäckning gräsogräs % | AE9: Marktäckning fräken %
D10: 1 | E10: 2 | F10: 3 | G10: 4 | H10: 5 | I10: 6 | J10: 7 | K10: 8 | L10: 9 | M10: 10 | N10: 11 | O10: 12 | P10: 13 | Q10: 14 | R10: 15 | S10: 16 | T10: 17 | U10: 18 | V10: 19 | W10: 20 | X10: 21 | Y10: 22 | Z10: 23
A11: Ruta nr | B11: Led | C11: Block | D11: A | E11: B | F11: C | G11: D | H11: E | I11: F | J11: G | K11: H | L11: I | M11: J | N11: K | O11: L | P11: M | Q11: N | R11: O | S11: P | T11: Q | U11: R | V11: S | W11: T | X11: U | Y11: V | Z11: X
A12: ='11-09 Marktäckning'!A13 -> 1 | B12: ='11-09 Marktäckning'!B13 -> 1 | C12: ='11-09 Marktäckning'!C13 -> 1 | AA12: =AB12+AC12+AD12+AE12 -> 0 | AB12: =SUM(D12:Q12) -> 0 | AC12: =SUM(R12:V12) -> 0 | AD12: =SUM(W12:Z12) -> 0
A13: ='11-09 Marktäckning'!A14 -> 2 | B13: ='11-09 Marktäckning'!B14 -> 5 | C13: ='11-09 Marktäckning'!C14 -> 1 | AA13: =AB13+AC13+AD13+AE13 -> 0 | AB13: =SUM(D13:Q13) -> 0 | AC13: =SUM(R13:V13) -> 0 | AD13: =SUM(W13:Z13) -> 0
A14: ='11-09 Marktäckning'!A15 -> 3 | B14: ='11-09 Marktäckning'!B15 -> 2 | C14: ='11-09 Marktäckning'!C15 -> 1 | AA14: =AB14+AC14+AD14+AE14 -> 0 | AB14: =SUM(D14:Q14) -> 0 | AC14: =SUM(R14:V14) -> 0 | AD14: =SUM(W14:Z14) -> 0
A15: ='11-09 Marktäckning'!A16 -> 4 | B15: ='11-09 Marktäckning'!B16 -> 3 | C15: ='11-09 Marktäckning'!C16 -> 1 | AA15: =AB15+AC15+AD15+AE15 -> 0 | AB15: =SUM(D15:Q15) -> 0 | AC15: =SUM(R15:V15) -> 0 | AD15: =SUM(W15:Z15) -> 0
A16: ='11-09 Marktäckning'!A17 -> 5 | B16: ='11-09 Marktäckning'!B17 -> 6 | C16: ='11-09 Marktäckning'!C17 -> 1 | AA16: =AB16+AC16+AD16+AE16 -> 0 | AB16: =SUM(D16:Q16) -> 0 | AC16: =SUM(R16:V16) -> 0 | AD16: =SUM(W16:Z16) -> 0
A17: ='11-09 Marktäckning'!A18 -> 6 | B17: ='11-09 Marktäckning'!B18 -> 4 | C17: ='11-09 Marktäckning'!C18 -> 1 | AA17: =AB17+AC17+AD17+AE17 -> 0 | AB17: =SUM(D17:Q17) -> 0 | AC17: =SUM(R17:V17) -> 0 | AD17: =SUM(W17:Z17) -> 0
A18: ='11-09 Marktäckning'!A19 -> 7 | B18: ='11-09 Marktäckning'!B19 -> 1 | C18: ='11-09 Marktäckning'!C19 -> 2 | AA18: =AB18+AC18+AD18+AE18 -> 0 | AB18: =SUM(D18:Q18) -> 0 | AC18: =SUM(R18:V18) -> 0 | AD18: =SUM(W18:Z18) -> 0
A19: ='11-09 Marktäckning'!A20 -> 8 | B19: ='11-09 Marktäckning'!B20 -> 3 | C19: ='11-09 Marktäckning'!C20 -> 2 | AA19: =AB19+AC19+AD19+AE19 -> 0 | AB19: =SUM(D19:Q19) -> 0 | AC19: =SUM(R19:V19) -> 0 | AD19: =SUM(W19:Z19) -> 0
A20: ='11-09 Marktäckning'!A21 -> 9 | B20: ='11-09 Marktäckning'!B21 -> 5 | C20: ='11-09 Marktäckning'!C21 -> 2 | AA20: =AB20+AC20+AD20+AE20 -> 0 | AB20: =SUM(D20:Q20) -> 0 | AC20: =SUM(R20:V20) -> 0 | AD20: =SUM(W20:Z20) -> 0
A21: ='11-09 Marktäckning'!A22 -> 10 | B21: ='11-09 Marktäckning'!B22 -> 6 | C21: ='11-09 Marktäckning'!C22 -> 2 | AA21: =AB21+AC21+AD21+AE21 -> 0 | AB21: =SUM(D21:Q21) -> 0 | AC21: =SUM(R21:V21) -> 0 | AD21: =SUM(W21:Z21) -> 0
A22: ='11-09 Marktäckning'!A23 -> 11 | B22: ='11-09 Marktäckning'!B23 -> 2 | C22: ='11-09 Marktäckning'!C23 -> 2 | AA22: =AB22+AC22+AD22+AE22 -> 0 | AB22: =SUM(D22:Q22) -> 0 | AC22: =SUM(R22:V22) -> 0 | AD22: =SUM(W22:Z22) -> 0
A23: ='11-09 Marktäckning'!A24 -> 12 | B23: ='11-09 Marktäckning'!B24 -> 4 | C23: ='11-09 Marktäckning'!C24 -> 2 | AA23: =AB23+AC23+AD23+AE23 -> 0 | AB23: =SUM(D23:Q23) -> 0 | AC23: =SUM(R23:V23) -> 0 | AD23: =SUM(W23:Z23) -> 0
... A35: ='11-09 Marktäckning'!A36 -> 24 | B35: ='11-09 Marktäckning'!B36 -> 5 | C35: ='11-09 Marktäckning'!C36 -> 4 | AA35: =AB35+AC35+AD35+AE35 -> 0 | AB35: =SUM(D35:Q35) -> 0 | AC35: =SUM(R35:V35) -> 0 | AD35: =SUM(W35:Z35) -> 0

Sheet 4e effekt
A1: Ogräsgradering effektgradering
A2: Försöksserie: | D2: Örtogräsbekämpning i höstraps, plöjt, höstbehandling
A3: Plan nr: | D3: L5-8010P
A4: Försöks nr: | D4: I-811-2019
A5: ADB nr: | D5: 0561501
A7: Datum: | D7: 4
D9: Ettåriga örtogräs effektgradering | R9: Övriga fleråriga örtogräs effektgradering | W9: Övriga gräsogräs % effektgradering | AA9: Effektgradering ogräs totalt % | AB9: Effektgradering samtliga ettåriga örtogräs % | AC9: Effektgradering övriga fleråriga örtogräs % | AD9: Effektgradering gräsogräs % | AE9: Effektgradering fräken %
D10: 1 | E10: 2 | F10: 3 | G10: 4 | H10: 5 | I10: 6 | J10: 7 | K10: 8 | L10: 9 | M10: 10 | N10: 11 | O10: 12 | P10: 13 | Q10: 14 | R10: 15 | S10: 16 | T10: 17 | U10: 18 | V10: 19 | W10: 20 | X10: 21 | Y10: 22 | Z10: 23
A11: Ruta nr | B11: Led | C11: Block | D11: Blåklint | E11: Vallmo | P11: M | Q11: N | R11: O | S11: P | T11: Q | U11: R | V11: S | W11: T | X11: U | Y11: V | Z11: X
A12: ='11-09 Marktäckning'!A13 -> 1 | B12: ='11-09 Marktäckning'!B13 -> 1 | C12: ='11-09 Marktäckning'!C13 -> 1 | AA12: =AB12+AC12+AD12+AE12 -> 0 | AB12: =SUM(D12:Q12) -> 0 | AC12: =SUM(R12:V12) -> 0 | AD12: =SUM(W12:Z12) -> 0
A13: ='11-09 Marktäckning'!A14 -> 2 | B13: ='11-09 Marktäckning'!B14 -> 5 | C13: ='11-09 Marktäckning'!C14 -> 1 | AA13: =AB13+AC13+AD13+AE13 -> 0 | AB13: =SUM(D13:Q13) -> 0 | AC13: =SUM(R13:V13) -> 0 | AD13: =SUM(W13:Z13) -> 0
A14: ='11-09 Marktäckning'!A15 -> 3 | B14: ='11-09 Marktäckning'!B15 -> 2 | C14: ='11-09 Marktäckning'!C15 -> 1 | AA14: =AB14+AC14+AD14+AE14 -> 0 | AB14: =SUM(D14:Q14) -> 0 | AC14: =SUM(R14:V14) -> 0 | AD14: =SUM(W14:Z14) -> 0
A15: ='11-09 Marktäckning'!A16 -> 4 | B15: ='11-09 Marktäckning'!B16 -> 3 | C15: ='11-09 Marktäckning'!C16 -> 1 | AA15: =AB15+AC15+AD15+AE15 -> 0 | AB15: =SUM(D15:Q15) -> 0 | AC15: =SUM(R15:V15) -> 0 | AD15: =SUM(W15:Z15) -> 0
A16: ='11-09 Marktäckning'!A17 -> 5 | B16: ='11-09 Marktäckning'!B17 -> 6 | C16: ='11-09 Marktäckning'!C17 -> 1 | AA16: =AB16+AC16+AD16+AE16 -> 0 | AB16: =SUM(D16:Q16) -> 0 | AC16: =SUM(R16:V16) -> 0 | AD16: =SUM(W16:Z16) -> 0
A17: ='11-09 Marktäckning'!A18 -> 6 | B17: ='11-09 Marktäckning'!B18 -> 4 | C17: ='11-09 Marktäckning'!C18 -> 1 | AA17: =AB17+AC17+AD17+AE17 -> 0 | AB17: =SUM(D17:Q17) -> 0 | AC17: =SUM(R17:V17) -> 0 | AD17: =SUM(W17:Z17) -> 0
A18: ='11-09 Marktäckning'!A19 -> 7 | B18: ='11-09 Marktäckning'!B19 -> 1 | C18: ='11-09 Marktäckning'!C19 -> 2 | AA18: =AB18+AC18+AD18+AE18 -> 0 | AB18: =SUM(D18:Q18) -> 0 | AC18: =SUM(R18:V18) -> 0 | AD18: =SUM(W18:Z18) -> 0
A19: ='11-09 Marktäckning'!A20 -> 8 | B19: ='11-09 Marktäckning'!B20 -> 3 | C19: ='11-09 Marktäckning'!C20 -> 2 | AA19: =AB19+AC19+AD19+AE19 -> 0 | AB19: =SUM(D19:Q19) -> 0 | AC19: =SUM(R19:V19) -> 0 | AD19: =SUM(W19:Z19) -> 0
A20: ='11-09 Marktäckning'!A21 -> 9 | B20: ='11-09 Marktäckning'!B21 -> 5 | C20: ='11-09 Marktäckning'!C21 -> 2 | AA20: =AB20+AC20+AD20+AE20 -> 0 | AB20: =SUM(D20:Q20) -> 0 | AC20: =SUM(R20:V20) -> 0 | AD20: =SUM(W20:Z20) -> 0
A21: ='11-09 Marktäckning'!A22 -> 10 | B21: ='11-09 Marktäckning'!B22 -> 6 | C21: ='11-09 Marktäckning'!C22 -> 2 | AA21: =AB21+AC21+AD21+AE21 -> 0 | AB21: =SUM(D21:Q21) -> 0 | AC21: =SUM(R21:V21) -> 0 | AD21: =SUM(W21:Z21) -> 0
A22: ='11-09 Marktäckning'!A23 -> 11 | B22: ='11-09 Marktäckning'!B23 -> 2 | C22: ='11-09 Marktäckning'!C23 -> 2 | AA22: =AB22+AC22+AD22+AE22 -> 0 | AB22: =SUM(D22:Q22) -> 0 | AC22: =SUM(R22:V22) -> 0 | AD22: =SUM(W22:Z22) -> 0
A23: ='11-09 Marktäckning'!A24 -> 12 | B23: ='11-09 Marktäckning'!B24 -> 4 | C23: ='11-09 Marktäckning'!C24 -> 2 | AA23: =AB23+AC23+AD23+AE23 -> 0 | AB23: =SUM(D23:Q23) -> 0 | AC23: =SUM(R23:V23) -> 0 | AD23: =SUM(W23:Z23) -> 0
... A35: ='11-09 Marktäckning'!A36 -> 24 | B35: ='11-09 Marktäckning'!B36 -> 5 | C35: ='11-09 Marktäckning'!C36 -> 4 | AA35: =AB35+AC35+AD35+AE35 -> 0 | AB35: =SUM(D35:Q35) -> 0 | AC35: =SUM(R35:V35) -> 0 | AD35: =SUM(W35:Z35) -> 0

Sheet 5e marktäckning
A1: Ogräsgradering marktäckning
A2: Försöksserie: | D2: ='11-09 Marktäckning'!D2 -> Örtogräsbekämpning i höstraps, plöjt, höstbehandling
A3: Plan nr: | D3: ='11-09 Marktäckning'!D3 -> L5-8010P
A4: Försöks nr: | D4: ='11-09 Marktäckning'!D5 -> 0561501
A5: ADB nr: | D5: ='11-09 Marktäckning'!D4 -> I-811-2019
A7: Datum: | D7: 5
D9: Ettåriga örtogräs marktäckning | R9: Övriga fleråriga örtogräs marktäckning | W9: Övriga gräsogräs % marktäckning | AA9: Marktäckning ogräs totalt % | AB9: Marktäckning samtliga ettåriga örtogräs % | AC9: Marktäckning övriga fleråriga örtogräs % | AD9: Marktäckning gräsogräs % | AE9: Marktäckning fräken %
D10: 1 | E10: 2 | F10: 3 | G10: 4 | H10: 5 | I10: 6 | J10: 7 | K10: 8 | L10: 9 | M10: 10 | N10: 11 | O10: 12 | P10: 13 | Q10: 14 | R10: 15 | S10: 16 | T10: 17 | U10: 18 | V10: 19 | W10: 20 | X10: 21 | Y10: 22 | Z10: 23
A11: Ruta nr | B11: Led | C11: Block | D11: A | E11: B | F11: C | G11: D | H11: E | I11: F | J11: G | K11: H | L11: I | M11: J | N11: K | O11: L | P11: M | Q11: N | R11: O | S11: P | T11: Q | U11: R | V11: S | W11: T | X11: U | Y11: V | Z11: X
A12: ='11-09 Marktäckning'!A13 -> 1 | B12: ='11-09 Marktäckning'!B13 -> 1 | C12: ='11-09 Marktäckning'!C13 -> 1 | AA12: =AB12+AC12+AD12+AE12 -> 0 | AB12: =SUM(D12:Q12) -> 0 | AC12: =SUM(R12:V12) -> 0 | AD12: =SUM(W12:Z12) -> 0
A13: ='11-09 Marktäckning'!A14 -> 2 | B13: ='11-09 Marktäckning'!B14 -> 5 | C13: ='11-09 Marktäckning'!C14 -> 1 | AA13: =AB13+AC13+AD13+AE13 -> 0 | AB13: =SUM(D13:Q13) -> 0 | AC13: =SUM(R13:V13) -> 0 | AD13: =SUM(W13:Z13) -> 0
A14: ='11-09 Marktäckning'!A15 -> 3 | B14: ='11-09 Marktäckning'!B15 -> 2 | C14: ='11-09 Marktäckning'!C15 -> 1 | AA14: =AB14+AC14+AD14+AE14 -> 0 | AB14: =SUM(D14:Q14) -> 0 | AC14: =SUM(R14:V14) -> 0 | AD14: =SUM(W14:Z14) -> 0
A15: ='11-09 Marktäckning'!A16 -> 4 | B15: ='11-09 Marktäckning'!B16 -> 3 | C15: ='11-09 Marktäckning'!C16 -> 1 | AA15: =AB15+AC15+AD15+AE15 -> 0 | AB15: =SUM(D15:Q15) -> 0 | AC15: =SUM(R15:V15) -> 0 | AD15: =SUM(W15:Z15) -> 0
A16: ='11-09 Marktäckning'!A17 -> 5 | B16: ='11-09 Marktäckning'!B17 -> 6 | C16: ='11-09 Marktäckning'!C17 -> 1 | AA16: =AB16+AC16+AD16+AE16 -> 0 | AB16: =SUM(D16:Q16) -> 0 | AC16: =SUM(R16:V16) -> 0 | AD16: =SUM(W16:Z16) -> 0
A17: ='11-09 Marktäckning'!A18 -> 6 | B17: ='11-09 Marktäckning'!B18 -> 4 | C17: ='11-09 Marktäckning'!C18 -> 1 | AA17: =AB17+AC17+AD17+AE17 -> 0 | AB17: =SUM(D17:Q17) -> 0 | AC17: =SUM(R17:V17) -> 0 | AD17: =SUM(W17:Z17) -> 0
A18: ='11-09 Marktäckning'!A19 -> 7 | B18: ='11-09 Marktäckning'!B19 -> 1 | C18: ='11-09 Marktäckning'!C19 -> 2 | AA18: =AB18+AC18+AD18+AE18 -> 0 | AB18: =SUM(D18:Q18) -> 0 | AC18: =SUM(R18:V18) -> 0 | AD18: =SUM(W18:Z18) -> 0
A19: ='11-09 Marktäckning'!A20 -> 8 | B19: ='11-09 Marktäckning'!B20 -> 3 | C19: ='11-09 Marktäckning'!C20 -> 2 | AA19: =AB19+AC19+AD19+AE19 -> 0 | AB19: =SUM(D19:Q19) -> 0 | AC19: =SUM(R19:V19) -> 0 | AD19: =SUM(W19:Z19) -> 0
A20: ='11-09 Marktäckning'!A21 -> 9 | B20: ='11-09 Marktäckning'!B21 -> 5 | C20: ='11-09 Marktäckning'!C21 -> 2 | AA20: =AB20+AC20+AD20+AE20 -> 0 | AB20: =SUM(D20:Q20) -> 0 | AC20: =SUM(R20:V20) -> 0 | AD20: =SUM(W20:Z20) -> 0
A21: ='11-09 Marktäckning'!A22 -> 10 | B21: ='11-09 Marktäckning'!B22 -> 6 | C21: ='11-09 Marktäckning'!C22 -> 2 | AA21: =AB21+AC21+AD21+AE21 -> 0 | AB21: =SUM(D21:Q21) -> 0 | AC21: =SUM(R21:V21) -> 0 | AD21: =SUM(W21:Z21) -> 0
A22: ='11-09 Marktäckning'!A23 -> 11 | B22: ='11-09 Marktäckning'!B23 -> 2 | C22: ='11-09 Marktäckning'!C23 -> 2 | AA22: =AB22+AC22+AD22+AE22 -> 0 | AB22: =SUM(D22:Q22) -> 0 | AC22: =SUM(R22:V22) -> 0 | AD22: =SUM(W22:Z22) -> 0
A23: ='11-09 Marktäckning'!A24 -> 12 | B23: ='11-09 Marktäckning'!B24 -> 4 | C23: ='11-09 Marktäckning'!C24 -> 2 | AA23: =AB23+AC23+AD23+AE23 -> 0 | AB23: =SUM(D23:Q23) -> 0 | AC23: =SUM(R23:V23) -> 0 | AD23: =SUM(W23:Z23) -> 0
... A35: ='11-09 Marktäckning'!A36 -> 24 | B35: ='11-09 Marktäckning'!B36 -> 5 | C35: ='11-09 Marktäckning'!C36 -> 4 | AA35: =AB35+AC35+AD35+AE35 -> 0 | AB35: =SUM(D35:Q35) -> 0 | AC35: =SUM(R35:V35) -> 0 | AD35: =SUM(W35:Z35) -> 0

Sheet 5e effekt
A1: Ogräsgradering effektgradering
A2: Försöksserie: | D2: Örtogräsbekämpning i höstraps, plöjt, höstbehandling
A3: Plan nr: | D3: L5-8010P
A4: Försöks nr: | D4: I-811-2019
A5: ADB nr: | D5: 0561501
A7: Datum: | D7: 4
D9: Ettåriga örtogräs effektgradering | R9: Övriga fleråriga örtogräs effektgradering | W9: Övriga gräsogräs % effektgradering | AA9: Effektgradering ogräs totalt % | AB9: Effektgradering samtliga ettåriga örtogräs % | AC9: Effektgradering övriga fleråriga örtogräs % | AD9: Effektgradering gräsogräs % | AE9: Effektgradering fräken %
D10: 1 | E10: 2 | F10: 3 | G10: 4 | H10: 5 | I10: 6 | J10: 7 | K10: 8 | L10: 9 | M10: 10 | N10: 11 | O10: 12 | P10: 13 | Q10: 14 | R10: 15 | S10: 16 | T10: 17 | U10: 18 | V10: 19 | W10: 20 | X10: 21 | Y10: 22 | Z10: 23
A11: Ruta nr | B11: Led | C11: Block | D11: A | E11: B | F11: C | G11: D | H11: E | I11: F | J11: G | K11: H | L11: I | M11: J | N11: K | O11: L | P11: M | Q11: N | R11: O | S11: P | T11: Q | U11: R | V11: S | W11: T | X11: U | Y11: V | Z11: X
A12: ='11-09 Marktäckning'!A13 -> 1 | B12: ='11-09 Marktäckning'!B13 -> 1 | C12: ='11-09 Marktäckning'!C13 -> 1 | AA12: =AB12+AC12+AD12+AE12 -> 0 | AB12: =SUM(D12:Q12) -> 0 | AC12: =SUM(R12:V12) -> 0 | AD12: =SUM(W12:Z12) -> 0
A13: ='11-09 Marktäckning'!A14 -> 2 | B13: ='11-09 Marktäckning'!B14 -> 5 | C13: ='11-09 Marktäckning'!C14 -> 1 | AA13: =AB13+AC13+AD13+AE13 -> 0 | AB13: =SUM(D13:Q13) -> 0 | AC13: =SUM(R13:V13) -> 0 | AD13: =SUM(W13:Z13) -> 0
A14: ='11-09 Marktäckning'!A15 -> 3 | B14: ='11-09 Marktäckning'!B15 -> 2 | C14: ='11-09 Marktäckning'!C15 -> 1 | AA14: =AB14+AC14+AD14+AE14 -> 0 | AB14: =SUM(D14:Q14) -> 0 | AC14: =SUM(R14:V14) -> 0 | AD14: =SUM(W14:Z14) -> 0
A15: ='11-09 Marktäckning'!A16 -> 4 | B15: ='11-09 Marktäckning'!B16 -> 3 | C15: ='11-09 Marktäckning'!C16 -> 1 | AA15: =AB15+AC15+AD15+AE15 -> 0 | AB15: =SUM(D15:Q15) -> 0 | AC15: =SUM(R15:V15) -> 0 | AD15: =SUM(W15:Z15) -> 0
A16: ='11-09 Marktäckning'!A17 -> 5 | B16: ='11-09 Marktäckning'!B17 -> 6 | C16: ='11-09 Marktäckning'!C17 -> 1 | AA16: =AB16+AC16+AD16+AE16 -> 0 | AB16: =SUM(D16:Q16) -> 0 | AC16: =SUM(R16:V16) -> 0 | AD16: =SUM(W16:Z16) -> 0
A17: ='11-09 Marktäckning'!A18 -> 6 | B17: ='11-09 Marktäckning'!B18 -> 4 | C17: ='11-09 Marktäckning'!C18 -> 1 | AA17: =AB17+AC17+AD17+AE17 -> 0 | AB17: =SUM(D17:Q17) -> 0 | AC17: =SUM(R17:V17) -> 0 | AD17: =SUM(W17:Z17) -> 0
A18: ='11-09 Marktäckning'!A19 -> 7 | B18: ='11-09 Marktäckning'!B19 -> 1 | C18: ='11-09 Marktäckning'!C19 -> 2 | AA18: =AB18+AC18+AD18+AE18 -> 0 | AB18: =SUM(D18:Q18) -> 0 | AC18: =SUM(R18:V18) -> 0 | AD18: =SUM(W18:Z18) -> 0
A19: ='11-09 Marktäckning'!A20 -> 8 | B19: ='11-09 Marktäckning'!B20 -> 3 | C19: ='11-09 Marktäckning'!C20 -> 2 | AA19: =AB19+AC19+AD19+AE19 -> 0 | AB19: =SUM(D19:Q19) -> 0 | AC19: =SUM(R19:V19) -> 0 | AD19: =SUM(W19:Z19) -> 0
A20: ='11-09 Marktäckning'!A21 -> 9 | B20: ='11-09 Marktäckning'!B21 -> 5 | C20: ='11-09 Marktäckning'!C21 -> 2 | AA20: =AB20+AC20+AD20+AE20 -> 0 | AB20: =SUM(D20:Q20) -> 0 | AC20: =SUM(R20:V20) -> 0 | AD20: =SUM(W20:Z20) -> 0
A21: ='11-09 Marktäckning'!A22 -> 10 | B21: ='11-09 Marktäckning'!B22 -> 6 | C21: ='11-09 Marktäckning'!C22 -> 2 | AA21: =AB21+AC21+AD21+AE21 -> 0 | AB21: =SUM(D21:Q21) -> 0 | AC21: =SUM(R21:V21) -> 0 | AD21: =SUM(W21:Z21) -> 0
A22: ='11-09 Marktäckning'!A23 -> 11 | B22: ='11-09 Marktäckning'!B23 -> 2 | C22: ='11-09 Marktäckning'!C23 -> 2 | AA22: =AB22+AC22+AD22+AE22 -> 0 | AB22: =SUM(D22:Q22) -> 0 | AC22: =SUM(R22:V22) -> 0 | AD22: =SUM(W22:Z22) -> 0
A23: ='11-09 Marktäckning'!A24 -> 12 | B23: ='11-09 Marktäckning'!B24 -> 4 | C23: ='11-09 Marktäckning'!C24 -> 2 | AA23: =AB23+AC23+AD23+AE23 -> 0 | AB23: =SUM(D23:Q23) -> 0 | AC23: =SUM(R23:V23) -> 0 | AD23: =SUM(W23:Z23) -> 0
... A35: ='11-09 Marktäckning'!A36 -> 24 | B35: ='11-09 Marktäckning'!B36 -> 5 | C35: ='11-09 Marktäckning'!C36 -> 4 | AA35: =AB35+AC35+AD35+AE35 -> 0 | AB35: =SUM(D35:Q35) -> 0 | AC35: =SUM(R35:V35) -> 0 | AD35: =SUM(W35:Z35) -> 0
