Workbook

Sheet 10-17 P26 Marktäckning
A1: Ogräsgradering marktäckning
A2: Plan nr: | D2: L5-8010
A3: Försöks nr: | D3: I-748-2018
A4: ADB nr: | D4: 05B497
A6: Datum: | D6: 43390
A7: P26 | D7: DC 19
A8: Mark- täckning | D8: Övriga ettåriga örtogräs marktäckning | L8: Övriga fleråriga örtogräs marktäckning | N8: Övriga gräsogräs % marktäckning | P8: Marktäckning ogräs totalt % | Q8: Marktäckning samtliga ettåriga örtogräs % | R8: Marktäckning 5 vanligaste ettåriga örtogräs % | S8: Marktäckning övriga ettåriga örtogräs % | T8: Marktäckning övriga fleråriga örtogräs % | U8: Marktäckning gräsogräs % | V8: Marktäckning fräken %
D9: 1 | E9: 2 | F9: 3 | G9: 4 | H9: 5 | I9: 6 | J9: 7 | K9: 8 | L9: 14 | M9: 15 | N9: 18 | O9: 19
A10: Ruta nr | B10: Led | C10: Block | D10: Åker veronika | E10: Balders brå | F10: Svin målla | G10: Sommargyllen | H10: Lomme | K10: Övriga ogräs | N10: Spillsäd
A11: 1 | B11: 10 | C11: 1 | D11: 10 | E11: 1 | F11: 0 | G11: 0 | H11: 0 | K11: 11 | N11: 0 | P11: =Q11+T11+U11+V11 -> 22 | Q11: =R11+S11 -> 22 | R11: =SUM(D11:G11) -> 11 | S11: =SUM(H11:K11) -> 11 | T11: =SUM(L11:M11) -> 0 | U11: =SUM(N11:O11) -> 0 | V11: 0
A12: 2 | B12: 12 | C12: 1 | D12: 15 | E12: 2 | F12: 0 | G12: 0 | H12: 0 | K12: 1 | N12: 10 | P12: =Q12+T12+U12 -> 28 | Q12: =R12+S12 -> 18 | R12: =SUM(D12:G12) -> 17 | S12: =SUM(H12:K12) -> 1 | T12: =SUM(L12:M12) -> 0 | U12: =SUM(N12:O12) -> 10 | V12: 0
A13: 3 | B13: 5 | C13: 1 | D13: 1 | E13: 0.1 | F13: 0 | G13: 0 | H13: 0 | K13: 1 | N13: 0 | P13: =Q13+T13+U13 -> 2.1 | Q13: =R13+S13 -> 2.1 | R13: =SUM(D13:G13) -> 1.1 | S13: =SUM(H13:K13) -> 1 | T13: =SUM(L13:M13) -> 0 | U13: =SUM(N13:O13) -> 0 | V13: 0
A14: 4 | B14: 3 | C14: 1 | D14: 1 | E14: 0 | F14: 0 | G14: 0 | H14: 0 | K14: 0 | N14: 0 | P14: =Q14+T14+U14 -> 1 | Q14: =R14+S14 -> 1 | R14: =SUM(D14:G14) -> 1 | S14: =SUM(H14:K14) -> 0 | T14: =SUM(L14:M14) -> 0 | U14: =SUM(N14:O14) -> 0 | V14: 0
A15: 5 | B15: 2 | C15: 1 | D15: 3 | E15: 0 | F15: 0 | G15: 0 | H15: 0 | K15: 1 | N15: 0 | P15: =Q15+T15+U15 -> 4 | Q15: =R15+S15 -> 4 | R15: =SUM(D15:G15) -> 3 | S15: =SUM(H15:K15) -> 1 | T15: =SUM(L15:M15) -> 0 | U15: =SUM(N15:O15) -> 0 | V15: 0
A16: 6 | B16: 1 | C16: 1 | D16: 50 | E16: 10 | F16: 5 | G16: 1 | H16: 1 | K16: 0 | N16: 0 | P16: =Q16+T16+U16 -> 67 | Q16: =R16+S16 -> 67 | R16: =SUM(D16:G16) -> 66 | S16: =SUM(H16:K16) -> 1 | T16: =SUM(L16:M16) -> 0 | U16: =SUM(N16:O16) -> 0 | V16: 0
A17: 7 | B17: 7 | C17: 1 | D17: 10 | E17: 2 | F17: 0 | G17: 0 | H17: 0 | K17: 3 | N17: 0 | P17: =Q17+T17+U17 -> 15 | Q17: =R17+S17 -> 15 | R17: =SUM(D17:G17) -> 12 | S17: =SUM(H17:K17) -> 3 | T17: =SUM(L17:M17) -> 0 | U17: =SUM(N17:O17) -> 0 | V17: 0
A18: 8 | B18: 8 | C18: 1 | D18: 1 | E18: 0 | F18: 0 | G18: 0 | H18: 0 | K18: 2 | N18: 0 | P18: =Q18+T18+U18 -> 3 | Q18: =R18+S18 -> 3 | R18: =SUM(D18:G18) -> 1 | S18: =SUM(H18:K18) -> 2 | T18: =SUM(L18:M18) -> 0 | U18: =SUM(N18:O18) -> 0 | V18: 0
A19: 9 | B19: 6 | C19: 1 | D19: 7 | E19: 2 | F19: 0 | G19: 0 | H19: 0 | K19: 1 | N19: 0 | P19: =Q19+T19+U19 -> 10 | Q19: =R19+S19 -> 10 | R19: =SUM(D19:G19) -> 9 | S19: =SUM(H19:K19) -> 1 | T19: =SUM(L19:M19) -> 0 | U19: =SUM(N19:O19) -> 0 | V19: 0
A20: 10 | B20: 4 | C20: 1 | D20: 5 | E20: 2 | F20: 0 | G20: 0 | H20: 0 | K20: 3 | N20: 0 | P20: =Q20+T20+U20 -> 10 | Q20: =R20+S20 -> 10 | R20: =SUM(D20:G20) -> 7 | S20: =SUM(H20:K20) -> 3 | T20: =SUM(L20:M20) -> 0 | U20: =SUM(N20:O20) -> 0 | V20: 0
A21: 11 | B21: 11 | C21: 1
A22: 12 | B22: 9 | C22: 1 | D22: 2 | E22: 2 | F22: 0 | G22: 0 | H22: 0 | K22: 1 | N22: 0 | P22: =Q22+T22+U22 -> 5 | Q22: =R22+S22 -> 5 | R22: =SUM(D22:G22) -> 4 | S22: =SUM(H22:K22) -> 1 | T22: =SUM(L22:M22) -> 0 | U22: =SUM(N22:O22) -> 0 | V22: 0
A23: 13 | B23: 1 | C23: 2 | D23: 50 | E23: 5 | F23: 1 | G23: 1 | H23: 1 | K23: 2 | N23: 0 | P23: =Q23+T23+U23 -> 60 | Q23: =R23+S23 -> 60 | R23: =SUM(D23:G23) -> 57 | S23: =SUM(H23:K23) -> 3 | T23: =SUM(L23:M23) -> 0 | U23: =SUM(N23:O23) -> 0 | V23: 0
A24: 14 | B24: 5 | C24: 2 | D24: 0 | E24: 0 | F24: 0 | G24: 0 | H24: 0 | K24: 1 | N24: 0 | P24: =Q24+T24+U24 -> 1 | Q24: =R24+S24 -> 1 | R24: =SUM(D24:G24) -> 0 | S24: =SUM(H24:K24) -> 1 | T24: =SUM(L24:M24) -> 0 | U24: =SUM(N24:O24) -> 0 | V24: 0
A25: 15 | B25: 7 | C25: 2 | D25: 0 | E25: 4 | F25: 0 | G25: 0 | H25: 0 | K25: 0 | N25: 0 | P25: =Q25+T25+U25 -> 4 | Q25: =R25+S25 -> 4 | R25: =SUM(D25:G25) -> 4 | S25: =SUM(H25:K25) -> 0 | T25: =SUM(L25:M25) -> 0 | U25: =SUM(N25:O25) -> 0 | V25: 0
A26: 16 | B26: 10 | C26: 2 | D26: 2 | E26: 1 | F26: 0 | G26: 0 | H26: 0 | K26: 2 | N26: 0 | P26: =Q26+T26+U26 -> 5 | Q26: =R26+S26 -> 5 | R26: =SUM(D26:G26) -> 3 | S26: =SUM(H26:K26) -> 2 | T26: =SUM(L26:M26) -> 0 | U26: =SUM(N26:O26) -> 0 | V26: 0
A27: 17 | B27: 6 | C27: 2 | D27: 1 | E27: 2 | F27: 0 | G27: 0 | H27: 0 | K27: 0 | N27: 0 | P27: =Q27+T27+U27 -> 3 | Q27: =R27+S27 -> 3 | R27: =SUM(D27:G27) -> 3 | S27: =SUM(H27:K27) -> 0 | T27: =SUM(L27:M27) -> 0 | U27: =SUM(N27:O27) -> 0 | V27: 0
A28: 18 | B28: 2 | C28: 2 | D28: 1 | E28: 0 | F28: 0 | G28: 0 | H28: 0 | K28: 1 | N28: 0 | P28: =Q28+T28+U28 -> 2 | Q28: =R28+S28 -> 2 | R28: =SUM(D28:G28) -> 1 | S28: =SUM(H28:K28) -> 1 | T28: =SUM(L28:M28) -> 0 | U28: =SUM(N28:O28) -> 0 | V28: 0
A29: 19 | B29: 3 | C29: 2 | D29: 0 | E29: 0 | F29: 0 | G29: 0 | H29: 0 | K29: 1 | N29: 0 | P29: =Q29+T29+U29 -> 1 | Q29: =R29+S29 -> 1 | R29: =SUM(D29:G29) -> 0 | S29: =SUM(H29:K29) -> 1 | T29: =SUM(L29:M29) -> 0 | U29: =SUM(N29:O29) -> 0 | V29: 0
A30: 20 | B30: 11 | C30: 2
A31: 21 | B31: 12 | C31: 2 | D31: 5 | E31: 1 | F31: 0 | G31: 0 | H31: 0 | K31: 1 | N31: 0 | P31: =Q31+T31+U31 -> 7 | Q31: =R31+S31 -> 7 | R31: =SUM(D31:G31) -> 6 | S31: =SUM(H31:K31) -> 1 | T31: =SUM(L31:M31) -> 0 | U31: =SUM(N31:O31) -> 0 | V31: 0
A32: 22 | B32: 9 | C32: 2 | D32: 5 | E32: 1 | F32: 0 | G32: 0 | H32: 0 | K32: 1 | N32: 0 | P32: =Q32+T32+U32 -> 7 | Q32: =R32+S32 -> 7 | R32: =SUM(D32:G32) -> 6 | S32: =SUM(H32:K32) -> 1 | T32: =SUM(L32:M32) -> 0 | U32: =SUM(N32:O32) -> 0 | V32: 0
A33: 23 | B33: 4 | C33: 2 | D33: 5 | E33: 5 | F33: 0 | G33: 0 | H33: 0 | K33: 1 | N33: 0 | P33: =Q33+T33+U33 -> 11 | Q33: =R33+S33 -> 11 | R33: =SUM(D33:G33) -> 10 | S33: =SUM(H33:K33) -> 1 | T33: =SUM(L33:M33) -> 0 | U33: =SUM(N33:O33) -> 0 | V33: 0
A34: 24 | B34: 8 | C34: 2 | D34: 1 | E34: 0 | F34: 0 | G34: 0 | H34: 0 | K34: 2 | N34: 0 | P34: =Q34+T34+U34 -> 3 | Q34: =R34+S34 -> 3 | R34: =SUM(D34:G34) -> 1 | S34: =SUM(H34:K34) -> 2 | T34: =SUM(L34:M34) -> 0 | U34: =SUM(N34:O34) -> 0 | V34: 0
A35: 25 | B35: 5 | C35: 3 | D35: 0 | E35: 0 | F35: 0 | G35: 0 | H35: 0 | K35: 1 | N35: 0 | P35: =Q35+T35+U35 -> 1 | Q35: =R35+S35 -> 1 | R35: =SUM(D35:G35) -> 0 | S35: =SUM(H35:K35) -> 1 | T35: =SUM(L35:M35) -> 0 | U35: =SUM(N35:O35) -> 0 | V35: 0
A36: 26 | B36: 11 | C36: 3
A37: 27 | B37: 9 | C37: 3 | D37: 2 | E37: 0.5 | F37: 0 | G37: 0 | H37: 0 | K37: 0.5 | N37: 0 | P37: =Q37+T37+U37 -> 3 | Q37: =R37+S37 -> 3 | R37: =SUM(D37:G37) -> 2.5 | S37: =SUM(H37:K37) -> 0.5 | T37: =SUM(L37:M37) -> 0 | U37: =SUM(N37:O37) -> 0 | V37: 0
A38: 28 | B38: 6 | C38: 3 | D38: 1 | E38: 2 | F38: 0 | G38: 0 | H38: 0 | K38: 1 | N38: 0 | P38: =Q38+T38+U38 -> 4 | Q38: =R38+S38 -> 4 | R38: =SUM(D38:G38) -> 3 | S38: =SUM(H38:K38) -> 1 | T38: =SUM(L38:M38) -> 0 | U38: =SUM(N38:O38) -> 0 | V38: 0
A39: 29 | B39: 7 | C39: 3 | D39: 0 | E39: 2 | F39: 0 | G39: 0 | H39: 0 | K39: 1 | N39: 0 | P39: =Q39+T39+U39 -> 3 | Q39: =R39+S39 -> 3 | R39: =SUM(D39:G39) -> 2 | S39: =SUM(H39:K39) -> 1 | T39: =SUM(L39:M39) -> 0 | U39: =SUM(N39:O39) -> 0 | V39: 0
A40: 30 | B40: 1 | C40: 3 | D40: 30 | E40: 4 | F40: 1 | G40: 1 | H40: 0 | K40: 2 | N40: 0 | P40: =Q40+T40+U40 -> 38 | Q40: =R40+S40 -> 38 | R40: =SUM(D40:G40) -> 36 | S40: =SUM(H40:K40) -> 2 | T40: =SUM(L40:M40) -> 0 | U40: =SUM(N40:O40) -> 0 | V40: 0
A41: 31 | B41: 10 | C41: 3 | D41: 2 | E41: 1 | F41: 0 | G41: 0 | H41: 0 | K41: 1 | N41: 0 | P41: =Q41+T41+U41 -> 4 | Q41: =R41+S41 -> 4 | R41: =SUM(D41:G41) -> 3 | S41: =SUM(H41:K41) -> 1 | T41: =SUM(L41:M41) -> 0 | U41: =SUM(N41:O41) -> 0 | V41: 0
A42: 32 | B42: 4 | C42: 3 | D42: 1 | E42: 1 | F42: 0 | G42: 0 | H42: 0 | K42: 1 | N42: 0 | P42: =Q42+T42+U42 -> 3 | Q42: =R42+S42 -> 3 | R42: =SUM(D42:G42) -> 2 | S42: =SUM(H42:K42) -> 1 | T42: =SUM(L42:M42) -> 0 | U42: =SUM(N42:O42) -> 0 | V42: 0
A43: 33 | B43: 8 | C43: 3 | D43: 0 | E43: 0 | F43: 0 | G43: 0 | H43: 1 | K43: 1 | N43: 0 | P43: =Q43+T43+U43 -> 2 | Q43: =R43+S43 -> 2 | R43: =SUM(D43:G43) -> 0 | S43: =SUM(H43:K43) -> 2 | T43: =SUM(L43:M43) -> 0 | U43: =SUM(N43:O43) -> 0 | V43: 0
A44: 34 | B44: 12 | C44: 3 | D44: 1 | E44: 0.1 | F44: 0 | G44: 0 | H44: 0 | K44: 1 | N44: 0 | P44: =Q44+T44+U44 -> 2.1 | Q44: =R44+S44 -> 2.1 | R44: =SUM(D44:G44) -> 1.1 | S44: =SUM(H44:K44) -> 1 | T44: =SUM(L44:M44) -> 0 | U44: =SUM(N44:O44) -> 0 | V44: 0
A45: 35 | B45: 2 | C45: 3 | D45: 1 | E45: 0 | F45: 0 | G45: 0 | H45: 0.1 | K45: 0 | N45: 0 | P45: =Q45+T45+U45 -> 1.1 | Q45: =R45+S45 -> 1.1 | R45: =SUM(D45:G45) -> 1 | S45: =SUM(H45:K45) -> 0.1 | T45: =SUM(L45:M45) -> 0 | U45: =SUM(N45:O45) -> 0 | V45: 0
A46: 36 | B46: 3 | C46: 3 | D46: 0 | E46: 0 | F46: 0 | G46: 0 | H46: 0 | K46: 1 | N46: 0 | P46: =Q46+T46+U46 -> 1 | Q46: =R46+S46 -> 1 | R46: =SUM(D46:G46) -> 0 | S46: =SUM(H46:K46) -> 1 | T46: =SUM(L46:M46) -> 0 | U46: =SUM(N46:O46) -> 0 | V46: 0
A47: 37 | B47: 5 | C47: 4 | D47: 0 | E47: 0 | F47: 0 | G47: 0 | H47: 0 | K47: 1 | N47: 0 | P47: =Q47+T47+U47 -> 1 | Q47: =R47+S47 -> 1 | R47: =SUM(D47:G47) -> 0 | S47: =SUM(H47:K47) -> 1 | T47: =SUM(L47:M47) -> 0 | U47: =SUM(N47:O47) -> 0 | V47: 0
A48: 38 | B48: 11 | C48: 4
A49: 39 | B49: 8 | C49: 4 | D49: 0 | E49: 0 | F49: 0 | G49: 0 | H49: 0 | K49: 1 | N49: 0 | P49: =Q49+T49+U49 -> 1 | Q49: =R49+S49 -> 1 | R49: =SUM(D49:G49) -> 0 | S49: =SUM(H49:K49) -> 1 | T49: =SUM(L49:M49) -> 0 | U49: =SUM(N49:O49) -> 0 | V49: 0
A50: 40 | B50: 10 | C50: 4 | D50: 1 | E50: 1 | F50: 0 | G50: 0 | H50: 0 | K50: 0 | N50: 0 | P50: =Q50+T50+U50 -> 2 | Q50: =R50+S50 -> 2 | R50: =SUM(D50:G50) -> 2 | S50: =SUM(H50:K50) -> 0 | T50: =SUM(L50:M50) -> 0 | U50: =SUM(N50:O50) -> 0 | V50: 0
A51: 41 | B51: 6 | C51: 4 | D51: 1 | E51: 3 | F51: 0 | G51: 0 | H51: 0 | K51: 1 | N51: 0 | P51: =Q51+T51+U51 -> 5 | Q51: =R51+S51 -> 5 | R51: =SUM(D51:G51) -> 4 | S51: =SUM(H51:K51) -> 1 | T51: =SUM(L51:M51) -> 0 | U51: =SUM(N51:O51) -> 0 | V51: 0
A52: 42 | B52: 9 | C52: 4 | D52: 1 | E52: 1 | F52: 0 | G52: 0 | H52: 0 | K52: 1 | N52: 0 | P52: =Q52+T52+U52 -> 3 | Q52: =R52+S52 -> 3 | R52: =SUM(D52:G52) -> 2 | S52: =SUM(H52:K52) -> 1 | T52: =SUM(L52:M52) -> 0 | U52: =SUM(N52:O52) -> 0 | V52: 0
A53: 43 | B53: 2 | C53: 4 | D53: 0.5 | E53: 0 | F53: 0 | G53: 1 | H53: 1 | K53: 0.5 | N53: 0 | P53: =Q53+T53+U53 -> 3 | Q53: =R53+S53 -> 3 | R53: =SUM(D53:G53) -> 1.5 | S53: =SUM(H53:K53) -> 1.5 | T53: =SUM(L53:M53) -> 0 | U53: =SUM(N53:O53) -> 0 | V53: 0
A54: 44 | B54: 3 | C54: 4 | D54: 0 | E54: 0 | F54: 0 | G54: 0 | H54: 0 | K54: 1 | N54: 0 | P54: =Q54+T54+U54 -> 1 | Q54: =R54+S54 -> 1 | R54: =SUM(D54:G54) -> 0 | S54: =SUM(H54:K54) -> 1 | T54: =SUM(L54:M54) -> 0 | U54: =SUM(N54:O54) -> 0 | V54: 0
A55: 45 | B55: 4 | C55: 4 | D55: 3 | E55: 0.1 | F55: 0 | G55: 0 | H55: 0 | K55: 1 | N55: 0 | Q55: =R55+S55 -> 4.1 | R55: =SUM(D55:G55) -> 3.1 | S55: =SUM(H55:K55) -> 1 | V55: 0
A56: 46 | B56: 12 | C56: 4 | D56: 3 | E56: 0.1 | F56: 0 | G56: 0 | H56: 0 | K56: 1 | N56: 0 | Q56: =R56+S56 -> 4.1 | R56: =SUM(D56:G56) -> 3.1 | S56: =SUM(H56:K56) -> 1 | V56: 0
A57: 47 | B57: 1 | C57: 4 | D57: 25 | E57: 0.1 | F57: 1 | G57: 1 | H57: 1 | K57: 2 | N57: 0 | Q57: =R57+S57 -> 30.1 | R57: =SUM(D57:G57) -> 27.1 | S57: =SUM(H57:K57) -> 3 | V57: 0
A58: 48 | B58: 7 | C58: 4 | D58: 1 | E58: 0.5 | F58: 0 | G58: 0 | H58: 0 | K58: 1.5 | N58: 0 | Q58: =R58+S58 -> 3 | R58: =SUM(D58:G58) -> 1.5 | S58: =SUM(H58:K58) -> 1.5 | V58: 0

Sheet Protokoll
A1: Ogräsgradering
A2: Plan nr. | B2: OS5-8010P
A3: Försöks nr. | B3: I-631-2016
A4: ADB nr. | B4: 05B408
B6: Antal/m2 | C6: P16 | D6: Höstraps | E6: Penningört | F6: Vallmo | G6: Baldersbrå | H6: Näva | I6: Etternässla | J6: Fårtunga | K6: Veronika | L6: Våtarv | M6: Svinmålla | N6: Åkerspergel | O6: Rödplister | P6: Vitgröe | Q6: Kvickrot | R6: Spillsäd
A7: Block I | B7: 0.25
A8: Block II | B8: 0.25
A9: Block III | B9: 0.25
A10: Block IV | B10: 0.25
A11: Utveckling, BBCH
B12: min
B13: max
A14: Höjd (cm)
A15: Diameter (cm)

Sheet 10-17 P26 Effekt
A1: Ogräsgradering effekt
A2: Plan nr: | D2: ='10-17 P26 Marktäckning'!D2 -> L5-8010
A3: Försöks nr: | D3: ='10-17 P26 Marktäckning'!D3 -> I-748-2018
A4: ADB nr: | D4: ='10-17 P26 Marktäckning'!D4 -> 05B497
A6: Datum: | D6: ='10-17 P26 Marktäckning'!D6 -> 43390
A7: P26 | D7: DC 19
A8: Effekt- gradering | D8: Övriga ettåriga effektgadering
D9: 1 | E9: 2 | F9: 3 | G9: 4 | H9: 5 | I9: 6
A10: Ruta nr | B10: Led | C10: Block | D10: Åkerveronika | E10: ='10-17 P26 Marktäckning'!E10 -> Balders brå | F10: Svinmålla | H10: Total effekt
A11: ='10-17 P26 Marktäckning'!A11 -> 1 | B11: ='10-17 P26 Marktäckning'!B11 -> 10 | C11: ='10-17 P26 Marktäckning'!C11 -> 1 | D11: 90 | E11: 90 | F11: 100 | H11: 93
A12: ='10-17 P26 Marktäckning'!A12 -> 2 | B12: ='10-17 P26 Marktäckning'!B12 -> 12 | C12: ='10-17 P26 Marktäckning'!C12 -> 1 | D12: 80 | E12: 85 | F12: 100 | H12: 85
A13: ='10-17 P26 Marktäckning'!A13 -> 3 | B13: ='10-17 P26 Marktäckning'!B13 -> 5 | C13: ='10-17 P26 Marktäckning'!C13 -> 1 | D13: 99 | E13: 97 | F13: 100 | H13: 99
A14: ='10-17 P26 Marktäckning'!A14 -> 4 | B14: ='10-17 P26 Marktäckning'!B14 -> 3 | C14: ='10-17 P26 Marktäckning'!C14 -> 1 | D14: 99 | E14: 100 | F14: 100 | H14: 99
A15: ='10-17 P26 Marktäckning'!A15 -> 5 | B15: ='10-17 P26 Marktäckning'!B15 -> 2 | C15: ='10-17 P26 Marktäckning'!C15 -> 1 | D15: 97 | E15: 99 | F15: 100 | H15: 97
A16: ='10-17 P26 Marktäckning'!A16 -> 6 | B16: ='10-17 P26 Marktäckning'!B16 -> 1 | C16: ='10-17 P26 Marktäckning'!C16 -> 1
A17: ='10-17 P26 Marktäckning'!A17 -> 7 | B17: ='10-17 P26 Marktäckning'!B17 -> 7 | C17: ='10-17 P26 Marktäckning'!C17 -> 1 | D17: 80 | E17: 85 | F17: 100 | H17: 80
A18: ='10-17 P26 Marktäckning'!A18 -> 8 | B18: ='10-17 P26 Marktäckning'!B18 -> 8 | C18: ='10-17 P26 Marktäckning'!C18 -> 1 | D18: 97 | E18: 100 | F18: 100 | H18: 97
A19: ='10-17 P26 Marktäckning'!A19 -> 9 | B19: ='10-17 P26 Marktäckning'!B19 -> 6 | C19: ='10-17 P26 Marktäckning'!C19 -> 1 | D19: 85 | E19: 85 | F19: 100 | H19: 90
A20: ='10-17 P26 Marktäckning'!A20 -> 10 | B20: ='10-17 P26 Marktäckning'!B20 -> 4 | C20: ='10-17 P26 Marktäckning'!C20 -> 1 | D20: 87 | E20: 85 | F20: 100 | H20: 93
A21: ='10-17 P26 Marktäckning'!A21 -> 11 | B21: ='10-17 P26 Marktäckning'!B21 -> 11 | C21: ='10-17 P26 Marktäckning'!C21 -> 1
A22: ='10-17 P26 Marktäckning'!A22 -> 12 | B22: ='10-17 P26 Marktäckning'!B22 -> 9 | C22: ='10-17 P26 Marktäckning'!C22 -> 1 | D22: 95 | E22: 90 | F22: 100 | H22: 95
A23: ='10-17 P26 Marktäckning'!A23 -> 13 | B23: ='10-17 P26 Marktäckning'!B23 -> 1 | C23: ='10-17 P26 Marktäckning'!C23 -> 2
A24: ='10-17 P26 Marktäckning'!A24 -> 14 | B24: ='10-17 P26 Marktäckning'!B24 -> 5 | C24: ='10-17 P26 Marktäckning'!C24 -> 2 | D24: 100 | E24: 100 | F24: 100 | H24: 99
A25: ='10-17 P26 Marktäckning'!A25 -> 15 | B25: ='10-17 P26 Marktäckning'!B25 -> 7 | C25: ='10-17 P26 Marktäckning'!C25 -> 2 | D25: 100 | E25: 70 | F25: 100 | H25: 93
A26: ='10-17 P26 Marktäckning'!A26 -> 16 | B26: ='10-17 P26 Marktäckning'!B26 -> 10 | C26: ='10-17 P26 Marktäckning'!C26 -> 2 | D26: 95 | E26: 93 | F26: 100 | H26: 95
A27: ='10-17 P26 Marktäckning'!A27 -> 17 | B27: ='10-17 P26 Marktäckning'!B27 -> 6 | C27: ='10-17 P26 Marktäckning'!C27 -> 2 | D27: 97 | E27: 90 | F27: 100 | H27: 95
A28: ='10-17 P26 Marktäckning'!A28 -> 18 | B28: ='10-17 P26 Marktäckning'!B28 -> 2 | C28: ='10-17 P26 Marktäckning'!C28 -> 2 | D28: 99 | E28: 100 | F28: 100 | H28: 99
A29: ='10-17 P26 Marktäckning'!A29 -> 19 | B29: ='10-17 P26 Marktäckning'!B29 -> 3 | C29: ='10-17 P26 Marktäckning'!C29 -> 2 | D29: 100 | E29: 100 | F29: 100 | H29: 99
A30: ='10-17 P26 Marktäckning'!A30 -> 20 | B30: ='10-17 P26 Marktäckning'!B30 -> 11 | C30: ='10-17 P26 Marktäckning'!C30 -> 2
A31: ='10-17 P26 Marktäckning'!A31 -> 21 | B31: ='10-17 P26 Marktäckning'!B31 -> 12 | C31: ='10-17 P26 Marktäckning'!C31 -> 2 | D31: 90 | E31: 90 | F31: 100 | H31: 90
A32: ='10-17 P26 Marktäckning'!A32 -> 22 | B32: ='10-17 P26 Marktäckning'!B32 -> 9 | C32: ='10-17 P26 Marktäckning'!C32 -> 2 | D32: 90 | E32: 90 | F32: 100 | H32: 90
A33: ='10-17 P26 Marktäckning'!A33 -> 23 | B33: ='10-17 P26 Marktäckning'!B33 -> 4 | C33: ='10-17 P26 Marktäckning'!C33 -> 2 | D33: 85 | E33: 50 | F33: 100 | H33: 85
A34: ='10-17 P26 Marktäckning'!A34 -> 24 | B34: ='10-17 P26 Marktäckning'!B34 -> 8 | C34: ='10-17 P26 Marktäckning'!C34 -> 2 | D34: 93 | E34: 100 | F34: 100 | H34: 95
A35: ='10-17 P26 Marktäckning'!A35 -> 25 | B35: ='10-17 P26 Marktäckning'!B35 -> 5 | C35: ='10-17 P26 Marktäckning'!C35 -> 3 | D35: 100 | E35: 100 | F35: 100 | H35: 99
A36: ='10-17 P26 Marktäckning'!A36 -> 26 | B36: ='10-17 P26 Marktäckning'!B36 -> 11 | C36: ='10-17 P26 Marktäckning'!C36 -> 3
A37: ='10-17 P26 Marktäckning'!A37 -> 27 | B37: ='10-17 P26 Marktäckning'!B37 -> 9 | C37: ='10-17 P26 Marktäckning'!C37 -> 3 | D37: 95 | E37: 95 | F37: 100 | H37: 95
A38: ='10-17 P26 Marktäckning'!A38 -> 28 | B38: ='10-17 P26 Marktäckning'!B38 -> 6 | C38: ='10-17 P26 Marktäckning'!C38 -> 3 | D38: 97 | E38: 85 | F38: 100 | H38: 93
A39: ='10-17 P26 Marktäckning'!A39 -> 29 | B39: ='10-17 P26 Marktäckning'!B39 -> 7 | C39: ='10-17 P26 Marktäckning'!C39 -> 3 | D39: 100 | E39: 85 | F39: 100 | H39: 93
A40: ='10-17 P26 Marktäckning'!A40 -> 30 | B40: ='10-17 P26 Marktäckning'!B40 -> 1 | C40: ='10-17 P26 Marktäckning'!C40 -> 3
A41: ='10-17 P26 Marktäckning'!A41 -> 31 | B41: ='10-17 P26 Marktäckning'!B41 -> 10 | C41: ='10-17 P26 Marktäckning'!C41 -> 3 | D41: 95 | E41: 95 | F41: 100 | H41: 95
A42: ='10-17 P26 Marktäckning'!A42 -> 32 | B42: ='10-17 P26 Marktäckning'!B42 -> 4 | C42: ='10-17 P26 Marktäckning'!C42 -> 3 | D42: 95 | E42: 95 | F42: 100 | H42: 95
A43: ='10-17 P26 Marktäckning'!A43 -> 33 | B43: ='10-17 P26 Marktäckning'!B43 -> 8 | C43: ='10-17 P26 Marktäckning'!C43 -> 3 | D43: 100 | E43: 100 | F43: 100 | H43: 97
A44: ='10-17 P26 Marktäckning'!A44 -> 34 | B44: ='10-17 P26 Marktäckning'!B44 -> 12 | C44: ='10-17 P26 Marktäckning'!C44 -> 3 | D44: 95 | E44: 99 | F44: 100 | H44: 97
A45: ='10-17 P26 Marktäckning'!A45 -> 35 | B45: ='10-17 P26 Marktäckning'!B45 -> 2 | C45: ='10-17 P26 Marktäckning'!C45 -> 3 | D45: 97 | E45: 100 | F45: 100 | H45: 97
A46: ='10-17 P26 Marktäckning'!A46 -> 36 | B46: ='10-17 P26 Marktäckning'!B46 -> 3 | C46: ='10-17 P26 Marktäckning'!C46 -> 3 | D46: 100 | E46: 100 | F46: 100 | H46: 99
A47: ='10-17 P26 Marktäckning'!A47 -> 37 | B47: ='10-17 P26 Marktäckning'!B47 -> 5 | C47: ='10-17 P26 Marktäckning'!C47 -> 4 | D47: 100 | E47: 100 | F47: 100 | H47: 99
A48: ='10-17 P26 Marktäckning'!A48 -> 38 | B48: ='10-17 P26 Marktäckning'!B48 -> 11 | C48: ='10-17 P26 Marktäckning'!C48 -> 4
A49: ='10-17 P26 Marktäckning'!A49 -> 39 | B49: ='10-17 P26 Marktäckning'!B49 -> 8 | C49: ='10-17 P26 Marktäckning'!C49 -> 4 | D49: 100 | E49: 100 | F49: 100 | H49: 99
A50: ='10-17 P26 Marktäckning'!A50 -> 40 | B50: ='10-17 P26 Marktäckning'!B50 -> 10 | C50: ='10-17 P26 Marktäckning'!C50 -> 4 | D50: 95 | E50: 90 | F50: 100 | H50: 95
A51: ='10-17 P26 Marktäckning'!A51 -> 41 | B51: ='10-17 P26 Marktäckning'!B51 -> 6 | C51: ='10-17 P26 Marktäckning'!C51 -> 4 | D51: 95 | E51: 80 | F51: 100 | H51: 93
A52: ='10-17 P26 Marktäckning'!A52 -> 42 | B52: ='10-17 P26 Marktäckning'!B52 -> 9 | C52: ='10-17 P26 Marktäckning'!C52 -> 4 | D52: 95 | E52: 90 | F52: 100 | H52: 95
A53: ='10-17 P26 Marktäckning'!A53 -> 43 | B53: ='10-17 P26 Marktäckning'!B53 -> 2 | C53: ='10-17 P26 Marktäckning'!C53 -> 4 | D53: 97 | E53: 100 | F53: 100 | H53: 97
A54: ='10-17 P26 Marktäckning'!A54 -> 44 | B54: ='10-17 P26 Marktäckning'!B54 -> 3 | C54: ='10-17 P26 Marktäckning'!C54 -> 4 | D54: 100 | E54: 100 | F54: 100 | H54: 99
A55: ='10-17 P26 Marktäckning'!A55 -> 45 | B55: ='10-17 P26 Marktäckning'!B55 -> 4 | C55: ='10-17 P26 Marktäckning'!C55 -> 4 | D55: 87 | E55: 97 | F55: 100 | H55: 90
A56: ='10-17 P26 Marktäckning'!A56 -> 46 | B56: ='10-17 P26 Marktäckning'!B56 -> 12 | C56: ='10-17 P26 Marktäckning'!C56 -> 4 | D56: 87 | E56: 97 | F56: 100 | H56: 90
A57: ='10-17 P26 Marktäckning'!A57 -> 47 | B57: ='10-17 P26 Marktäckning'!B57 -> 1 | C57: ='10-17 P26 Marktäckning'!C57 -> 4
A58: ='10-17 P26 Marktäckning'!A58 -> 48 | B58: ='10-17 P26 Marktäckning'!B58 -> 7 | C58: ='10-17 P26 Marktäckning'!C58 -> 4 | D58: 97 | E58: 90 | F58: 99 | H58: 95

Sheet 11-17 P27 Marktäckning
A1: Ogräsgradering marktäckning
A2: Plan nr: | D2: L5-8010
A3: Försöks nr: | D3: I-748-2018
A4: ADB nr: | D4: 05B497
A6: Datum: | D6: 43421
A7: P27 | D7: DC 19
A8: Mark- täckning | D8: Övriga ettåriga örtogräs marktäckning | L8: Övriga fleråriga örtogräs marktäckning | N8: Övriga gräsogräs % marktäckning | P8: Marktäckning ogräs totalt % | Q8: Marktäckning samtliga ettåriga örtogräs % | R8: Marktäckning 5 vanligaste ettåriga örtogräs % | S8: Marktäckning övriga ettåriga örtogräs % | T8: Marktäckning övriga fleråriga örtogräs % | U8: Marktäckning gräsogräs % | V8: Marktäckning fräken %
D9: 1 | E9: 2 | F9: 3 | G9: 4 | H9: 5 | I9: 6 | J9: 7 | K9: 8 | L9: 14 | M9: 15 | N9: 18 | O9: 19
A10: Ruta nr | B10: Led | C10: Block | D10: Åker veronika | E10: Balders brå | F10: Svin målla | G10: Sommargyllen | H10: Lomme | I10: Molke | K10: Övriga ogräs | N10: Spillsäd
A11: 1 | B11: 10 | C11: 1 | D11: 10 | E11: 0.1 | F11: 0 | G11: 0 | H11: 0 | I11: 0 | K11: 1 | N11: 5 | P11: =Q11+T11+U11+V11 -> 16.1 | Q11: =R11+S11 -> 11.1 | R11: =SUM(D11:G11) -> 10.1 | S11: =SUM(H11:K11) -> 1 | T11: =SUM(L11:M11) -> 0 | U11: =SUM(N11:O11) -> 5 | V11: 0
A12: 2 | B12: 12 | C12: 1 | D12: 7 | E12: 0.1 | F12: 0 | G12: 0 | H12: 0 | I12: 0 | K12: 2 | N12: 0 | P12: =Q12+T12+U12 -> 9.1 | Q12: =R12+S12 -> 9.1 | R12: =SUM(D12:G12) -> 7.1 | S12: =SUM(H12:K12) -> 2 | T12: =SUM(L12:M12) -> 0 | U12: =SUM(N12:O12) -> 0 | V12: 0
A13: 3 | B13: 5 | C13: 1 | D13: 0 | E13: 0 | F13: 0 | G13: 0 | H13: 0 | I13: 0 | K13: 2 | N13: 0 | P13: =Q13+T13+U13 -> 2 | Q13: =R13+S13 -> 2 | R13: =SUM(D13:G13) -> 0 | S13: =SUM(H13:K13) -> 2 | T13: =SUM(L13:M13) -> 0 | U13: =SUM(N13:O13) -> 0 | V13: 0
A14: 4 | B14: 3 | C14: 1 | D14: 2 | E14: 0 | F14: 0 | G14: 0 | H14: 0 | I14: 0 | K14: 0.5 | N14: 0 | P14: =Q14+T14+U14 -> 2.5 | Q14: =R14+S14 -> 2.5 | R14: =SUM(D14:G14) -> 2 | S14: =SUM(H14:K14) -> 0.5 | T14: =SUM(L14:M14) -> 0 | U14: =SUM(N14:O14) -> 0 | V14: 0
A15: 5 | B15: 2 | C15: 1 | D15: 3 | E15: 0.1 | F15: 0 | G15: 0 | H15: 0 | I15: 0 | K15: 1 | N15: 0 | P15: =Q15+T15+U15 -> 4.1 | Q15: =R15+S15 -> 4.1 | R15: =SUM(D15:G15) -> 3.1 | S15: =SUM(H15:K15) -> 1 | T15: =SUM(L15:M15) -> 0 | U15: =SUM(N15:O15) -> 0 | V15: 0
A16: 6 | B16: 1 | C16: 1 | D16: 35 | E16: 2 | F16: 1 | G16: 1 | H16: 0 | I16: 2 | K16: 2 | N16: 0 | P16: =Q16+T16+U16 -> 43 | Q16: =R16+S16 -> 43 | R16: =SUM(D16:G16) -> 39 | S16: =SUM(H16:K16) -> 4 | T16: =SUM(L16:M16) -> 0 | U16: =SUM(N16:O16) -> 0 | V16: 0
A17: 7 | B17: 7 | C17: 1 | D17: 10 | E17: 3 | F17: 0 | G17: 0 | H17: 0 | I17: 0 | K17: 4 | N17: 0 | P17: =Q17+T17+U17 -> 17 | Q17: =R17+S17 -> 17 | R17: =SUM(D17:G17) -> 13 | S17: =SUM(H17:K17) -> 4 | T17: =SUM(L17:M17) -> 0 | U17: =SUM(N17:O17) -> 0 | V17: 0
A18: 8 | B18: 8 | C18: 1 | D18: 0 | E18: 0 | F18: 0 | G18: 0 | H18: 0 | I18: 0 | K18: 3 | N18: 0 | P18: =Q18+T18+U18 -> 3 | Q18: =R18+S18 -> 3 | R18: =SUM(D18:G18) -> 0 | S18: =SUM(H18:K18) -> 3 | T18: =SUM(L18:M18) -> 0 | U18: =SUM(N18:O18) -> 0 | V18: 0
A19: 9 | B19: 6 | C19: 1 | D19: 7 | E19: 1 | F19: 0 | G19: 0 | H19: 0 | I19: 0 | K19: 2 | N19: 0 | P19: =Q19+T19+U19 -> 10 | Q19: =R19+S19 -> 10 | R19: =SUM(D19:G19) -> 8 | S19: =SUM(H19:K19) -> 2 | T19: =SUM(L19:M19) -> 0 | U19: =SUM(N19:O19) -> 0 | V19: 0
A20: 10 | B20: 4 | C20: 1 | D20: 12 | E20: 1 | F20: 0 | G20: 0 | H20: 0 | I20: 0 | K20: 2 | N20: 0 | P20: =Q20+T20+U20 -> 15 | Q20: =R20+S20 -> 15 | R20: =SUM(D20:G20) -> 13 | S20: =SUM(H20:K20) -> 2 | T20: =SUM(L20:M20) -> 0 | U20: =SUM(N20:O20) -> 0 | V20: 0
A21: 11 | B21: 11 | C21: 1
A22: 12 | B22: 9 | C22: 1 | D22: 5 | E22: 3 | F22: 0 | G22: 0 | H22: 0 | I22: 0 | K22: 2 | N22: 0 | P22: =Q22+T22+U22 -> 10 | Q22: =R22+S22 -> 10 | R22: =SUM(D22:G22) -> 8 | S22: =SUM(H22:K22) -> 2 | T22: =SUM(L22:M22) -> 0 | U22: =SUM(N22:O22) -> 0 | V22: 0
A23: 13 | B23: 1 | C23: 2 | D23: 50 | E23: 5 | F23: 1 | G23: 1 | H23: 1 | I23: 1 | K23: 2 | N23: 0 | P23: =Q23+T23+U23 -> 61 | Q23: =R23+S23 -> 61 | R23: =SUM(D23:G23) -> 57 | S23: =SUM(H23:K23) -> 4 | T23: =SUM(L23:M23) -> 0 | U23: =SUM(N23:O23) -> 0 | V23: 0
A24: 14 | B24: 5 | C24: 2 | D24: 0 | E24: 0 | F24: 0 | G24: 0 | H24: 0 | I24: 0 | K24: 2 | N24: 0 | P24: =Q24+T24+U24 -> 2 | Q24: =R24+S24 -> 2 | R24: =SUM(D24:G24) -> 0 | S24: =SUM(H24:K24) -> 2 | T24: =SUM(L24:M24) -> 0 | U24: =SUM(N24:O24) -> 0 | V24: 0
A25: 15 | B25: 7 | C25: 2 | D25: 5 | E25: 2 | F25: 0 | G25: 0.1 | H25: 0.1 | I25: 0 | K25: 4 | N25: 0 | P25: =Q25+T25+U25 -> 11.2 | Q25: =R25+S25 -> 11.2 | R25: =SUM(D25:G25) -> 7.1 | S25: =SUM(H25:K25) -> 4.1 | T25: =SUM(L25:M25) -> 0 | U25: =SUM(N25:O25) -> 0 | V25: 0
A26: 16 | B26: 10 | C26: 2 | D26: 10 | E26: 0 | F26: 0 | G26: 0 | H26: 0 | I26: 0 | K26: 0 | N26: 0 | P26: =Q26+T26+U26 -> 10 | Q26: =R26+S26 -> 10 | R26: =SUM(D26:G26) -> 10 | S26: =SUM(H26:K26) -> 0 | T26: =SUM(L26:M26) -> 0 | U26: =SUM(N26:O26) -> 0 | V26: 0
A27: 17 | B27: 6 | C27: 2 | D27: 1 | E27: 1 | F27: 0 | G27: 0 | H27: 0 | I27: 0 | K27: 3 | N27: 0 | P27: =Q27+T27+U27 -> 5 | Q27: =R27+S27 -> 5 | R27: =SUM(D27:G27) -> 2 | S27: =SUM(H27:K27) -> 3 | T27: =SUM(L27:M27) -> 0 | U27: =SUM(N27:O27) -> 0 | V27: 0
A28: 18 | B28: 2 | C28: 2 | D28: 2 | E28: 0 | F28: 0 | G28: 0 | H28: 0.5 | I28: 0 | K28: 2 | N28: 0 | P28: =Q28+T28+U28 -> 4.5 | Q28: =R28+S28 -> 4.5 | R28: =SUM(D28:G28) -> 2 | S28: =SUM(H28:K28) -> 2.5 | T28: =SUM(L28:M28) -> 0 | U28: =SUM(N28:O28) -> 0 | V28: 0
A29: 19 | B29: 3 | C29: 2 | D29: 1 | E29: 0 | F29: 0 | G29: 0 | H29: 0 | I29: 0 | K29: 1 | N29: 0 | P29: =Q29+T29+U29 -> 2 | Q29: =R29+S29 -> 2 | R29: =SUM(D29:G29) -> 1 | S29: =SUM(H29:K29) -> 1 | T29: =SUM(L29:M29) -> 0 | U29: =SUM(N29:O29) -> 0 | V29: 0
A30: 20 | B30: 11 | C30: 2
A31: 21 | B31: 12 | C31: 2 | D31: 7 | E31: 0.5 | F31: 0 | G31: 0 | H31: 0 | I31: 0 | K31: 1 | N31: 0 | P31: =Q31+T31+U31 -> 8.5 | Q31: =R31+S31 -> 8.5 | R31: =SUM(D31:G31) -> 7.5 | S31: =SUM(H31:K31) -> 1 | T31: =SUM(L31:M31) -> 0 | U31: =SUM(N31:O31) -> 0 | V31: 0
A32: 22 | B32: 9 | C32: 2 | D32: 7 | E32: 1 | F32: 0 | G32: 0 | H32: 0 | I32: 0 | K32: 2 | N32: 0 | P32: =Q32+T32+U32 -> 10 | Q32: =R32+S32 -> 10 | R32: =SUM(D32:G32) -> 8 | S32: =SUM(H32:K32) -> 2 | T32: =SUM(L32:M32) -> 0 | U32: =SUM(N32:O32) -> 0 | V32: 0
A33: 23 | B33: 4 | C33: 2 | D33: 5 | E33: 1 | F33: 0 | G33: 0 | H33: 0 | I33: 0 | K33: 4 | N33: 0 | P33: =Q33+T33+U33 -> 10 | Q33: =R33+S33 -> 10 | R33: =SUM(D33:G33) -> 6 | S33: =SUM(H33:K33) -> 4 | T33: =SUM(L33:M33) -> 0 | U33: =SUM(N33:O33) -> 0 | V33: 0
A34: 24 | B34: 8 | C34: 2 | D34: 2 | E34: 0 | F34: 0 | G34: 0.1 | H34: 0.1 | I34: 0 | K34: 3 | N34: 0 | P34: =Q34+T34+U34 -> 5.2 | Q34: =R34+S34 -> 5.2 | R34: =SUM(D34:G34) -> 2.1 | S34: =SUM(H34:K34) -> 3.1 | T34: =SUM(L34:M34) -> 0 | U34: =SUM(N34:O34) -> 0 | V34: 0
A35: 25 | B35: 5 | C35: 3 | D35: 0 | E35: 0.1 | F35: 0 | G35: 0 | H35: 0 | I35: 0 | K35: 3 | N35: 0 | P35: =Q35+T35+U35 -> 3.1 | Q35: =R35+S35 -> 3.1 | R35: =SUM(D35:G35) -> 0.1 | S35: =SUM(H35:K35) -> 3 | T35: =SUM(L35:M35) -> 0 | U35: =SUM(N35:O35) -> 0 | V35: 0
A36: 26 | B36: 11 | C36: 3
A37: 27 | B37: 9 | C37: 3 | D37: 5 | E37: 1 | F37: 0 | G37: 0 | H37: 0 | I37: 0 | K37: 2 | N37: 0 | P37: =Q37+T37+U37 -> 8 | Q37: =R37+S37 -> 8 | R37: =SUM(D37:G37) -> 6 | S37: =SUM(H37:K37) -> 2 | T37: =SUM(L37:M37) -> 0 | U37: =SUM(N37:O37) -> 0 | V37: 0
A38: 28 | B38: 6 | C38: 3 | D38: 3 | E38: 0.5 | F38: 0 | G38: 0 | H38: 0 | I38: 0 | K38: 2 | N38: 0 | P38: =Q38+T38+U38 -> 5.5 | Q38: =R38+S38 -> 5.5 | R38: =SUM(D38:G38) -> 3.5 | S38: =SUM(H38:K38) -> 2 | T38: =SUM(L38:M38) -> 0 | U38: =SUM(N38:O38) -> 0 | V38: 0
A39: 29 | B39: 7 | C39: 3 | D39: 5 | E39: 1 | F39: 0 | G39: 0 | H39: 0 | I39: 0 | K39: 2 | N39: 0 | P39: =Q39+T39+U39 -> 8 | Q39: =R39+S39 -> 8 | R39: =SUM(D39:G39) -> 6 | S39: =SUM(H39:K39) -> 2 | T39: =SUM(L39:M39) -> 0 | U39: =SUM(N39:O39) -> 0 | V39: 0
A40: 30 | B40: 1 | C40: 3 | D40: 25 | E40: 2 | F40: 1 | G40: 1 | H40: 1 | I40: 2 | K40: 6 | N40: 0 | P40: =Q40+T40+U40 -> 38 | Q40: =R40+S40 -> 38 | R40: =SUM(D40:G40) -> 29 | S40: =SUM(H40:K40) -> 9 | T40: =SUM(L40:M40) -> 0 | U40: =SUM(N40:O40) -> 0 | V40: 0
A41: 31 | B41: 10 | C41: 3 | D41: 2 | E41: 0 | F41: 0 | G41: 0 | H41: 0 | I41: 0 | K41: 1 | N41: 0 | P41: =Q41+T41+U41 -> 3 | Q41: =R41+S41 -> 3 | R41: =SUM(D41:G41) -> 2 | S41: =SUM(H41:K41) -> 1 | T41: =SUM(L41:M41) -> 0 | U41: =SUM(N41:O41) -> 0 | V41: 0
A42: 32 | B42: 4 | C42: 3 | D42: 2 | E42: 0.2 | F42: 0 | G42: 0 | H42: 0 | I42: 0 | K42: 2 | N42: 0 | P42: =Q42+T42+U42 -> 4.2 | Q42: =R42+S42 -> 4.2 | R42: =SUM(D42:G42) -> 2.2 | S42: =SUM(H42:K42) -> 2 | T42: =SUM(L42:M42) -> 0 | U42: =SUM(N42:O42) -> 0 | V42: 0
A43: 33 | B43: 8 | C43: 3 | D43: 0 | E43: 0 | F43: 0 | G43: 0 | H43: 0 | I43: 0 | K43: 4 | N43: 0 | P43: =Q43+T43+U43 -> 4 | Q43: =R43+S43 -> 4 | R43: =SUM(D43:G43) -> 0 | S43: =SUM(H43:K43) -> 4 | T43: =SUM(L43:M43) -> 0 | U43: =SUM(N43:O43) -> 0 | V43: 0
A44: 34 | B44: 12 | C44: 3 | D44: 2 | E44: 0.1 | F44: 0 | G44: 0 | H44: 0 | I44: 0 | K44: 2 | N44: 0 | P44: =Q44+T44+U44 -> 4.1 | Q44: =R44+S44 -> 4.1 | R44: =SUM(D44:G44) -> 2.1 | S44: =SUM(H44:K44) -> 2 | T44: =SUM(L44:M44) -> 0 | U44: =SUM(N44:O44) -> 0 | V44: 0
A45: 35 | B45: 2 | C45: 3 | D45: 1 | E45: 0 | F45: 0 | G45: 0 | H45: 0 | I45: 0 | K45: 2 | N45: 0 | P45: =Q45+T45+U45 -> 3 | Q45: =R45+S45 -> 3 | R45: =SUM(D45:G45) -> 1 | S45: =SUM(H45:K45) -> 2 | T45: =SUM(L45:M45) -> 0 | U45: =SUM(N45:O45) -> 0 | V45: 0
A46: 36 | B46: 3 | C46: 3 | D46: 0 | E46: 0 | F46: 0 | G46: 0 | H46: 0 | I46: 0 | K46: 1 | N46: 0 | P46: =Q46+T46+U46 -> 1 | Q46: =R46+S46 -> 1 | R46: =SUM(D46:G46) -> 0 | S46: =SUM(H46:K46) -> 1 | T46: =SUM(L46:M46) -> 0 | U46: =SUM(N46:O46) -> 0 | V46: 0
A47: 37 | B47: 5 | C47: 4 | D47: 0 | E47: 0 | F47: 0 | G47: 0 | H47: 0 | I47: 0 | K47: 1 | N47: 0 | P47: =Q47+T47+U47 -> 1 | Q47: =R47+S47 -> 1 | R47: =SUM(D47:G47) -> 0 | S47: =SUM(H47:K47) -> 1 | T47: =SUM(L47:M47) -> 0 | U47: =SUM(N47:O47) -> 0 | V47: 0
A48: 38 | B48: 11 | C48: 4
A49: 39 | B49: 8 | C49: 4 | D49: 0 | E49: 0 | F49: 0 | G49: 0 | H49: 0 | I49: 0 | K49: 2 | N49: 0 | P49: =Q49+T49+U49 -> 2 | Q49: =R49+S49 -> 2 | R49: =SUM(D49:G49) -> 0 | S49: =SUM(H49:K49) -> 2 | T49: =SUM(L49:M49) -> 0 | U49: =SUM(N49:O49) -> 0 | V49: 0
A50: 40 | B50: 10 | C50: 4 | D50: 2 | E50: 0 | F50: 0 | G50: 0 | H50: 0 | I50: 0 | K50: 1 | N50: 0 | P50: =Q50+T50+U50 -> 3 | Q50: =R50+S50 -> 3 | R50: =SUM(D50:G50) -> 2 | S50: =SUM(H50:K50) -> 1 | T50: =SUM(L50:M50) -> 0 | U50: =SUM(N50:O50) -> 0 | V50: 0
A51: 41 | B51: 6 | C51: 4 | D51: 1 | E51: 0.1 | F51: 0 | G51: 0 | H51: 0 | I51: 0 | K51: 1 | N51: 0 | P51: =Q51+T51+U51 -> 2.1 | Q51: =R51+S51 -> 2.1 | R51: =SUM(D51:G51) -> 1.1 | S51: =SUM(H51:K51) -> 1 | T51: =SUM(L51:M51) -> 0 | U51: =SUM(N51:O51) -> 0 | V51: 0
A52: 42 | B52: 9 | C52: 4 | D52: 2 | E52: 0.5 | F52: 0 | G52: 0 | H52: 0 | I52: 0 | K52: 2 | N52: 0 | P52: =Q52+T52+U52 -> 4.5 | Q52: =R52+S52 -> 4.5 | R52: =SUM(D52:G52) -> 2.5 | S52: =SUM(H52:K52) -> 2 | T52: =SUM(L52:M52) -> 0 | U52: =SUM(N52:O52) -> 0 | V52: 0
A53: 43 | B53: 2 | C53: 4 | D53: 1 | E53: 0 | F53: 0 | G53: 0 | H53: 0 | I53: 0 | K53: 1 | N53: 0 | P53: =Q53+T53+U53 -> 2 | Q53: =R53+S53 -> 2 | R53: =SUM(D53:G53) -> 1 | S53: =SUM(H53:K53) -> 1 | T53: =SUM(L53:M53) -> 0 | U53: =SUM(N53:O53) -> 0 | V53: 0
A54: 44 | B54: 3 | C54: 4 | D54: 1 | E54: 0 | F54: 0 | G54: 0 | H54: 0 | I54: 0 | K54: 1 | N54: 0 | P54: =Q54+T54+U54 -> 2 | Q54: =R54+S54 -> 2 | R54: =SUM(D54:G54) -> 1 | S54: =SUM(H54:K54) -> 1 | T54: =SUM(L54:M54) -> 0 | U54: =SUM(N54:O54) -> 0 | V54: 0
A55: 45 | B55: 4 | C55: 4 | D55: 4 | E55: 0.1 | F55: 0 | G55: 0 | H55: 0 | I55: 0 | K55: 2 | N55: 0 | Q55: =R55+S55 -> 6.1 | R55: =SUM(D55:G55) -> 4.1 | S55: =SUM(H55:K55) -> 2 | V55: 0
A56: 46 | B56: 12 | C56: 4 | D56: 3 | E56: 0.1 | F56: 0 | G56: 0 | H56: 0 | I56: 0 | K56: 2 | N56: 0 | Q56: =R56+S56 -> 5.1 | R56: =SUM(D56:G56) -> 3.1 | S56: =SUM(H56:K56) -> 2 | V56: 0
A57: 47 | B57: 1 | C57: 4 | D57: 25 | E57: 0.2 | F57: 0 | G57: 1 | H57: 0 | I57: 1 | K57: 2 | N57: 0 | Q57: =R57+S57 -> 29.2 | R57: =SUM(D57:G57) -> 26.2 | S57: =SUM(H57:K57) -> 3 | V57: 0
A58: 48 | B58: 7 | C58: 4 | D58: 5 | E58: 0.2 | F58: 0 | G58: 0 | H58: 0 | I58: 0 | K58: 4 | N58: 0 | Q58: =R58+S58 -> 9.2 | R58: =SUM(D58:G58) -> 5.2 | S58: =SUM(H58:K58) -> 4 | V58: 0

Sheet 11-17 P27 Effekt
A1: Ogräsgradering effekt
A2: Plan nr: | D2: ='10-17 P26 Marktäckning'!D2 -> L5-8010
A3: Försöks nr: | D3: ='10-17 P26 Marktäckning'!D3 -> I-748-2018
A4: ADB nr: | D4: ='10-17 P26 Marktäckning'!D4 -> 05B497
A6: Datum: | D6: 43421
A7: P27 | D7: DC 19
A8: Effekt- gradering | D8: Övriga ettåriga effektgadering
D9: 1 | E9: 2 | F9: 3 | G9: 4 | H9: 5 | I9: 6
A10: Ruta nr | B10: Led | C10: Block | D10: Åkerveronika | E10: ='10-17 P26 Marktäckning'!E10 -> Balders brå | F10: Svinmålla | H10: Total effekt
A11: ='10-17 P26 Marktäckning'!A11 -> 1 | B11: ='10-17 P26 Marktäckning'!B11 -> 10 | C11: ='10-17 P26 Marktäckning'!C11 -> 1 | D11: 85 | E11: 97 | F11: 100 | G11: 90
A12: ='10-17 P26 Marktäckning'!A12 -> 2 | B12: ='10-17 P26 Marktäckning'!B12 -> 12 | C12: ='10-17 P26 Marktäckning'!C12 -> 1 | D12: 90 | E12: 97 | F12: 100 | G12: 95
A13: ='10-17 P26 Marktäckning'!A13 -> 3 | B13: ='10-17 P26 Marktäckning'!B13 -> 5 | C13: ='10-17 P26 Marktäckning'!C13 -> 1 | D13: 100 | E13: 100 | F13: 100 | G13: 99
A14: ='10-17 P26 Marktäckning'!A14 -> 4 | B14: ='10-17 P26 Marktäckning'!B14 -> 3 | C14: ='10-17 P26 Marktäckning'!C14 -> 1 | D14: 97 | E14: 100 | F14: 100 | G14: 98
A15: ='10-17 P26 Marktäckning'!A15 -> 5 | B15: ='10-17 P26 Marktäckning'!B15 -> 2 | C15: ='10-17 P26 Marktäckning'!C15 -> 1 | D15: 95 | E15: 97 | F15: 100 | G15: 97
A16: ='10-17 P26 Marktäckning'!A16 -> 6 | B16: ='10-17 P26 Marktäckning'!B16 -> 1 | C16: ='10-17 P26 Marktäckning'!C16 -> 1
A17: ='10-17 P26 Marktäckning'!A17 -> 7 | B17: ='10-17 P26 Marktäckning'!B17 -> 7 | C17: ='10-17 P26 Marktäckning'!C17 -> 1 | D17: 80 | E17: 40 | F17: 100 | G17: 85
A18: ='10-17 P26 Marktäckning'!A18 -> 8 | B18: ='10-17 P26 Marktäckning'!B18 -> 8 | C18: ='10-17 P26 Marktäckning'!C18 -> 1 | D18: 100 | E18: 100 | F18: 100 | G18: 99
A19: ='10-17 P26 Marktäckning'!A19 -> 9 | B19: ='10-17 P26 Marktäckning'!B19 -> 6 | C19: ='10-17 P26 Marktäckning'!C19 -> 1 | D19: 90 | E19: 60 | F19: 100 | G19: 85
A20: ='10-17 P26 Marktäckning'!A20 -> 10 | B20: ='10-17 P26 Marktäckning'!B20 -> 4 | C20: ='10-17 P26 Marktäckning'!C20 -> 1 | D20: 75 | E20: 75 | F20: 100 | G20: 75
A21: ='10-17 P26 Marktäckning'!A21 -> 11 | B21: ='10-17 P26 Marktäckning'!B21 -> 11 | C21: ='10-17 P26 Marktäckning'!C21 -> 1
A22: ='10-17 P26 Marktäckning'!A22 -> 12 | B22: ='10-17 P26 Marktäckning'!B22 -> 9 | C22: ='10-17 P26 Marktäckning'!C22 -> 1 | D22: 90 | E22: 30 | F22: 100 | G22: 80
A23: ='10-17 P26 Marktäckning'!A23 -> 13 | B23: ='10-17 P26 Marktäckning'!B23 -> 1 | C23: ='10-17 P26 Marktäckning'!C23 -> 2
A24: ='10-17 P26 Marktäckning'!A24 -> 14 | B24: ='10-17 P26 Marktäckning'!B24 -> 5 | C24: ='10-17 P26 Marktäckning'!C24 -> 2 | D24: 100 | E24: 100 | F24: 100 | G24: 99
A25: ='10-17 P26 Marktäckning'!A25 -> 15 | B25: ='10-17 P26 Marktäckning'!B25 -> 7 | C25: ='10-17 P26 Marktäckning'!C25 -> 2 | D25: 90 | E25: 50 | F25: 100 | G25: 85
A26: ='10-17 P26 Marktäckning'!A26 -> 16 | B26: ='10-17 P26 Marktäckning'!B26 -> 10 | C26: ='10-17 P26 Marktäckning'!C26 -> 2 | D26: 85 | E26: 100 | F26: 100 | G26: 93
A27: ='10-17 P26 Marktäckning'!A27 -> 17 | B27: ='10-17 P26 Marktäckning'!B27 -> 6 | C27: ='10-17 P26 Marktäckning'!C27 -> 2 | D27: 99 | E27: 85 | F27: 100 | G27: 90
A28: ='10-17 P26 Marktäckning'!A28 -> 18 | B28: ='10-17 P26 Marktäckning'!B28 -> 2 | C28: ='10-17 P26 Marktäckning'!C28 -> 2 | D28: 95 | E28: 100 | F28: 100 | G28: 97
A29: ='10-17 P26 Marktäckning'!A29 -> 19 | B29: ='10-17 P26 Marktäckning'!B29 -> 3 | C29: ='10-17 P26 Marktäckning'!C29 -> 2 | D29: 99 | E29: 100 | F29: 100 | G29: 98
A30: ='10-17 P26 Marktäckning'!A30 -> 20 | B30: ='10-17 P26 Marktäckning'!B30 -> 11 | C30: ='10-17 P26 Marktäckning'!C30 -> 2
A31: ='10-17 P26 Marktäckning'!A31 -> 21 | B31: ='10-17 P26 Marktäckning'!B31 -> 12 | C31: ='10-17 P26 Marktäckning'!C31 -> 2 | D31: 90 | E31: 93 | F31: 100 | G31: 90
A32: ='10-17 P26 Marktäckning'!A32 -> 22 | B32: ='10-17 P26 Marktäckning'!B32 -> 9 | C32: ='10-17 P26 Marktäckning'!C32 -> 2 | D32: 90 | E32: 50 | F32: 100 | G32: 90
A33: ='10-17 P26 Marktäckning'!A33 -> 23 | B33: ='10-17 P26 Marktäckning'!B33 -> 4 | C33: ='10-17 P26 Marktäckning'!C33 -> 2 | D33: 93 | E33: 50 | F33: 100 | G33: 90
A34: ='10-17 P26 Marktäckning'!A34 -> 24 | B34: ='10-17 P26 Marktäckning'!B34 -> 8 | C34: ='10-17 P26 Marktäckning'!C34 -> 2 | D34: 95 | E34: 100 | F34: 100 | G34: 95
A35: ='10-17 P26 Marktäckning'!A35 -> 25 | B35: ='10-17 P26 Marktäckning'!B35 -> 5 | C35: ='10-17 P26 Marktäckning'!C35 -> 3 | D35: 100 | E35: 100 | F35: 100 | G35: 99
A36: ='10-17 P26 Marktäckning'!A36 -> 26 | B36: ='10-17 P26 Marktäckning'!B36 -> 11 | C36: ='10-17 P26 Marktäckning'!C36 -> 3
A37: ='10-17 P26 Marktäckning'!A37 -> 27 | B37: ='10-17 P26 Marktäckning'!B37 -> 9 | C37: ='10-17 P26 Marktäckning'!C37 -> 3 | D37: 90 | E37: 60 | F37: 100 | G37: 85
A38: ='10-17 P26 Marktäckning'!A38 -> 28 | B38: ='10-17 P26 Marktäckning'!B38 -> 6 | C38: ='10-17 P26 Marktäckning'!C38 -> 3 | D38: 93 | E38: 80 | F38: 100 | G38: 90
A39: ='10-17 P26 Marktäckning'!A39 -> 29 | B39: ='10-17 P26 Marktäckning'!B39 -> 7 | C39: ='10-17 P26 Marktäckning'!C39 -> 3 | D39: 90 | E39: 60 | F39: 100 | G39: 85
A40: ='10-17 P26 Marktäckning'!A40 -> 30 | B40: ='10-17 P26 Marktäckning'!B40 -> 1 | C40: ='10-17 P26 Marktäckning'!C40 -> 3
A41: ='10-17 P26 Marktäckning'!A41 -> 31 | B41: ='10-17 P26 Marktäckning'!B41 -> 10 | C41: ='10-17 P26 Marktäckning'!C41 -> 3 | D41: 97 | E41: 100 | F41: 100 | G41: 98
A42: ='10-17 P26 Marktäckning'!A42 -> 32 | B42: ='10-17 P26 Marktäckning'!B42 -> 4 | C42: ='10-17 P26 Marktäckning'!C42 -> 3 | D42: 97 | E42: 93 | F42: 100 | G42: 95
A43: ='10-17 P26 Marktäckning'!A43 -> 33 | B43: ='10-17 P26 Marktäckning'!B43 -> 8 | C43: ='10-17 P26 Marktäckning'!C43 -> 3 | D43: 100 | E43: 100 | F43: 100 | G43: 97
A44: ='10-17 P26 Marktäckning'!A44 -> 34 | B44: ='10-17 P26 Marktäckning'!B44 -> 12 | C44: ='10-17 P26 Marktäckning'!C44 -> 3 | D44: 97 | E44: 93 | F44: 100 | G44: 95
A45: ='10-17 P26 Marktäckning'!A45 -> 35 | B45: ='10-17 P26 Marktäckning'!B45 -> 2 | C45: ='10-17 P26 Marktäckning'!C45 -> 3 | D45: 99 | E45: 100 | F45: 100 | G45: 98
A46: ='10-17 P26 Marktäckning'!A46 -> 36 | B46: ='10-17 P26 Marktäckning'!B46 -> 3 | C46: ='10-17 P26 Marktäckning'!C46 -> 3 | D46: 100 | E46: 100 | F46: 100 | G46: 99
A47: ='10-17 P26 Marktäckning'!A47 -> 37 | B47: ='10-17 P26 Marktäckning'!B47 -> 5 | C47: ='10-17 P26 Marktäckning'!C47 -> 4 | D47: 100 | E47: 100 | F47: 100 | G47: 99
A48: ='10-17 P26 Marktäckning'!A48 -> 38 | B48: ='10-17 P26 Marktäckning'!B48 -> 11 | C48: ='10-17 P26 Marktäckning'!C48 -> 4
A49: ='10-17 P26 Marktäckning'!A49 -> 39 | B49: ='10-17 P26 Marktäckning'!B49 -> 8 | C49: ='10-17 P26 Marktäckning'!C49 -> 4 | D49: 100 | E49: 100 | F49: 100 | G49: 98
A50: ='10-17 P26 Marktäckning'!A50 -> 40 | B50: ='10-17 P26 Marktäckning'!B50 -> 10 | C50: ='10-17 P26 Marktäckning'!C50 -> 4 | D50: 99 | E50: 100 | F50: 100 | G50: 99
A51: ='10-17 P26 Marktäckning'!A51 -> 41 | B51: ='10-17 P26 Marktäckning'!B51 -> 6 | C51: ='10-17 P26 Marktäckning'!C51 -> 4 | D51: 99 | E51: 93 | F51: 100 | G51: 97
A52: ='10-17 P26 Marktäckning'!A52 -> 42 | B52: ='10-17 P26 Marktäckning'!B52 -> 9 | C52: ='10-17 P26 Marktäckning'!C52 -> 4 | D52: 98 | E52: 60 | F52: 100 | G52: 90
A53: ='10-17 P26 Marktäckning'!A53 -> 43 | B53: ='10-17 P26 Marktäckning'!B53 -> 2 | C53: ='10-17 P26 Marktäckning'!C53 -> 4 | D53: 99 | E53: 100 | F53: 100 | G53: 99
A54: ='10-17 P26 Marktäckning'!A54 -> 44 | B54: ='10-17 P26 Marktäckning'!B54 -> 3 | C54: ='10-17 P26 Marktäckning'!C54 -> 4 | D54: 99 | E54: 100 | F54: 100 | G54: 99
A55: ='10-17 P26 Marktäckning'!A55 -> 45 | B55: ='10-17 P26 Marktäckning'!B55 -> 4 | C55: ='10-17 P26 Marktäckning'!C55 -> 4 | D55: 93 | E55: 90 | F55: 100 | G55: 90
A56: ='10-17 P26 Marktäckning'!A56 -> 46 | B56: ='10-17 P26 Marktäckning'!B56 -> 12 | C56: ='10-17 P26 Marktäckning'!C56 -> 4 | D56: 95 | E56: 90 | F56: 100 | G56: 93
A57: ='10-17 P26 Marktäckning'!A57 -> 47 | B57: ='10-17 P26 Marktäckning'!B57 -> 1 | C57: ='10-17 P26 Marktäckning'!C57 -> 4
A58: ='10-17 P26 Marktäckning'!A58 -> 48 | B58: ='10-17 P26 Marktäckning'!B58 -> 7 | C58: ='10-17 P26 Marktäckning'!C58 -> 4 | D58: 90 | E58: 85 | F58: 100 | G58: 90
